Workbook
Name data: #REF!
Name Estres: #REF!
Name FECFIN: #REF!
Name FECHAF: #REF!
Name FECHAFIN: '[1]RECAUDO OK'!$M$59
Name FECHAI: #REF!
Name FECHAINI: '[1]RECAUDO OK'!$M$58
Name FECINI: #REF!
Name FECINIC: #REF!
Name FEFIN: '[1]RECAUDO OK'!#REF!

Sheet ORGANIGRAMA 2026

Sheet Anexo No. 7 Regionaliza Recau
B1: MINISTERIO DE AGRICULTURA Y DESARROLLO RURAL FORMATO EJECUCIÓN DE INGRESOS REGIONALIZADOS POR EL RECAUDO DE LOS FONDOS DE FOMENTO AGRICOLAS, FORESTALES, PECUARIOS Y PESQUEROS, Y CESIONES DE LOS FONDOS DE ESTABILIZACIÓN DE PRECIOS
B5: DIRECCIÓN DE CADENAS AGRÍCOLAS Y FORESTALES - DIRECCIÓN DE CADENAS PECUARIAS, PESQUERAS Y ACUÍCOLAS | F5: Fecha: XXXX-XX-XX
B7: FONDO: | C7: FONDO NACIONAL DE FOMENTO DE LA PAPA - FNFP
B8: AÑO PROYECTADO | C8: =#REF! -> #REF!
B9: FECHA DE ELABORACIÓN | C9: =+#REF! -> #REF!
B11: ANEXO No. 7
B12: Cifras Expresadas en Pesos Colombianos
B13: CONCEPTO | C13: PAPA | F13: TOTAL EJECUCIÓN PRESUPUESTO DE INGRESOS CUOTA DE FOMENTO O CESIONES
C14: VALORES PRESUPUESTADOS POR EL SITIO O LUGAR DE RECAUDO | D14: VALOR EJECUTADO INGRESOS O RECAUDO EFECTIVO | E14: % PORCENTAJE DE RECAUDO
B15: Antioquia | C15: =VLOOKUP(B15,#REF!,3) -> #REF! | D15: 0 | E15: =+D15/C15 -> #REF! | F15: =+D15 -> 0
B16: Atlántico | C16: =VLOOKUP(B16,#REF!,3) -> #REF! | D16: 0 | E16: =+D16/C16 -> #REF! | F16: =+D16 -> 0
B17: Bogotá, D.C. | C17: =VLOOKUP(B17,#REF!,3) -> #REF! | D17: 0 | E17: =+D17/C17 -> #REF! | F17: =+D17 -> 0
B18: Bolívar | C18: =VLOOKUP(B18,#REF!,3) -> #REF! | D18: 0 | E18: =+D18/C18 -> #REF! | F18: =+D18 -> 0
B19: Boyacá | C19: =VLOOKUP(B19,#REF!,3) -> #REF! | D19: 0 | E19: =+D19/C19 -> #REF! | F19: =+D19 -> 0
B20: Caldas | C20: =VLOOKUP(B20,#REF!,3) -> #REF! | D20: 0 | E20: =+D20/C20 -> #REF! | F20: =+D20 -> 0
B21: Caquetá | C21: =VLOOKUP(B21,#REF!,3) -> #REF! | D21: 0 | E21: =+D21/C21 -> #REF! | F21: =+D21 -> 0
B22: Casanare | C22: =VLOOKUP(B22,#REF!,3) -> #REF! | D22: 0 | E22: =+D22/C22 -> #REF! | F22: =+D22 -> 0
B23: Cauca | C23: =VLOOKUP(B23,#REF!,3) -> #REF! | D23: 0 | E23: =+D23/C23 -> #REF! | F23: =+D23 -> 0
B24: Cesar | C24: =VLOOKUP(B24,#REF!,3) -> #REF! | D24: 0 | E24: =+D24/C24 -> #REF! | F24: =+D24 -> 0
B25: Córdoba | C25: =VLOOKUP(B25,#REF!,3) -> #REF! | D25: 0 | E25: =+D25/C25 -> #REF! | F25: =+D25 -> 0
B26: Cundinamarca | C26: =VLOOKUP(B26,#REF!,3) -> #REF! | D26: 0 | E26: =+D26/C26 -> #REF! | F26: =+D26 -> 0
... B38: Valle del Cauca | C38: =VLOOKUP(B38,#REF!,3) -> #REF! | D38: 0 | E38: =+D38/C38 -> #REF! | F38: =+D38 -> 0
B39: TOTAL RECAUDO REGIONALIZADO | C39: =SUM(C15:C38) -> #REF! | D39: =SUM(D15:D38) -> 0 | E39: =+D39/C39 -> #REF! | F39: =+D39 -> 0

Sheet Anexo No. 8 Ejecución Ptal
B2: MINISTERIO DE AGRICULTURA Y DESARROLLO RURAL FORMATO EJECUCIÓN PRESUPUESTAL ACUMULADA DE INGRESOS, GASTOS DE FUNCIONAMIENTO (INCLUYE CONTRAPRESTACIÓN POR ADMINISTRACIÓN) E INVERSIÓN DE LOS FONDOS DE FOMENTO AGRICOLAS, FORESTALES, PECUARIOS Y PESQUEROS, Y CESIONES DE LOS FONDOS DE ESTABILIZACIÓN DE PRECIOS
B6: DIRECCIÓN DE CADENAS AGRÍCOLAS Y FORESTALES - DIRECCIÓN DE CADENAS PECUARIAS, PESQUERAS Y ACUÍCOLAS | K6: Fecha: XXXX-XX-XX
B8: FONDO: | C8: FONDO NACIONAL DE FOMENTO DE LA PAPA - FNFP
B9: AÑO PROYECTADO | C9: =#REF! -> #REF!
B10: FECHA DE ELABORACIÓN | C10: =+'Anexo No. 7 Regionaliza Recau'!C9 -> #REF!
B12: ANEXO No. 8
B13: Cifras Expresadas en Pesos Colombianos
B15: CONCEPTO | C15: PRESUPUESTO AJUSTADO AÑO ACTUAL | D15: EJECUTADO DE ENERO A MARZO | E15: % EJECUCIÓN ENERO A MARZO | F15: EJECUTADO DE ENERO A JUNIO | G15: % EJECUCIÓN DE ENERO A JUNIO | H15: EJECUTADO DE ENERO A SEPTIEMBRE | I15: % EJECUCIÓN DE ENERO A SEPTIEMBRE | J15: EJECUTADO DE ENERO A DICIEMBRE | K15: % EJECUCIÓN DE ENERO A DICIEMBRE
B16: INGRESOS CORRIENTES U OPERACIONALES | C16: =+SUM(C17:C20) -> 0 | D16: =+SUM(D17:D20) -> 0 | E16: =IFERROR(D16/C16,0) -> 0 | F16: =+SUM(F17:F20) -> 0 | G16: =IFERROR(F16/E16,0) -> 0 | H16: =+SUM(H17:H20) -> 0 | I16: =IFERROR(H16/G16,0) -> 0 | J16: =+SUM(J17:J20) -> 0 | K16: =IFERROR(J16/I16,0) -> 0
A17: 40 | B17: Cuota de Fomento (Aplica para Fondos de Fomento) o Cesiones de Estabilización (Aplica para Fondos de Estabilización) | C17: =IFERROR(_xlfn.XLOOKUP(A17,#REF!,#REF!),0) -> 0 | D17: 0 | E17: =IFERROR(D17/C17,0) -> 0 | F17: 0 | G17: =IFERROR(F17/E17,0) -> 0 | H17: 0 | I17: =IFERROR(H17/G17,0) -> 0 | J17: 0 | K17: =IFERROR(J17/I17,0) -> 0
A18: 41 | B18: Cuota de Fomento Vigencia Anterior (Aplica para Fondos de Fomento) o Cesiones de Estabilización (Aplica para Fondos de Estabilización) | C18: =IFERROR(_xlfn.XLOOKUP(A18,#REF!,#REF!),0) -> 0 | D18: 0 | E18: =IFERROR(D18/C18,0) -> 0 | F18: 0 | G18: =IFERROR(F18/E18,0) -> 0 | H18: 0 | I18: =IFERROR(H18/G18,0) -> 0 | J18: 0 | K18: =IFERROR(J18/I18,0) -> 0
A19: 42 | B19: Intereses de Mora | C19: =IFERROR(_xlfn.XLOOKUP(A19,#REF!,#REF!),0) -> 0 | D19: 0 | E19: =IFERROR(D19/C19,0) -> 0 | F19: 0 | G19: =IFERROR(F19/E19,0) -> 0 | H19: 0 | I19: =IFERROR(H19/G19,0) -> 0 | J19: 0 | K19: =IFERROR(J19/I19,0) -> 0
A20: 43 | B20: Superávit | C20: =IFERROR(_xlfn.XLOOKUP(A20,#REF!,#REF!),0) -> 0 | D20: 0 | E20: =IFERROR(D20/C20,0) -> 0 | F20: 0 | G20: =IFERROR(F20/E20,0) -> 0 | H20: 0 | I20: =IFERROR(H20/G20,0) -> 0 | J20: 0 | K20: =IFERROR(J20/I20,0) -> 0
B21: INGRESOS RECURSOS DE CAPITAL O NO OPERACIONALES | C21: =+C22+C24 -> 0 | D21: =+D22+D24 -> 0 | E21: =IFERROR(D21/C21,0) -> 0 | F21: =+F22+F24 -> 0 | G21: =IFERROR(F21/E21,0) -> 0 | H21: =+H22+H24 -> 0 | I21: =IFERROR(H21/G21,0) -> 0 | J21: =+J22+J24 -> 0 | K21: =IFERROR(J21/I21,0) -> 0
B22: Ingresos Financieros | C22: =+C23 -> 0 | D22: =+D23 -> 0 | E22: =IFERROR(D22/C22,0) -> 0 | F22: =+F23 -> 0 | G22: =IFERROR(F22/E22,0) -> 0 | H22: =+H23 -> 0 | I22: =IFERROR(H22/G22,0) -> 0 | J22: =+J23 -> 0 | K22: =IFERROR(J22/I22,0) -> 0
A23: 45 | B23: Ingresos Financieros | C23: =IFERROR(_xlfn.XLOOKUP(A23,#REF!,#REF!),0) -> 0 | D23: 0 | E23: =IFERROR(D23/C23,0) -> 0 | F23: 0 | G23: =IFERROR(F23/E23,0) -> 0 | H23: 0 | I23: =IFERROR(H23/G23,0) -> 0 | J23: 0 | K23: =IFERROR(J23/I23,0) -> 0
B24: OTROS INGRESOS | C24: =+SUM(C25:C30) -> 0 | D24: =+SUM(D25:D30) -> 0 | E24: =IFERROR(D24/C24,0) -> 0 | F24: =+SUM(F25:F30) -> 0 | G24: =IFERROR(F24/E24,0) -> 0 | H24: =+SUM(H25:H30) -> 0 | I24: =IFERROR(H24/G24,0) -> 0 | J24: =+SUM(J25:J30) -> 0 | K24: =IFERROR(J24/I24,0) -> 0
A25: 0 | B25: Enajenacion de activos | C25: =IFERROR(_xlfn.XLOOKUP(A25,#REF!,#REF!),0) -> 0 | D25: 0 | E25: =IFERROR(D25/C25,0) -> 0 | F25: 0 | G25: =IFERROR(F25/E25,0) -> 0 | H25: 0 | I25: =IFERROR(H25/G25,0) -> 0 | J25: 0 | K25: =IFERROR(J25/I25,0) -> 0
A26: 0 | B26: Venta de bienes y servicios | C26: =IFERROR(_xlfn.XLOOKUP(A26,#REF!,#REF!),0) -> 0 | D26: 0 | E26: =IFERROR(D26/C26,0) -> 0 | F26: 0 | G26: =IFERROR(F26/E26,0) -> 0 | H26: 0 | I26: =IFERROR(H26/G26,0) -> 0 | J26: 0 | K26: =IFERROR(J26/I26,0) -> 0
A27: 0 | B27: Recursos del credito | C27: =IFERROR(_xlfn.XLOOKUP(A27,#REF!,#REF!),0) -> 0 | D27: 0 | E27: =IFERROR(D27/C27,0) -> 0 | F27: 0 | G27: =IFERROR(F27/E27,0) -> 0 | H27: 0 | I27: =IFERROR(H27/G27,0) -> 0 | J27: 0 | K27: =IFERROR(J27/I27,0) -> 0
A28: 0 | B28: Donaciones y aportes | C28: =IFERROR(_xlfn.XLOOKUP(A28,#REF!,#REF!),0) -> 0 | D28: 0 | E28: =IFERROR(D28/C28,0) -> 0 | F28: 0 | G28: =IFERROR(F28/E28,0) -> 0 | H28: 0 | I28: =IFERROR(H28/G28,0) -> 0 | J28: 0 | K28: =IFERROR(J28/I28,0) -> 0
A29: 0 | B29: Recuperaciones | C29: =IFERROR(_xlfn.XLOOKUP(A29,#REF!,#REF!),0) -> 0 | D29: 0 | E29: =IFERROR(D29/C29,0) -> 0 | F29: 0 | G29: =IFERROR(F29/E29,0) -> 0 | H29: 0 | I29: =IFERROR(H29/G29,0) -> 0 | J29: 0 | K29: =IFERROR(J29/I29,0) -> 0
A30: 44 | B30: Otros ingresos | C30: =IFERROR(_xlfn.XLOOKUP(A30,#REF!,#REF!),0) -> 0 | D30: 0 | E30: =IFERROR(D30/C30,0) -> 0 | F30: 0 | G30: =IFERROR(F30/E30,0) -> 0 | H30: 0 | I30: =IFERROR(H30/G30,0) -> 0 | J30: 0 | K30: =IFERROR(J30/I30,0) -> 0
B31: TOTAL PRESUPUESTO DE INGRESOS | C31: =+C16+C21 -> 0 | D31: =+D16+D21 -> 0 | E31: =IFERROR(D31/C31,0) -> 0 | F31: =+F16+F21 -> 0 | G31: =IFERROR(F31/E31,0) -> 0 | H31: =+H16+H21 -> 0 | I31: =IFERROR(H31/G31,0) -> 0 | J31: =+J16+J21 -> 0 | K31: =IFERROR(J31/I31,0) -> 0
D32: 0 | E32: =IFERROR(D32/C32,0) -> 0 | F32: 0 | G32: =IFERROR(F32/E32,0) -> 0 | H32: 0 | I32: =IFERROR(H32/G32,0) -> 0 | J32: 0 | K32: =IFERROR(J32/I32,0) -> 0
B33: GASTOS DE FUNCIONAMIENTO | C33: =+C34+C71 -> 0 | D33: =+D34+D71 -> 0 | E33: =IFERROR(D33/C33,0) -> 0 | F33: =+F34+F71 -> 0 | G33: =IFERROR(F33/E33,0) -> 0 | H33: =+H34+H71 -> 0 | I33: =IFERROR(H33/G33,0) -> 0 | J33: =+J34+J71 -> 0 | K33: =IFERROR(J33/I33,0) -> 0
B34: GASTOS DE ADMINISTRACIÓN | C34: =+C35+C47 -> 0 | D34: =+D35+D47 -> 0 | E34: =IFERROR(D34/C34,0) -> 0 | F34: =+F35+F47 -> 0 | G34: =IFERROR(F34/E34,0) -> 0 | H34: =+H35+H47 -> 0 | I34: =IFERROR(H34/G34,0) -> 0 | J34: =+J35+J47 -> 0 | K34: =IFERROR(J34/I34,0) -> 0
B35: SERVICIOS PERSONALES (*) | C35: =SUM(C36:C46) -> 0 | D35: =SUM(D36:D46) -> 0 | E35: =IFERROR(D35/C35,0) -> 0 | F35: =SUM(F36:F46) -> 0 | G35: =IFERROR(F35/E35,0) -> 0 | H35: =SUM(H36:H46) -> 0 | I35: =IFERROR(H35/G35,0) -> 0 | J35: =SUM(J36:J46) -> 0 | K35: =IFERROR(J35/I35,0) -> 0
B36: Sueldos | C36: =IFERROR(_xlfn.XLOOKUP(B36,#REF!,#REF!),0) -> 0 | D36: 0 | E36: =IFERROR(D36/C36,0) -> 0 | F36: 0 | G36: =IFERROR(F36/E36,0) -> 0 | H36: 0 | I36: =IFERROR(H36/G36,0) -> 0 | J36: 0 | K36: =IFERROR(J36/I36,0) -> 0
B37: Auxilio de Transporte | C37: =IFERROR(_xlfn.XLOOKUP(B37,#REF!,#REF!),0) -> 0 | D37: 0 | E37: =IFERROR(D37/C37,0) -> 0 | F37: 0 | G37: =IFERROR(F37/E37,0) -> 0 | H37: 0 | I37: =IFERROR(H37/G37,0) -> 0 | J37: 0 | K37: =IFERROR(J37/I37,0) -> 0
B38: Vacaciones | C38: =IFERROR(_xlfn.XLOOKUP(B38,#REF!,#REF!),0) -> 0 | D38: 0 | E38: =IFERROR(D38/C38,0) -> 0 | F38: 0 | G38: =IFERROR(F38/E38,0) -> 0 | H38: 0 | I38: =IFERROR(H38/G38,0) -> 0 | J38: 0 | K38: =IFERROR(J38/I38,0) -> 0
B39: Prima legal | C39: =IFERROR(_xlfn.XLOOKUP(B39,#REF!,#REF!),0) -> 0 | D39: 0 | E39: =IFERROR(D39/C39,0) -> 0 | F39: 0 | G39: =IFERROR(F39/E39,0) -> 0 | H39: 0 | I39: =IFERROR(H39/G39,0) -> 0 | J39: 0 | K39: =IFERROR(J39/I39,0) -> 0
B40: Cesantías | C40: =IFERROR(_xlfn.XLOOKUP(B40,#REF!,#REF!),0) -> 0 | D40: 0 | E40: =IFERROR(D40/C40,0) -> 0 | F40: 0 | G40: =IFERROR(F40/E40,0) -> 0 | H40: 0 | I40: =IFERROR(H40/G40,0) -> 0 | J40: 0 | K40: =IFERROR(J40/I40,0) -> 0
B41: Intereses de cesantías | C41: =IFERROR(_xlfn.XLOOKUP(B41,#REF!,#REF!),0) -> 0 | D41: 0 | E41: =IFERROR(D41/C41,0) -> 0 | F41: 0 | G41: =IFERROR(F41/E41,0) -> 0 | H41: 0 | I41: =IFERROR(H41/G41,0) -> 0 | J41: 0 | K41: =IFERROR(J41/I41,0) -> 0
B42: Seguros y/o fondos privados | C42: =IFERROR(_xlfn.XLOOKUP(B42,#REF!,#REF!),0) -> 0 | D42: 0 | E42: =IFERROR(D42/C42,0) -> 0 | F42: 0 | G42: =IFERROR(F42/E42,0) -> 0 | H42: 0 | I42: =IFERROR(H42/G42,0) -> 0 | J42: 0 | K42: =IFERROR(J42/I42,0) -> 0
B43: Caja de compensación | C43: =IFERROR(_xlfn.XLOOKUP(B43,#REF!,#REF!),0) -> 0 | D43: 0 | E43: =IFERROR(D43/C43,0) -> 0 | F43: 0 | G43: =IFERROR(F43/E43,0) -> 0 | H43: 0 | I43: =IFERROR(H43/G43,0) -> 0 | J43: 0 | K43: =IFERROR(J43/I43,0) -> 0
B44: Aportes ICBF | C44: =IFERROR(_xlfn.XLOOKUP(B44,#REF!,#REF!),0) -> 0 | D44: 0 | E44: =IFERROR(D44/C44,0) -> 0 | F44: 0 | G44: =IFERROR(F44/E44,0) -> 0 | H44: 0 | I44: =IFERROR(H44/G44,0) -> 0 | J44: 0 | K44: =IFERROR(J44/I44,0) -> 0
B45: Aportes SENA | C45: =IFERROR(_xlfn.XLOOKUP(B45,#REF!,#REF!),0) -> 0 | D45: 0 | E45: =IFERROR(D45/C45,0) -> 0 | F45: 0 | G45: =IFERROR(F45/E45,0) -> 0 | H45: 0 | I45: =IFERROR(H45/G45,0) -> 0 | J45: 0 | K45: =IFERROR(J45/I45,0) -> 0
B46: Indemnizaciones | C46: =IFERROR(_xlfn.XLOOKUP(B46,#REF!,#REF!),0) -> 0 | D46: 0 | E46: =IFERROR(D46/C46,0) -> 0 | F46: 0 | G46: =IFERROR(F46/E46,0) -> 0 | H46: 0 | I46: =IFERROR(H46/G46,0) -> 0 | J46: 0 | K46: =IFERROR(J46/I46,0) -> 0
B47: ADQUSICIÓN DE BIENES Y SERVICIOS (GASTOS GENERALES) (*) | C47: =SUM(C48:C70) -> 0 | D47: =SUM(D48:D70) -> 0 | E47: =IFERROR(D47/C47,0) -> 0 | F47: =SUM(F48:F70) -> 0 | G47: =IFERROR(F47/E47,0) -> 0 | H47: =SUM(H48:H70) -> 0 | I47: =IFERROR(H47/G47,0) -> 0 | J47: =SUM(J48:J70) -> 0 | K47: =IFERROR(J47/I47,0) -> 0
...

Sheet Anexo No. 9 Detalle x progr
B1: MINISTERIO DE AGRICULTURA Y DESARROLLO RURAL FORMATO PARA LA EJECUCIÓN DE GASTOS DE FUNCIONAMIENTO (INCLUYE CONTRAPRESTACIÓN POR ADMINISTRACIÓN) E INVERSIÓN POR PROGRAMA DE LOS FONDOS DE FOMENTO AGRICOLAS, FORESTALES, PECUARIOS Y PESQUEROS, Y DE LOS FONDOS DE ESTABILIZACIÓN DE PRECIOS
B5: DIRECCIÓN DE CADENAS AGRÍCOLAS Y FORESTALES - DIRECCIÓN DE CADENAS PECUARIAS, PESQUERAS Y ACUÍCOLAS | I5: Fecha: XXXX-XX-XX
B7: FONDO: | C7: FONDO NACIONAL DE FOMENTO DE LA PAPA - FNFP
B8: AÑO PROYECTADO | C8: =#REF! -> #REF!
B9: FECHA DE ELABORACIÓN | C9: =+'Anexo No. 8 Ejecución Ptal'!C10 -> #REF!
B11: ANEXO No. 9
B12: Cifras Expresadas en Pesos Colombianos
B13: CUENTAS | C13: EJECUCIÓN PRESUPUESTAL ACUMULADA A XXXX 2025 DE GASTOS DE FUNCIONAMIENTO E INVERSIÓN POR PROGRAMA | I13: TOTAL EJECUTADO
C14: FUNCIONAMIENTO | E14: TOTAL GASTOS DE FUNCIONAMIENTO | F14: PROGRAMA No. 1 | G14: PROGRAMA No. 2 | H14: TOTAL GASTOS DE INVERSIÓN
C15: ADMINISTRATIVO | D15: RECAUDO | F15: No.1 - INVESTIGACION Y TRANSFERENCIA DE TECNOLOGIA | G15: No. 2 - INVESTIGACION ECONOMICA Y MERCADOS
B16: GASTOS DE FUNCIONAMIENTO | C16: =+C17+C54 -> 0 | D16: =+D17+D54 -> 0 | E16: =+E17+E54 -> 0 | F16: =+F17+F54 -> 0 | G16: =+G17+G54 -> 0 | H16: =+H17+H54 -> 0 | I16: =+I17+I54 -> 0
B17: GASTOS DE ADMINISTRACIÓN | C17: =+C18+C30 -> 0 | D17: =+D18+D30 -> 0 | E17: =+E18+E30 -> 0 | F17: =+F18+F30 -> 0 | G17: =+G18+G30 -> 0 | H17: =+H18+H30 -> 0 | I17: =+I18+I30 -> 0
B18: SERVICIOS PERSONALES (*) | C18: =SUM(C19:C29) -> 0 | D18: =SUM(D19:D29) -> 0 | E18: =SUM(E19:E29) -> 0 | F18: =SUM(F19:F29) -> 0 | G18: =SUM(G19:G29) -> 0 | H18: =SUM(H19:H29) -> 0 | I18: =SUM(I19:I29) -> 0
B19: Sueldos | C19: 0 | D19: 0 | E19: 0 | F19: 0 | G19: 0 | H19: 0 | I19: 0
B20: Auxilio de Transporte | C20: 0 | D20: 0 | E20: 0 | F20: 0 | G20: 0 | H20: 0 | I20: 0
B21: Vacaciones | C21: 0 | D21: 0 | E21: 0 | F21: 0 | G21: 0 | H21: 0 | I21: 0
B22: Prima legal | C22: 0 | D22: 0 | E22: 0 | F22: 0 | G22: 0 | H22: 0 | I22: 0
B23: Cesantías | C23: 0 | D23: 0 | E23: 0 | F23: 0 | G23: 0 | H23: 0 | I23: 0
B24: Intereses de cesantías | C24: 0 | D24: 0 | E24: 0 | F24: 0 | G24: 0 | H24: 0 | I24: 0
B25: Seguros y/o fondos privados | C25: 0 | D25: 0 | E25: 0 | F25: 0 | G25: 0 | H25: 0 | I25: 0
B26: Caja de compensación | C26: 0 | D26: 0 | E26: 0 | F26: 0 | G26: 0 | H26: 0 | I26: 0
B27: Aportes ICBF | C27: 0 | D27: 0 | E27: 0 | F27: 0 | G27: 0 | H27: 0 | I27: 0
B28: Aportes SENA | C28: 0 | D28: 0 | E28: 0 | F28: 0 | G28: 0 | H28: 0 | I28: 0
B29: Indemnizaciones | C29: 0 | D29: 0 | E29: 0 | F29: 0 | G29: 0 | H29: 0 | I29: 0
B30: ADQUSICIÓN DE BIENES Y SERVICIOS (GASTOS GENERALES) (*) | C30: =SUM(C31:C53) -> 0 | D30: =SUM(D31:D53) -> 0 | E30: =SUM(E31:E53) -> 0 | F30: =SUM(F31:F53) -> 0 | G30: =SUM(G31:G53) -> 0 | H30: =SUM(H31:H53) -> 0 | I30: =SUM(I31:I53) -> 0
B31: Honorarios | C31: 0 | D31: 0 | E31: 0 | F31: 0 | G31: 0 | H31: 0 | I31: 0
B32: Dotación y suministro | C32: 0 | D32: 0 | E32: 0 | F32: 0 | G32: 0 | H32: 0 | I32: 0
B33: Servicios de aseo, vigilancia y seguridad | C33: 0 | D33: 0 | E33: 0 | F33: 0 | G33: 0 | H33: 0 | I33: 0
B34: Materiales y suministros | C34: 0 | D34: 0 | E34: 0 | F34: 0 | G34: 0 | H34: 0 | I34: 0
B35: Mantenimiento | C35: 0 | D35: 0 | E35: 0 | F35: 0 | G35: 0 | H35: 0 | I35: 0
B36: Reparaciones | C36: 0 | D36: 0 | E36: 0 | F36: 0 | G36: 0 | H36: 0 | I36: 0
B37: Servicios públicos | C37: 0 | D37: 0 | E37: 0 | F37: 0 | G37: 0 | H37: 0 | I37: 0
B38: Arriendos | C38: 0 | D38: 0 | E38: 0 | F38: 0 | G38: 0 | H38: 0 | I38: 0
B39: Viáticos y Gastos de viaje | C39: 0 | D39: 0 | E39: 0 | F39: 0 | G39: 0 | H39: 0 | I39: 0
B40: Impresos, publicaciones, suscripciones y afiliaciones | C40: 0 | D40: 0 | E40: 0 | F40: 0 | G40: 0 | H40: 0 | I40: 0
B41: Fotocopias | C41: 0 | D41: 0 | E41: 0 | F41: 0 | G41: 0 | H41: 0 | I41: 0
B42: Comunicaciones y transporte - correo | C42: 0 | D42: 0 | E42: 0 | F42: 0 | G42: 0 | H42: 0 | I42: 0
... B53: Divulgación | C53: 0 | D53: 0 | E53: 0 | F53: 0 | G53: 0 | H53: 0 | I53: 0
B54: CONTRAPRESTACIÓN POR ADMINISTRACIÓN | C54: =SUM(C55) -> 0 | D54: =SUM(D55) -> 0 | E54: =SUM(E55) -> 0 | F54: =SUM(F55) -> 0 | G54: =SUM(G55) -> 0 | H54: =SUM(H55) -> 0 | I54: =SUM(I55) -> 0
B55: Contraprestación | C55: 0 | D55: 0 | E55: 0 | F55: 0 | G55: 0 | H55: 0 | I55: 0
...

Sheet Anexo No. 10 Detalle x proy
B2: MINISTERIO DE AGRICULTURA Y DESARROLLO RURAL FORMATO EJECUCIÓN DE LOS GASTOS DE INVERSIÓN POR PROGRAMAS PROYECTOS DE LOS FONDOS DE FOMENTO AGRICOLAS, FORESTALES, PECUARIOS Y PESQUEROS, Y FONDOS DE ESTABILIZACIÓN DE PRECIOS
B6: DIRECCIÓN DE CADENAS AGRÍCOLAS Y FORESTALES - DIRECCIÓN DE CADENAS PECUARIAS, PESQUERAS Y ACUÍCOLAS | K6: Fecha: XXXX-XX-XX
B8: FONDO: | C8: FONDO NACIONAL DE FOMENTO DE LA PAPA - FNFP
B9: AÑO PROYECTADO | C9: =#REF! -> #REF!
B10: FECHA DE ELABORACIÓN | C10: =+'Anexo No. 9 Detalle x progr'!C9 -> #REF!
B12: ANEXO No. 10
B13: Cifras Expresadas en Pesos Colombianos
B14: CUENTAS | C14: INVERSIÓN | K14: TOTAL EJECUTADO PRESUPUESTO INVERSIÓN
C15: PROGRAMA No. 1 INVESTIGACION Y TRANSFERENCIA DE TECNOLOGIA | G15: No. 2 - INVESTIGACION ECONOMICA Y MERCADOS
C16: APROPIACION | D16: EJECUCION | E16: SALDO | F16: % EJECUCION | G16: APROPIACION | H16: EJECUCION | I16: SALDO | J16: % EJECUCION
B17: GASTOS DE INVERSIÓN | C17: =+C18+C89 -> 0 | D17: =+D18+D89 -> 0 | E17: =+E18+E89 -> 0 | F17: =IFERROR(D17/C17,0) -> 0 | G17: =+G18+G89 -> 0 | H17: =+H18+H89 -> 0 | I17: =+I18+I89 -> 0 | J17: =IFERROR(H17/G17,0) -> 0 | K17: =+K18+K89 -> 0
B18: GASTOS DE INVERSIÓN EJECUTADOS DIRECTAMENTE POR LA ADMINISTRACIÓN | C18: =+C19+C31+C54 -> 0 | D18: =+D19+D31+D54 -> 0 | E18: =+E19+E31+E54 -> 0 | F18: =IFERROR(D18/C18,0) -> 0 | G18: =+G19+G31+G54 -> 0 | H18: =+H19+H31+H54 -> 0 | I18: =+I19+I31+I54 -> 0 | J18: =IFERROR(H18/G18,0) -> 0 | K18: =+K19+K31+K54 -> 0
B19: SERVICIOS PERSONALES | C19: =SUM(C20:C30) -> 0 | D19: =SUM(D20:D30) -> 0 | E19: =SUM(E20:E30) -> 0 | F19: =IFERROR(D19/C19,0) -> 0 | G19: =SUM(G20:G30) -> 0 | H19: =SUM(H20:H30) -> 0 | I19: =SUM(I20:I30) -> 0 | J19: =IFERROR(H19/G19,0) -> 0 | K19: =SUM(K20:K30) -> 0
B20: Sueldos | C20: 0 | D20: 0 | E20: =+C20-D20 -> 0 | F20: =IFERROR(D20/C20,0) -> 0 | G20: 0 | H20: 0 | I20: =+G20-H20 -> 0 | J20: =IFERROR(H20/G20,0) -> 0 | K20: =+D20+H20 -> 0
B21: Auxilio de Transporte | C21: 0 | D21: 0 | E21: =+C21-D21 -> 0 | F21: =IFERROR(D21/C21,0) -> 0 | G21: 0 | H21: 0 | I21: =+G21-H21 -> 0 | J21: =IFERROR(H21/G21,0) -> 0 | K21: =+D21+H21 -> 0
B22: Vacaciones | C22: 0 | D22: 0 | E22: =+C22-D22 -> 0 | F22: =IFERROR(D22/C22,0) -> 0 | G22: 0 | H22: 0 | I22: =+G22-H22 -> 0 | J22: =IFERROR(H22/G22,0) -> 0 | K22: =+D22+H22 -> 0
B23: Prima legal | C23: 0 | D23: 0 | E23: =+C23-D23 -> 0 | F23: =IFERROR(D23/C23,0) -> 0 | G23: 0 | H23: 0 | I23: =+G23-H23 -> 0 | J23: =IFERROR(H23/G23,0) -> 0 | K23: =+D23+H23 -> 0
B24: Cesantías | C24: 0 | D24: 0 | E24: =+C24-D24 -> 0 | F24: =IFERROR(D24/C24,0) -> 0 | G24: 0 | H24: 0 | I24: =+G24-H24 -> 0 | J24: =IFERROR(H24/G24,0) -> 0 | K24: =+D24+H24 -> 0
B25: Intereses de cesantías | C25: 0 | D25: 0 | E25: =+C25-D25 -> 0 | F25: =IFERROR(D25/C25,0) -> 0 | G25: 0 | H25: 0 | I25: =+G25-H25 -> 0 | J25: =IFERROR(H25/G25,0) -> 0 | K25: =+D25+H25 -> 0
B26: Seguros y/o fondos privados | C26: 0 | D26: 0 | E26: =+C26-D26 -> 0 | F26: =IFERROR(D26/C26,0) -> 0 | G26: 0 | H26: 0 | I26: =+G26-H26 -> 0 | J26: =IFERROR(H26/G26,0) -> 0 | K26: =+D26+H26 -> 0
B27: Caja de compensación | C27: 0 | D27: 0 | E27: =+C27-D27 -> 0 | F27: =IFERROR(D27/C27,0) -> 0 | G27: 0 | H27: 0 | I27: =+G27-H27 -> 0 | J27: =IFERROR(H27/G27,0) -> 0 | K27: =+D27+H27 -> 0
B28: Aportes ICBF | C28: 0 | D28: 0 | E28: =+C28-D28 -> 0 | F28: =IFERROR(D28/C28,0) -> 0 | G28: 0 | H28: 0 | I28: =+G28-H28 -> 0 | J28: =IFERROR(H28/G28,0) -> 0 | K28: =+D28+H28 -> 0
B29: Aportes SENA | C29: 0 | D29: 0 | E29: =+C29-D29 -> 0 | F29: =IFERROR(D29/C29,0) -> 0 | G29: 0 | H29: 0 | I29: =+G29-H29 -> 0 | J29: =IFERROR(H29/G29,0) -> 0 | K29: =+D29+H29 -> 0
B30: Indemnizaciones | C30: 0 | D30: 0 | E30: =+C30-D30 -> 0 | F30: =IFERROR(D30/C30,0) -> 0 | G30: 0 | H30: 0 | I30: =+G30-H30 -> 0 | J30: =IFERROR(H30/G30,0) -> 0 | K30: =+D30+H30 -> 0
B31: ADQUSICIÓN DE BIENES Y SERVICIOS (GASTOS GENERALES) | C31: =SUM(C32:C51) -> 0 | D31: =SUM(D32:D51) -> 0 | E31: =SUM(E32:E51) -> 0 | F31: =IFERROR(D31/C31,0) -> 0 | G31: =SUM(G32:G51) -> 0 | H31: =SUM(H32:H51) -> 0 | I31: =SUM(I32:I51) -> 0 | J31: =IFERROR(H31/G31,0) -> 0 | K31: =SUM(K32:K51) -> 0
B32: Honorarios | C32: 0 | D32: 0 | E32: =+C32-D32 -> 0 | F32: =IFERROR(D32/C32,0) -> 0 | G32: 0 | H32: 0 | I32: =+G32-H32 -> 0 | J32: =IFERROR(H32/G32,0) -> 0 | K32: =+D32+H32 -> 0
B33: Dotación y suministro a trabajadores | C33: 0 | D33: 0 | E33: =+C33-D33 -> 0 | F33: =IFERROR(D33/C33,0) -> 0 | G33: 0 | H33: 0 | I33: =+G33-H33 -> 0 | J33: =IFERROR(H33/G33,0) -> 0 | K33: =+D33+H33 -> 0
B34: Servicios de aseo, vigilancia y seguridad | C34: 0 | D34: 0 | E34: =+C34-D34 -> 0 | F34: =IFERROR(D34/C34,0) -> 0 | G34: 0 | H34: 0 | I34: =+G34-H34 -> 0 | J34: =IFERROR(H34/G34,0) -> 0 | K34: =+D34+H34 -> 0
B35: Materiales y suministros (insumos agrícolas y pecuarios) | C35: 0 | D35: 0 | E35: =+C35-D35 -> 0 | F35: =IFERROR(D35/C35,0) -> 0 | G35: 0 | H35: 0 | I35: =+G35-H35 -> 0 | J35: =IFERROR(H35/G35,0) -> 0 | K35: =+D35+H35 -> 0
B36: Mantenimiento | C36: 0 | D36: 0 | E36: =+C36-D36 -> 0 | F36: =IFERROR(D36/C36,0) -> 0 | G36: 0 | H36: 0 | I36: =+G36-H36 -> 0 | J36: =IFERROR(H36/G36,0) -> 0 | K36: =+D36+H36 -> 0
B37: Reparaciones | C37: 0 | D37: 0 | E37: =+C37-D37 -> 0 | F37: =IFERROR(D37/C37,0) -> 0 | G37: 0 | H37: 0 | I37: =+G37-H37 -> 0 | J37: =IFERROR(H37/G37,0) -> 0 | K37: =+D37+H37 -> 0
B38: Servicios públicos | C38: 0 | D38: 0 | E38: =+C38-D38 -> 0 | F38: =IFERROR(D38/C38,0) -> 0 | G38: 0 | H38: 0 | I38: =+G38-H38 -> 0 | J38: =IFERROR(H38/G38,0) -> 0 | K38: =+D38+H38 -> 0
B39: Arriendos | C39: 0 | D39: 0 | E39: =+C39-D39 -> 0 | F39: =IFERROR(D39/C39,0) -> 0 | G39: 0 | H39: 0 | I39: =+G39-H39 -> 0 | J39: =IFERROR(H39/G39,0) -> 0 | K39: =+D39+H39 -> 0
B40: Viáticos y Gastos de viaje | C40: 0 | D40: 0 | E40: =+C40-D40 -> 0 | F40: =IFERROR(D40/C40,0) -> 0 | G40: 0 | H40: 0 | I40: =+G40-H40 -> 0 | J40: =IFERROR(H40/G40,0) -> 0 | K40: =+D40+H40 -> 0
B41: Impresos, publicaciones, suscripciones y afiliaciones | C41: 0 | D41: 0 | E41: =+C41-D41 -> 0 | F41: =IFERROR(D41/C41,0) -> 0 | G41: 0 | H41: 0 | I41: =+G41-H41 -> 0 | J41: =IFERROR(H41/G41,0) -> 0 | K41: =+D41+H41 -> 0
B42: Fotocopias | C42: 0 | D42: 0 | E42: =+C42-D42 -> 0 | F42: =IFERROR(D42/C42,0) -> 0 | G42: 0 | H42: 0 | I42: =+G42-H42 -> 0 | J42: =IFERROR(H42/G42,0) -> 0 | K42: =+D42+H42 -> 0
B43: Comunicaciones y transporte - correo | C43: 0 | D43: 0 | E43: =+C43-D43 -> 0 | F43: =IFERROR(D43/C43,0) -> 0 | G43: 0 | H43: 0 | I43: =+G43-H43 -> 0 | J43: =IFERROR(H43/G43,0) -> 0 | K43: =+D43+H43 -> 0
... B53: Alquiler de maquinaria y equipo | C53: 0 | D53: 0 | E53: =+C53-D53 -> 0 | F53: =IFERROR(D53/C53,0) -> 0 | G53: 0 | H53: 0 | I53: =+G53-H53 -> 0 | J53: =IFERROR(H53/G53,0) -> 0 | K53: =+D53+H53 -> 0
B54: PROGRAMAS Y PROYECTOS | C54: =+C55+C73 -> 0 | D54: =+D55+D73 -> 0 | E54: =+E55+E73 -> 0 | F54: =IFERROR(D54/C54,0) -> 0 | G54: =+G55+G73 -> 0 | H54: =+H55+H73 -> 0 | I54: =+I55+I73 -> 0 | J54: =IFERROR(H54/G54,0) -> 0 | K54: =+K55+K73 -> 0
B55: Programa 1 - Investigación y transferencia de tecnología | C55: =+C56+C61+C66+C70 -> 0 | D55: =+D56+D61+D66+D70 -> 0 | E55: =+E56+E61+E66+E70 -> 0 | F55: =+F56+F61+F66+F70 -> 0 | G55: =+G56+G61+G66+G70 -> 0 | H55: =+H56+H61+H66+H70 -> 0 | I55: =+I56+I61+I66+I70 -> 0 | J55: =+J56+J61+J66+J70 -> 0 | K55: =+K56+K61+K66+K70 -> 0
...

Sheet Anexo No. 11 Regionaliz Proy
B3: MINISTERIO DE AGRICULTURA Y DESARROLLO RURAL FORMATO EJECUCIÓN DE LOS GASTOS DE INVERSIÓN POR REGIÓN Y PROGRAMA DE LOS FONDOS DE FOMENTO AGRICOLAS, FORESTALES, PECUARIOS Y PESQUEROS, Y FONDOS DE ESTABILIZACIÓN DE PRECIOS
B7: DIRECCIÓN DE CADENAS AGRÍCOLAS Y FORESTALES - DIRECCIÓN DE CADENAS PECUARIAS, PESQUERAS Y ACUÍCOLAS | L7: Fecha: XXXX-XX-XX
B9: FONDO: | C9: FONDO NACIONAL DE FOMENTO DE LA PAPA - FNFP
B10: AÑO PROYECTADO | C10: =#REF! -> #REF!
B11: FECHA DE ELABORACIÓN | C11: =+'Anexo No. 10 Detalle x proy'!C10 -> #REF!
B13: ANEXO No. 11
B14: Cifras Expresadas en Pesos Colombianos
B15: DEPARTAMENTO (CRITERO Y CARACTERISTICAS DE CADA SISTEMA PRODUCTIVO Y CADA FONDO PARAFISCAL) | C15: INVERSIÓN | L15: TOTAL PRESUPUESTO DE INVERSIÓN
C16: PROGRAMA | D16: PROGRAMA | E16: PROGRAMA | F16: PROGRAMA | G16: PROGRAMA | H16: PROGRAMA | I16: PROGRAMA | J16: PROGRAMA | K16: PROGRAMA
C17: No. 1 | D17: No. 2 | E17: No. 3 | F17: No. 4 | G17: No. 5 | H17: No. 6 | I17: No. 7 | J17: No. 8 | K17: No. 9
B19: REGION XXXXXX | L19: =SUM(L20:L26) -> 0
B20: DEPARTAMENTO | L20: =+C20+D20+E20+F20+G20+H20+I20+J20+K20 -> 0
B21: Municipio 1
B22: Municipio n | L22: =+C22+D22+E22+F22+G22+H22+I22+J22+K22 -> 0
B23: DEPARTAMENTO | L23: =+C23+D23+E23+F23+G23+H23+I23+J23+K23 -> 0
B24: Municipio 1 | L24: =+C24+D24+E24+F24+G24+H24+I24+J24+K24 -> 0
B25: Municipio n | L25: =+C25+D25+E25+F25+G25+H25+I25+J25+K25 -> 0
B26: DEPARTAMENTO | L26: =+C26+D26+E26+F26+G26+H26+I26+J26+K26 -> 0
B27: Municipio 1
B28: Municipio n
B29: REGION XXXXXX | L29: =SUM(L30:L36) -> 0
B30: DEPARTAMENTO | L30: =+C30+D30+E30+F30+G30+H30+I30+J30+K30 -> 0
B31: Municipio 1 | L31: =+C31+D31+E31+F31+G31+H31+I31+J31+K31 -> 0
B32: Municipio n | L32: =+C32+D32+E32+F32+G32+H32+I32+J32+K32 -> 0
B33: DEPARTAMENTO | L33: =+C33+D33+E33+F33+G33+H33+I33+J33+K33 -> 0
B34: Municipio 1 | L34: =+C34+D34+E34+F34+G34+H34+I34+J34+K34 -> 0
B35: Municipio n | L35: =+C35+D35+E35+F35+G35+H35+I35+J35+K35 -> 0
B36: DEPARTAMENTO | L36: =+C36+D36+E36+F36+G36+H36+I36+J36+K36 -> 0
B37: Municipio 1
B38: Municipio n
B40: REGION XXXXXX | L40: =SUM(L41:L46) -> 0
B41: DEPARTAMENTO | L41: =+C41+D41+E41+F41+G41+H41+I41+J41+K41 -> 0
B42: Municipio 1 | L42: =+C42+D42+E42+F42+G42+H42+I42+J42+K42 -> 0
B43: Municipio n | L43: =+C43+D43+E43+F43+G43+H43+I43+J43+K43 -> 0
B44: DEPARTAMENTO | L44: =+C44+D44+E44+F44+G44+H44+I44+J44+K44 -> 0
B45: Municipio 1 | L45: =+C45+D45+E45+F45+G45+H45+I45+J45+K45 -> 0
B46: Municipio n | L46: =+C46+D46+E46+F46+G46+H46+I46+J46+K46 -> 0
B47: DEPARTAMENTO
B48: Municipio 1
B49: Municipio n
...

Sheet Anexo No. 12 Ejecucion por Proy
B1: MINISTERIO DE AGRICULTURA Y DESARROLLO RURAL FORMATO EJECUCIÓN PRESUPUESTAL ACUMULADA GASTOS DE INVERSIÓN POR PROYECTO Y PROGRAMA DE LOS FONDOS DE FOMENTO AGRICOLAS, FORESTALES, PECUARIOS Y PESQUEROS, Y FONDOS DE ESTABILIZACIÓN DE PRECIOS
B5: DIRECCIÓN DE CADENAS AGRÍCOLAS Y FORESTALES - DIRECCIÓN DE CADENAS PECUARIAS, PESQUERAS Y ACUÍCOLAS | N5: Fecha: XXXX-XX-XX
B7: FONDO: | C7: FONDO NACIONAL DE FOMENTO DE LA PAPA - FNFP
B8: AÑO PROYECTADO | C8: =#REF! -> #REF!
B9: FECHA DE ELABORACIÓN | C9: =+'Anexo No. 11 Regionaliz Proy'!C11 -> #REF!
B11: ANEXO No. 12
B12: Cifras Expresadas en Pesos Colombianos
B14: CUENTAS | C14: TOTAL PRESUPUESTO APROBADO AJUSTADO ANUAL | D14: INVERSIÓN | L14: TOTAL INVERSIÓN
D15: PROGRAMA No. 1 INVESTIGACION Y TRANSFERENCIA DE TECNOLOGIA | H15: PROGRAMA No. 2 ESTUDIOS ECONOMICOS
D16: CONSOLIDADO DE LOS GASTOS DE PERSONAL DEL PROGRAMA
D17: APROP | E17: EJEC | F17: SALDO | G17: % EJEC | H17: APROP | I17: EJEC | J17: SALDO | K17: % EJEC | L17: APROP | M17: EJEC | N17: SALDO | O17: % EJEC
B18: GASTOS DE INVERSIÓN | C18: =+C19+C90 -> #REF! | D18: =+D19+D90 -> 0 | E18: =+E19+E90 -> 0 | F18: =+F19+F90 -> 0 | G18: =+G19+G90 -> 0 | H18: =+H19+H90 -> 0 | I18: =+I19+I90 -> 0 | J18: =+J19+J90 -> 0 | ... O18: =+O19+O90 -> 0
B19: GASTOS DE INVERSIÓN EJECUTADOS DIRECTAMENTE POR LA ADMINISTRACIÓN | C19: =+C20+C32+C55 -> #REF! | D19: =+D20+D32+D55 -> 0 | E19: =+E20+E32+E55 -> 0 | F19: =+F20+F32+F55 -> 0 | G19: =+G20+G32+G55 -> 0 | H19: =+H20+H32+H55 -> 0 | I19: =+I20+I32+I55 -> 0 | J19: =+J20+J32+J55 -> 0 | ... O19: =+O20+O32+O55 -> 0
B20: SERVICIOS PERSONALES | C20: =SUM(C21:C31) -> 0 | D20: =SUM(D21:D31) -> 0 | E20: =SUM(E21:E31) -> 0 | F20: =SUM(F21:F31) -> 0 | G20: =SUM(G21:G31) -> 0 | H20: =SUM(H21:H31) -> 0 | I20: =SUM(I21:I31) -> 0 | J20: =SUM(J21:J31) -> 0 | ... O20: =SUM(O21:O31) -> 0
B21: Sueldos | C21: =IFERROR(_xlfn.XLOOKUP(B21,#REF!,#REF!),0) -> 0 | D21: 0 | E21: 0 | F21: =+D21-E21 -> 0 | G21: =IFERROR(E21/D21,0) -> 0 | H21: 0 | I21: 0 | J21: =+H21-I21 -> 0 | K21: =IFERROR(I21/H21,0) -> 0 | L21: =+D21+H21 -> 0 | M21: =+E21+I21 -> 0 | N21: =+L21-M21 -> 0 | O21: =IFERROR(M21/L21,0) -> 0
B22: Auxilio de Transporte | C22: =IFERROR(_xlfn.XLOOKUP(B22,#REF!,#REF!),0) -> 0 | D22: 0 | E22: 0 | F22: =+D22-E22 -> 0 | G22: =IFERROR(E22/D22,0) -> 0 | H22: 0 | I22: 0 | J22: =+H22-I22 -> 0 | K22: =IFERROR(I22/H22,0) -> 0 | L22: =+D22+H22 -> 0 | M22: =+E22+I22 -> 0 | N22: =+L22-M22 -> 0 | O22: =IFERROR(M22/L22,0) -> 0
B23: Vacaciones | C23: =IFERROR(_xlfn.XLOOKUP(B23,#REF!,#REF!),0) -> 0 | D23: 0 | E23: 0 | F23: =+D23-E23 -> 0 | G23: =IFERROR(E23/D23,0) -> 0 | H23: 0 | I23: 0 | J23: =+H23-I23 -> 0 | K23: =IFERROR(I23/H23,0) -> 0 | L23: =+D23+H23 -> 0 | M23: =+E23+I23 -> 0 | N23: =+L23-M23 -> 0 | O23: =IFERROR(M23/L23,0) -> 0
B24: Prima legal | C24: =IFERROR(_xlfn.XLOOKUP(B24,#REF!,#REF!),0) -> 0 | D24: 0 | E24: 0 | F24: =+D24-E24 -> 0 | G24: =IFERROR(E24/D24,0) -> 0 | H24: 0 | I24: 0 | J24: =+H24-I24 -> 0 | K24: =IFERROR(I24/H24,0) -> 0 | L24: =+D24+H24 -> 0 | M24: =+E24+I24 -> 0 | N24: =+L24-M24 -> 0 | O24: =IFERROR(M24/L24,0) -> 0
B25: Cesantías | C25: =IFERROR(_xlfn.XLOOKUP(B25,#REF!,#REF!),0) -> 0 | D25: 0 | E25: 0 | F25: =+D25-E25 -> 0 | G25: =IFERROR(E25/D25,0) -> 0 | H25: 0 | I25: 0 | J25: =+H25-I25 -> 0 | K25: =IFERROR(I25/H25,0) -> 0 | L25: =+D25+H25 -> 0 | M25: =+E25+I25 -> 0 | N25: =+L25-M25 -> 0 | O25: =IFERROR(M25/L25,0) -> 0
B26: Intereses de cesantías | C26: =IFERROR(_xlfn.XLOOKUP(B26,#REF!,#REF!),0) -> 0 | D26: 0 | E26: 0 | F26: =+D26-E26 -> 0 | G26: =IFERROR(E26/D26,0) -> 0 | H26: 0 | I26: 0 | J26: =+H26-I26 -> 0 | K26: =IFERROR(I26/H26,0) -> 0 | L26: =+D26+H26 -> 0 | M26: =+E26+I26 -> 0 | N26: =+L26-M26 -> 0 | O26: =IFERROR(M26/L26,0) -> 0
B27: Seguros y/o fondos privados | C27: =IFERROR(_xlfn.XLOOKUP(B27,#REF!,#REF!),0) -> 0 | D27: 0 | E27: 0 | F27: =+D27-E27 -> 0 | G27: =IFERROR(E27/D27,0) -> 0 | H27: 0 | I27: 0 | J27: =+H27-I27 -> 0 | K27: =IFERROR(I27/H27,0) -> 0 | L27: =+D27+H27 -> 0 | M27: =+E27+I27 -> 0 | N27: =+L27-M27 -> 0 | O27: =IFERROR(M27/L27,0) -> 0
B28: Caja de compensación | C28: =IFERROR(_xlfn.XLOOKUP(B28,#REF!,#REF!),0) -> 0 | D28: 0 | E28: 0 | F28: =+D28-E28 -> 0 | G28: =IFERROR(E28/D28,0) -> 0 | H28: 0 | I28: 0 | J28: =+H28-I28 -> 0 | K28: =IFERROR(I28/H28,0) -> 0 | L28: =+D28+H28 -> 0 | M28: =+E28+I28 -> 0 | N28: =+L28-M28 -> 0 | O28: =IFERROR(M28/L28,0) -> 0
B29: Aportes ICBF | C29: =IFERROR(_xlfn.XLOOKUP(B29,#REF!,#REF!),0) -> 0 | D29: 0 | E29: 0 | F29: =+D29-E29 -> 0 | G29: =IFERROR(E29/D29,0) -> 0 | H29: 0 | I29: 0 | J29: =+H29-I29 -> 0 | K29: =IFERROR(I29/H29,0) -> 0 | L29: =+D29+H29 -> 0 | M29: =+E29+I29 -> 0 | N29: =+L29-M29 -> 0 | O29: =IFERROR(M29/L29,0) -> 0
B30: Aportes SENA | C30: =IFERROR(_xlfn.XLOOKUP(B30,#REF!,#REF!),0) -> 0 | D30: 0 | E30: 0 | F30: =+D30-E30 -> 0 | G30: =IFERROR(E30/D30,0) -> 0 | H30: 0 | I30: 0 | J30: =+H30-I30 -> 0 | K30: =IFERROR(I30/H30,0) -> 0 | L30: =+D30+H30 -> 0 | M30: =+E30+I30 -> 0 | N30: =+L30-M30 -> 0 | O30: =IFERROR(M30/L30,0) -> 0
B31: Indemnizaciones | C31: =IFERROR(_xlfn.XLOOKUP(B31,#REF!,#REF!),0) -> 0 | D31: 0 | E31: 0 | F31: =+D31-E31 -> 0 | G31: =IFERROR(E31/D31,0) -> 0 | H31: 0 | I31: 0 | J31: =+H31-I31 -> 0 | K31: =IFERROR(I31/H31,0) -> 0 | L31: =+D31+H31 -> 0 | M31: =+E31+I31 -> 0 | N31: =+L31-M31 -> 0 | O31: =IFERROR(M31/L31,0) -> 0
B32: ADQUSICIÓN DE BIENES Y SERVICIOS (GASTOS GENERALES) | C32: =SUM(C33:C54) -> 0 | D32: =SUM(D33:D54) -> 0 | E32: =SUM(E33:E54) -> 0 | F32: =SUM(F33:F54) -> 0 | G32: =SUM(G33:G54) -> 0 | H32: =SUM(H33:H54) -> 0 | I32: =SUM(I33:I54) -> 0 | J32: =SUM(J33:J54) -> 0 | ... O32: =SUM(O33:O54) -> 0
B33: Honorarios | C33: =IFERROR(_xlfn.XLOOKUP(B33,#REF!,#REF!),0) -> 0 | D33: 0 | E33: 0 | F33: =+D33-E33 -> 0 | G33: =IFERROR(E33/D33,0) -> 0 | H33: 0 | I33: 0 | J33: =+H33-I33 -> 0 | K33: =IFERROR(I33/H33,0) -> 0 | L33: =+D33+H33 -> 0 | M33: =+E33+I33 -> 0 | N33: =+L33-M33 -> 0 | O33: =IFERROR(M33/L33,0) -> 0
B34: Dotación y suministro a trabajadores | C34: =IFERROR(_xlfn.XLOOKUP(B34,#REF!,#REF!),0) -> 0 | D34: 0 | E34: 0 | F34: =+D34-E34 -> 0 | G34: =IFERROR(E34/D34,0) -> 0 | H34: 0 | I34: 0 | J34: =+H34-I34 -> 0 | K34: =IFERROR(I34/H34,0) -> 0 | L34: =+D34+H34 -> 0 | M34: =+E34+I34 -> 0 | N34: =+L34-M34 -> 0 | O34: =IFERROR(M34/L34,0) -> 0
B35: Servicios de aseo, vigilancia y seguridad | C35: =IFERROR(_xlfn.XLOOKUP(B35,#REF!,#REF!),0) -> 0 | D35: 0 | E35: 0 | F35: =+D35-E35 -> 0 | G35: =IFERROR(E35/D35,0) -> 0 | H35: 0 | I35: 0 | J35: =+H35-I35 -> 0 | K35: =IFERROR(I35/H35,0) -> 0 | L35: =+D35+H35 -> 0 | M35: =+E35+I35 -> 0 | N35: =+L35-M35 -> 0 | O35: =IFERROR(M35/L35,0) -> 0
B36: Materiales y suministros (insumos agrícolas y pecuarios) | C36: =IFERROR(_xlfn.XLOOKUP(B36,#REF!,#REF!),0) -> 0 | D36: 0 | E36: 0 | F36: =+D36-E36 -> 0 | G36: =IFERROR(E36/D36,0) -> 0 | H36: 0 | I36: 0 | J36: =+H36-I36 -> 0 | K36: =IFERROR(I36/H36,0) -> 0 | L36: =+D36+H36 -> 0 | M36: =+E36+I36 -> 0 | N36: =+L36-M36 -> 0 | O36: =IFERROR(M36/L36,0) -> 0
B37: Mantenimiento | C37: =IFERROR(_xlfn.XLOOKUP(B37,#REF!,#REF!),0) -> 0 | D37: 0 | E37: 0 | F37: =+D37-E37 -> 0 | G37: =IFERROR(E37/D37,0) -> 0 | H37: 0 | I37: 0 | J37: =+H37-I37 -> 0 | K37: =IFERROR(I37/H37,0) -> 0 | L37: =+D37+H37 -> 0 | M37: =+E37+I37 -> 0 | N37: =+L37-M37 -> 0 | O37: =IFERROR(M37/L37,0) -> 0
B38: Reparaciones | C38: =IFERROR(_xlfn.XLOOKUP(B38,#REF!,#REF!),0) -> 0 | D38: 0 | E38: 0 | F38: =+D38-E38 -> 0 | G38: =IFERROR(E38/D38,0) -> 0 | H38: 0 | I38: 0 | J38: =+H38-I38 -> 0 | K38: =IFERROR(I38/H38,0) -> 0 | L38: =+D38+H38 -> 0 | M38: =+E38+I38 -> 0 | N38: =+L38-M38 -> 0 | O38: =IFERROR(M38/L38,0) -> 0
B39: Servicios públicos | C39: =IFERROR(_xlfn.XLOOKUP(B39,#REF!,#REF!),0) -> 0 | D39: 0 | E39: 0 | F39: =+D39-E39 -> 0 | G39: =IFERROR(E39/D39,0) -> 0 | H39: 0 | I39: 0 | J39: =+H39-I39 -> 0 | K39: =IFERROR(I39/H39,0) -> 0 | L39: =+D39+H39 -> 0 | M39: =+E39+I39 -> 0 | N39: =+L39-M39 -> 0 | O39: =IFERROR(M39/L39,0) -> 0
B40: Arriendos | C40: =IFERROR(_xlfn.XLOOKUP(B40,#REF!,#REF!),0) -> 0 | D40: 0 | E40: 0 | F40: =+D40-E40 -> 0 | G40: =IFERROR(E40/D40,0) -> 0 | H40: 0 | I40: 0 | J40: =+H40-I40 -> 0 | K40: =IFERROR(I40/H40,0) -> 0 | L40: =+D40+H40 -> 0 | M40: =+E40+I40 -> 0 | N40: =+L40-M40 -> 0 | O40: =IFERROR(M40/L40,0) -> 0
B41: Viáticos y Gastos de viaje | C41: =IFERROR(_xlfn.XLOOKUP(B41,#REF!,#REF!),0) -> 0 | D41: 0 | E41: 0 | F41: =+D41-E41 -> 0 | G41: =IFERROR(E41/D41,0) -> 0 | H41: 0 | I41: 0 | J41: =+H41-I41 -> 0 | K41: =IFERROR(I41/H41,0) -> 0 | L41: =+D41+H41 -> 0 | M41: =+E41+I41 -> 0 | N41: =+L41-M41 -> 0 | O41: =IFERROR(M41/L41,0) -> 0
B42: Impresos, publicaciones, suscripciones y afiliaciones | C42: =IFERROR(_xlfn.XLOOKUP(B42,#REF!,#REF!),0) -> 0 | D42: 0 | E42: 0 | F42: =+D42-E42 -> 0 | G42: =IFERROR(E42/D42,0) -> 0 | H42: 0 | I42: 0 | J42: =+H42-I42 -> 0 | K42: =IFERROR(I42/H42,0) -> 0 | L42: =+D42+H42 -> 0 | M42: =+E42+I42 -> 0 | N42: =+L42-M42 -> 0 | O42: =IFERROR(M42/L42,0) -> 0
B43: Fotocopias | C43: =IFERROR(_xlfn.XLOOKUP(B43,#REF!,#REF!),0) -> 0 | D43: 0 | E43: 0 | F43: =+D43-E43 -> 0 | G43: =IFERROR(E43/D43,0) -> 0 | H43: 0 | I43: 0 | J43: =+H43-I43 -> 0 | K43: =IFERROR(I43/H43,0) -> 0 | L43: =+D43+H43 -> 0 | M43: =+E43+I43 -> 0 | N43: =+L43-M43 -> 0 | O43: =IFERROR(M43/L43,0) -> 0
B44: Comunicaciones y transporte - correo | C44: =IFERROR(_xlfn.XLOOKUP(B44,#REF!,#REF!),0) -> 0 | D44: 0 | E44: 0 | F44: =+D44-E44 -> 0 | G44: =IFERROR(E44/D44,0) -> 0 | H44: 0 | I44: 0 | J44: =+H44-I44 -> 0 | K44: =IFERROR(I44/H44,0) -> 0 | L44: =+D44+H44 -> 0 | M44: =+E44+I44 -> 0 | N44: =+L44-M44 -> 0 | O44: =IFERROR(M44/L44,0) -> 0
... B54: Alquiler de maquinaria y equipo | C54: =IFERROR(_xlfn.XLOOKUP(B54,#REF!,#REF!),0) -> 0 | D54: 0 | E54: 0 | F54: =+D54-E54 -> 0 | G54: =IFERROR(E54/D54,0) -> 0 | H54: 0 | I54: 0 | J54: =+H54-I54 -> 0 | K54: =IFERROR(I54/H54,0) -> 0 | L54: =+D54+H54 -> 0 | M54: =+E54+I54 -> 0 | N54: =+L54-M54 -> 0 | O54: =IFERROR(M54/L54,0) -> 0
B55: PROGRAMAS Y PROYECTOS | C55: =+C56+C74+C84 -> #REF! | D55: =+D56+D74+D84 -> 0 | E55: =+E56+E74+E84 -> 0 | F55: =+F56+F74+F84 -> 0 | G55: =+G56+G74+G84 -> 0 | H55: =+H56+H74+H84 -> 0 | I55: =+I56+I74+I84 -> 0 | J55: =+J56+J74+J84 -> 0 | ... O55: =+O56+O74+O84 -> 0
...

Sheet CONSOLIDADO
D3: =+UPPER("Salarios mensuales") -> SALARIOS MENSUALES | I3: =+UPPER("Número de personas") -> NÚMERO DE PERSONAS
C4: DEPARTAMENTO | D4: 2025 | E4: 2026 | F4: VAR (%) | H4: DEPARTAMENTO | I4: 2025 | J4: 2026 | K4: VAR. (%)
C5: CAMPAÑA AL CONSUMO | D5: 15373800 | E5: 31088000 | F5: =+E5/D5-1 -> 1.0221416 | H5: CAMPAÑA AL CONSUMO | I5: 3 | J5: 9 | K5: =+J5/I5-1 -> 2
C6: CENTRO DE DESARROLLO TECNOLÓGICO | D6: 0 | E6: 17204000 | F6: 1 | H6: CENTRO DE DESARROLLO TECNOLÓGICO | I6: 0 | J6: 5 | K6: 1
C7: FUNCIONAMIENTO - RECAUDO | D7: 74762220 | E7: 103859000 | F7: =+E7/D7-1 -> 0.38919096 | H7: FUNCIONAMIENTO - RECAUDO | I7: 18 | J7: 25 | K7: =+J7/I7-1 -> 0.38888889
C8: SISTEMAS DE INFORMACION | D8: 30633720 | E8: 40020000 | F8: =+E8/D8-1 -> 0.30640353 | H8: SISTEMAS DE INFORMACION | I8: 6 | J8: 8 | K8: =+J8/I8-1 -> 0.33333333
C9: SEMILLA CERTIFICADA | D9: 14946750 | E9: 18713000 | F9: =+E9/D9-1 -> 0.25197785 | H9: SEMILLA CERTIFICADA | I9: 4 | J9: 6 | K9: =+J9/I9-1 -> 0.5
C10: FUNCIONAMIENTO - ADMINISTRATIVO | D10: 28356120 | E10: 33985000 | F10: =+E10/D10-1 -> 0.19850671 | H10: FUNCIONAMIENTO - ADMINISTRATIVO | I10: 6 | J10: 8 | K10: =+J10/I10-1 -> 0.33333333
C11: ASOCIATIVIDAD Y FORTALECIMIENTO EMPRESARIAL | D11: 20213700 | E11: 23872000 | F11: =+E11/D11-1 -> 0.18098122 | H11: ASOCIATIVIDAD Y FORTALECIMIENTO EMPRESARIAL | I11: 4 | J11: 4 | K11: =+J11/I11-1 -> 0
C12: ITPA | D12: 106221570 | E12: 114882000 | F12: =+E12/D12-1 -> 0.081531745 | H12: ITPA | I12: 27 | J12: 34 | K12: =+J12/I12-1 -> 0.25925926
C13: MEJORAMIENTO GENETICO | D13: 17509050 | E13: 17960000 | F13: =+E13/D13-1 -> 0.025755252 | H13: MEJORAMIENTO GENETICO | I13: 5 | J13: 5 | K13: =+J13/I13-1 -> 0
C14: TOTAL | D14: =SUM(D5:D13) -> 308016930 | E14: =SUM(E5:E13) -> 401583000 | F14: =+E14/D14-1 -> 0.30376924 | H14: TOTAL | I14: =SUM(I5:I13) -> 73 | J14: =SUM(J5:J13) -> 104 | K14: =+J14/I14-1 -> 0.42465753
C17: NOMBRE DE LA CUENTA | D17: PROYECCIÓN AL 31/12/2025 | E17: PRESUPUESTO 2026 | F17: VARIACIÓN ABSOLUTA | G17: VARIACIÓN PORCENTUAL
C18: INGRESOS CORRIENTES U OPERACIONALES | D18: =+SUM(D19:D22) -> 2.3625352e+10 | E18: =+SUM(E19:E22) -> 2.0503842e+10 | F18: =+SUM(F19:F22) -> -3.12151e+09 | G18: =IFERROR((E18-D18)/D18,0) -> -0.13212544
C19: Cuota de Fomento | D19: 13694112651 | E19: 15199659540 | F19: =+E19-D19 -> 1505546889 | G19: =IFERROR((E19-D19)/D19,0) -> 0.10994118
C20: Cuota de Fomento Vigencia Anterior | D20: 365088276 | E20: 6.4477087e+08 | F20: =+E20-D20 -> 2.7968259e+08 | G20: =IFERROR((E20-D20)/D20,0) -> 0.7660684
C21: Intereses de Mora | D21: 472940316 | E21: 3.7591904e+08 | F21: =+E21-D21 -> -97021272 | G21: =IFERROR((E21-D21)/D21,0) -> -0.20514485
C22: Superávit | D22: 9.0932104e+09 | E22: 4.2834922e+09 | F22: =+E22-D22 -> -4.8097182e+09 | G22: =IFERROR((E22-D22)/D22,0) -> -0.5289351
C23: INGRESOS RECURSOS DE CAPITAL O NO OPERACIONALES | D23: =+D24+D26 -> 544227620 | E23: =+E24+E26 -> #REF! | F23: =+F24+F26 -> #REF! | G23: =IFERROR((E23-D23)/D23,0) -> 0
C24: Ingresos Financieros | D24: =+D25 -> 514243000 | E24: =+E25 -> #REF! | F24: =+F25 -> #REF! | G24: =IFERROR((E24-D24)/D24,0) -> 0
C25: Ingresos Financieros | D25: 514243000 | E25: =+#REF! -> #REF! | F25: =+E25-D25 -> #REF! | G25: =IFERROR((E25-D25)/D25,0) -> 0
C26: OTROS INGRESOS | D26: =+SUM(D27:D27) -> 29984620 | E26: =+SUM(E27:E27) -> #REF! | F26: =+SUM(F27:F27) -> #REF! | G26: =IFERROR((E26-D26)/D26,0) -> 0
C27: Otros ingresos | D27: 29984620 | E27: =+#REF! -> #REF! | F27: =+E27-D27 -> #REF! | G27: =IFERROR((E27-D27)/D27,0) -> 0
C28: TOTAL PRESUPUESTO DE INGRESOS | D28: =+D18+D23 -> 2.4169579e+10 | E28: =+E18+E23 -> #REF! | F28: =+F18+F23 -> #REF! | G28: =IFERROR((E28-D28)/D28,0) -> 0
