{"text_format":"1","workbook":"xlsx","n_sheets":5,"sheets":["Parametros","Plan de cuentas","SOLICITUDES 2025","Anexo 5 Planta y Equipo de trab","SUPUESTOS GASTOS"],"not_rendered":{"charts":0,"images":1,"macros":1,"external_links":2,"defined_names":28,"comments":0,"pivot_tables":0},"unopened":[],"bounds":{"document_bytes":16777216,"sheet_cells":100000,"rows_first":2000,"rows_last":500,"rows_between":2000,"halvings":0,"cell_chars":16384,"cell_head_chars":4096},"cells_cut":0,"cells_raw":0,"read":"whole","date_system":"1900"}

{"sheet":"Parametros","index":0,"n_rows":339,"n_cols":21,"rows_kept":339,"cut":false,"hidden":true,"merged":[[0,3,0,4]]}
["fondos","denominacion",null,"CENTRO GESTOR",null,null,"Posicion presupuestaria","denominacion","caracteres",null,"Área funcional",null,null,"CD",null,null,"Per. Presup.",null,null,"clase importe","descripcion"]
["FNFP","Primer trimestre fun",null,2001001,"FUNCIONAMIENTO",null,4,"INGRESOS",{"$f":"LEN(G2)","v":1},null,5110600001,"SEMILLAS (BÁSICAS, REGIST",null,"Z1Q","Distribucion primer trimestre",null,"Q1","PRIMER TRIMESTRE DEL AÑO",null,100,"Original"]
["FNFP1_INV","Primer trimestre Inv",null,2002001,"SIST Y CONTROL",null,41,"INGRESOS FISCALES",{"$f":"LEN(G3)","v":2},null,5110600002,"MINITUBERCULOS",null,"Z2Q","Distribucion segundo trimestre",null,"Q2","SEGUNDO TRIMESTRE DEL AÑO",null,110,"Autorizado en el workflow   (sólo ledger de workflow 9D)"]
["FNFP2","Segundo trimestre",null,2004001,"ASISTENCIA TECNICA",null,4115,"RENTAS PARAFISCALES",4,null,5110600003,"INSUMOS AGRÍCOLAS",null,"Z3Q","Distribucion tercer trimestre",null,"Q3","TERCER TRIMESTRE DEL AÑO",null,120,"No autorizado en el workflow (sólo ledger de workflow 9D)"]
["FNFP2_INV","Segundo trimestre",null,2005001,"SIS INFO ECONOMICA",null,411503,"CUOTA PARAFISCAL",6,null,5110600004,"ANÁLISIS MICROBIOLÓGICOS",null,"Z4Q","Distribucion cuarto trimestre",null,"Q4","CUARTO TRIMESTRE DEL AÑO",null,150,"Modificación"]
["FNFP3","Tercer trimestre",null,2006001,"SEM TEC INTER PAPA",null,4115030100,"CUOTA PARAFISCAL",10,null,5110600005,"ANÁLISIS DE SUELO",null,null,null,null,null,null,null,200,"Reducción"]
["FNFP3_INV","Tercer trimestre",null,2007001,"CAMPAÑAS DE CONSUMO",null,4115030200,"CUOTA PARAFISCAL VIG",10,null,5110600006,"ANÁLISIS FOLIARES",null,null,null,null,null,null,null,210,"Reducción liquidación cheques"]
["FNFP4","Cuarto trimestre Fun",null,2008001,"ESTUDIO POLITICA SAC",null,4115030300,"CUOTA PARAFISCAL AJU",10,null,5110600007,"ALQUILER DE DRON IMÁGENES",null,null,null,null,null,null,null,220,"Modificación por revaluación"]
["FNFP4_INV","Cuarto trimestre Inv",null,2009001,"PLAN ESTRA CONSUMO",null,411590,"OTRAS RENTAS PARAFIS",6,null,5110600008,"ALQUILER DE DRON FUMIGACION",null,null,null,null,null,null,null,250,"Pagado"]
[null,null,null,2010001,"FORMALIZACION LABORA",null,4115900100,"OTRAS RENTAS PARAFIS",10,null,5110600009,"TRAMPAS TECIA SOLANIVORA",null,null,null,null,null,null,null,260,"Pagado Liquidación cheques"]
[null,null,null,2011001,"AGROEXPO",null,43,"VENTA DE SERVICIOS",2,null,5110600010,"REACTIVOS",null,null,null,null,null,null,null,270,"Abono pagado"]
[null,null,null,2012001,"ASOCIATIVIDAD",null,4330,"SERVICIOS DE TRANSPO",4,null,5110600011,"REACTIVOS BIOLOGÍA MOLECU",null,null,null,null,null,null,null,300,"Transferencia ejercicio anterior (comprometido)"]
[null,null,null,2013001,"VERTICILLIUM",null,433011,"SERVICIO DE TRANSPOR",6,null,5110600012,"DIAGNOSTICO DE MUESTRAS",null,null,null,null,null,null,null,350,"Transferencia ejercicio siguiente (comprometido)"]
[null,null,null,2014001,"GENOTIPO",null,433090,"OTROS SERVICIOS DE T",6,null,5110600013,"ADECUACIONES INVERNADEROS",null,null,null,null,null,null,null,351,"Arrastre del comprometido: Transferencia importe consumido"]
[null,null,null,2015001,"MECANISMO DE DEFENSA",null,4390,"OTROS SERVICIOS",4,null,5110600014,"INSUMOS AGRÍCOLAS LOTES D",null,null,null,null,null,null,null,352,"Arrastre del comprometido: Reducción importe consumido"]
[null,null,null,2016001,"MARCO ESTRATEGICO",null,439004,"ASISTENCIA TECNICA",6,null,5110600015,"SUELO NEGRO",null,null,null,null,null,null,null,360,"Saldo de ejercicios ant."]
[null,null,null,2017001,"AT ESTRÉS",null,439090,"OTROS SERVICIOS",6,null,5110600016,"PRUEBAS DE EVALUACIÓN AGR",null,null,null,null,null,null,null,400,"Entrada bloqueo"]
[null,null,null,2018001,"AT PMP",null,4395,"DEVOLUCIONES, REBAJA",4,null,5110600017,"LIMPIEZA DE MATERIAL VEGE",null,null,null,null,null,null,null,500,"Ajuste mediante documento subsiguiente"]
[null,null,null,2019001,"PROMOCION DIVULGACION",null,439506,"SERVICIOS DE TRANSPO",6,null,5110600018,"SECUENCIACION DE RNA",null,null,null,null,null,null,null,600,"Reimputación baja"]
[null,null,null,2020001,"POP",null,44,"TRANSFERENCIAS Y SUB",2,null,5110600019,"TRAMPAS CROMATICAS AMARILLAS",null,null,null,null,null,null,null,650,"Reimputación alta"]
[null,null,null,2021001,"SEMILLA CERTIFICADA",null,4430,"SUBVENCIONES",4,null,5110600020,"Compra de medios ",null,null,null,null,null,null,null,700,"Liquidación baja"]
[null,null,null,2022001,"TRANSFORMACIÓN",null,443004,"DONACIONES",6,null,5110600021,"Plan de medios",null,null,null,null,null,null,null,750,"Liquidación alta"]
[null,null,null,null,null,null,443005,"SUBVENCION POR RECU",6,null,5110600022,"Producción piezas y derechos"]
[null,null,null,null,null,null,443090,"OTRAS SUBVENCIONES",6,null,5110600023,"Investigación de consumo per cápita de papa "]
[null,null,null,null,null,null,48,"OTROS INGRESOS",2,null,5110600024,"Inversión digital"]
[null,null,null,null,null,null,4802,"FINANCIEROS",4,null,5110600025,"Marketing influencers "]
[null,null,null,null,null,null,480201,"INTERESES SOBRE DEP",6,null,5110600026,"Renovación Hosting Pagina  preparalapapa"]
[null,null,null,null,null,null,4802010100,"INTERESES SOBRE DEPO",10,null,5110600027,"Dominio www.preparalapapa.com"]
[null,null,null,null,null,null,480204,"INTERESES DE FONDO D",6,null,5110600028,"Certificado SSL para Pagina Preparalapapa.com"]
[null,null,null,null,null,null,480211,"RENDIMIENTO EFECTIVO",6,null,5110600029,"Activaciones BTL"]
[null,null,null,null,null,null,480233,"INTERESES DE MORA",6,null,5110600030,"Divulgacion tecnica"]
[null,null,null,null,null,null,4802330100,"INTERESES DE MORA",10,null,5110600031,"Divulgacion del proyecto"]
[null,null,null,null,null,null,480243,"INTERESES DEL PLAN D",6,null,5110600032,"Capacitacion agricultores"]
[null,null,null,null,null,null,480290,"DESCUENTOS",6,null,5110600033,"Salud en el trabajo"]
[null,null,null,null,null,null,4805,"INTERESES",4,null,5110600034,"Muebles y enseres"]
[null,null,null,null,null,null,480513,"INTERESES DE MORA",6,null,5110600035,"Equipo de oficina"]
[null,null,null,null,null,null,4805130100,"INTERESES DE MORA",10,null,5110600036,"Equipo de comunicación"]
[null,null,null,null,null,null,480522,"INTERESES SOBRE DEPÓ",6,null,5110600037,"Equipo de computo"]
[null,null,null,null,null,null,4805220100,"INTERESES SOBRE DEPÓ",10,null,5110600038,"Licencias"]
[null,null,null,null,null,null,4806,"AJUSTE POR DIFERENCI",4,null,5110600039,"Auxilios de movilizacion"]
[null,null,null,null,null,null,480601,"EFECTIVO Y EQUIVALEN",6,null,5110600040,"Gastos legales"]
[null,null,null,null,null,null,4806010100,"SUPERAVIT VIGENCIAS ANTERIORES",null,null,5110600041,"Seguros"]
[null,null,null,null,null,null,480602,"CUENTAS POR COBRAR",{"$f":"LEN(G43)","v":6},null,5110600042,"Gira de riego"]
[null,null,null,null,null,null,480603,"PTE",6,null,5110600043,"Kit de campo"]
[null,null,null,null,null,null,480612,"ADQUISICION DE BIEN",6,null,5110600044,"Transporte de insumos"]
[null,null,null,null,null,null,480613,"ADQUISICION DE BIEN",6,null,5110600045,"Abastecimiento y cadena logistica"]
[null,null,null,null,null,null,480636,"INVERSIONES",6,null,5110600046,"Estructura y competitividad"]
[null,null,null,null,null,null,480642,"FINANCIAMIENTO INTER",6,null,5110600047,"Oportunidades comerciales "]
[null,null,null,null,null,null,480645,"FINANCIAMIENTO EXTER",6,null,5110600048,"Consumo percápita papa "]
[null,null,null,null,null,null,480646,"PRESTAMOS POR COBRA",6,null,5110600049,"Estudio percepción"]
[null,null,null,null,null,null,480647,"CUENTAS POR PAGAR",6,null,5110600050,"Merchandising"]
[null,null,null,null,null,null,4808,"INGRESOS DIVERSOS",4,null,5110600051,"Merchandising Recaudo/Técnico"]
[null,null,null,null,null,null,480803,"CUOTAS PARTES DE PEN",6,null,5110600052,"ATL - BTL - DIGITAL"]
[null,null,null,null,null,null,480805,"GANANCIAS POR BAJA E",6,null,5110600053,"PRODUCCIÓN CONTENIDO MULT"]
[null,null,null,null,null,null,480825,"SOBRANTES",6,null,5110600054,"Herramientas carac edafoclimática"]
[null,null,null,null,null,null,4808250100,"SOBRANTES",10,null,5110600055,"Medición áreas sembrada"]
[null,null,null,null,null,null,480826,"RECUPERACIONES",6,null,5110600056,"Investigación nutricional variedades"]
[null,null,null,null,null,null,4808260100,"RECUPERACIONES",10,null,5110600057,"Estudio prefactibilidad"]
[null,null,null,null,null,null,4808260200,"INCAPACIDADES",10,null,5110600058,"Estudio exploratorio "]
[null,null,null,null,null,null,480827,"APROVECHAMIENTOS",6,null,5110600059,"Estudio proyección merc inter y sus subproductos industriales "]
[null,null,null,null,null,null,4808270100,"APROVECHAMIENTOS",10,null,5110600060,"AGROEXPO "]
[null,null,null,null,null,null,480828,"INDEMNIZACIONES",6,null,5110600061,"Inv subproductos agroindustriales"]
[null,null,null,null,null,null,4808280100,"INDEMNIZACIONES",10,null,5110600062,"Túberculo semilla cat certificada"]
[null,null,null,null,null,null,480890,"OTROS INGRESOS DIVER",6,null,5110600063,"Analisis de virus y patog"]
[null,null,null,null,null,null,4808900100,"TRASLADO RECURSOS FO",10,null,5110600064,"Insumos de laboratorio y campo de investigación para patógenos de suelo. "]
[null,null,null,null,null,null,4810,"INGRESOS DIVERSOS",4,null,5110600065,"Estudio analisis vulnerabilidad por riesgo cambio climatico"]
[null,null,null,null,null,null,481007,"SOBRANTES",6,null,5110600066,"Pauta Digital"]
[null,null,null,null,null,null,4810070100,"SOBRANTES",10,null,5110600067,"Identificación en campo"]
[null,null,null,null,null,null,481008,"RECUPERACIONES",6,null,5110600068,"Capacitacion organizaciones"]
[null,null,null,null,null,null,4810080100,"RECUPERACIONES",10,null,5110600069,"Estudio diseño de estrategias para el mejoramiento del desempeño ambiental de la cadena de la papa en Colombia."]
[null,null,null,null,null,null,4810080200,"INCAPACIDADES",10,null,5110600070,"Estudio  de caracterización de tecnologías y diseño de estrategia logística para la optimización del subsector papa en Colombia."]
[null,null,null,null,null,null,481047,"APROVECHAMIENTOS",6,null,5110600071,"Estudio de competitividad de la industria de la papa procesada a partir de la aplicación de estrategias de inteligencia de mercados. "]
[null,null,null,null,null,null,4810470100,"APROVECHAMIENTOS",10,null,5110600072,"Análisis y caracterización de producto"]
[null,null,null,null,null,null,481090,"TRASLADO RECURSOS FO",6,null,5110600073,"Vigilancia y seguridad"]
[null,null,null,null,null,null,4810900100,"TRASLADO RECURSOS FO",10,null,5110600074,"Aseo"]
[null,null,null,null,null,null,4815,"INGRESOS EJERCICIOS",4,null,"GENERAL","AREA FUNCIONAL GENERAL"]
[null,null,null,null,null,null,481556,"VENTA DE SERVICIOS",6,null,5110600075,"Plataforma mailing"]
[null,null,null,null,null,null,481559,"OTROS INGRESOS",6,null,5110600076,"Producción de contenido audiovisual y nuevas tecnologías"]
[null,null,null,null,null,null,4815590100,"OTROS INGRESOS",10,null,5110600077,"Est e inv economicas"]
[null,null,null,null,null,null,4830,"REVERSION DE LAS PER",4]
[null,null,null,null,null,null,483002,"CUENTAS POR COBRAR",6]
[null,null,null,null,null,null,483006,"PROPIEDAD PLANTA Y E",6]
[null,null,null,null,null,null,4808630100,"OTROS INGRESOS",10]
[null,null,null,null,null,null,5,"GASTOS",1]
[null,null,null,null,null,null,51,"DE ADMINISTRACION",2]
[null,null,null,null,null,null,5101,"SUELDOS Y SALARIOS",4]
[null,null,null,null,null,null,510101,"SUELDOS",6]
[null,null,null,null,null,null,5101010100,"SUELDOS DEL PERSONAL",10]
[null,null,null,null,null,null,5101010200,"APOYO DE SOSTENIMIEN",10]
[null,null,null,null,null,null,510103,"HORAS EXTRAS Y FESTI",6]
[null,null,null,null,null,null,510105,"GASTOS DE REPRESENTA",6]
[null,null,null,null,null,null,510109,"HONORARIOS",6]
[null,null,null,null,null,null,5101090100,"HONORARIOS",10]
[null,null,null,null,null,null,510117,"VACACIONES",6]
[null,null,null,null,null,null,5101170100,"VACACIONES",10]
[null,null,null,null,null,null,510119,"BONIFICACIONES",6]
[null,null,null,null,null,null,510123,"AUXILIO DE TRANSPORT",6]
[null,null,null,null,null,null,5101230100,"AUXILIO DE TRANSPORT",10]
[null,null,null,null,null,null,510124,"CESANTIAS",6]
[null,null,null,null,null,null,5101240100,"CESANTIAS",10]
[null,null,null,null,null,null,510125,"INTERESES A LAS CESA",6]
[null,null,null,null,null,null,5101250100,"INTERESES A LAS CESA",10]
[null,null,null,null,null,null,510130,"CAPACITACION Y DIVUL",6]
[null,null,null,null,null,null,5101300100,"DIVULGACION",10]
[null,null,null,null,null,null,5101300200,"CAPACITACION",10]
[null,null,null,null,null,null,510131,"DOTACION Y SUMINISTR",6]
[null,null,null,null,null,null,5101310100,"DOTACION Y SUMINISTR",10]
[null,null,null,null,null,null,510152,"PRIMA DE SERVICIOS",{"$f":"LEN(G108)","v":6}]
[null,null,null,null,null,null,5101520100,"PRIMA DE SERVICIOS",10]
[null,null,null,null,null,null,510160,"SUBSIDIO DE ALIMENTA",6]
[null,null,null,null,null,null,5102,"CONTRIBUCIONES IMPUT",4]
[null,null,null,null,null,null,510201,"INCAPACIDADES",6]
[null,null,null,null,null,null,5102010100,"INCAPACIDADES",10]
[null,null,null,null,null,null,510203,"INDEMNIZACIONES",6]
[null,null,null,null,null,null,5102030100,"INDEMNIZACIONES",10]
[null,null,null,null,null,null,510204,"GASTOS MEDICOS Y DR",6]
[null,null,null,null,null,null,510206,"PENSIONES DE JUBILAC",6]
[null,null,null,null,null,null,510207,"CUOTAS PARTES DE PEN",6]
[null,null,null,null,null,null,510213,"AMORT DE CUOTAS PART",6]
[null,null,null,null,null,null,510290,"OTRAS CONTRIBUCIONES",6]
[null,null,null,null,null,null,5103,"CONTRIBUCIONES EFECT",4]
[null,null,null,null,null,null,510302,"APORTES A CAJAS DE C",6]
[null,null,null,null,null,null,5103020100,"APORTES A CAJAS DE C",10]
[null,null,null,null,null,null,510303,"COTIZACIONES A SEGUR",6]
[null,null,null,null,null,null,5103030100,"COTIZACIONES A SEGUR",10]
[null,null,null,null,null,null,510305,"COTIZACIONES A RIESG",6]
[null,null,null,null,null,null,5103050100,"COTIZACIONES A RIESG",10]
[null,null,null,null,null,null,510306,"COTIZACIONES A ENTID",6]
[null,null,null,null,null,null,510307,"COTIZACIONES A ENTID",6]
[null,null,null,null,null,null,5103070100,"COTIZACIONES A ENTID",10]
[null,null,null,null,null,null,5104,"APORTES SOBRE NOMINA",4]
[null,null,null,null,null,null,510401,"APORTES AL ICBF",6]
[null,null,null,null,null,null,5104010100,"APORTES AL ICBF",10]
[null,null,null,null,null,null,510402,"APORTES AL SENA",6]
[null,null,null,null,null,null,5104020100,"APORTES AL SENA",10]
[null,null,null,null,null,null,5107,"PRESTACIONES SOCIALE",4]
[null,null,null,null,null,null,510701,"VACACIONES",6]
[null,null,null,null,null,null,5107010100,"VACACIONES",10]
[null,null,null,null,null,null,510702,"CESANTIAS",6]
[null,null,null,null,null,null,5107020100,"CESANTIAS",10]
[null,null,null,null,null,null,510703,"INTERESES A LAS CESA",6]
[null,null,null,null,null,null,5107030100,"INTERESES A LAS CESA",10]
[null,null,null,null,null,null,510704,"PRIMA DE VACACIONES",6]
[null,null,null,null,null,null,510705,"PRIMA DE NAVIDAD",6]
[null,null,null,null,null,null,510706,"PRIMA DE SERVICIOS",6]
[null,null,null,null,null,null,5107060100,"PRIMA DE SERVICIOS",10]
[null,null,null,null,null,null,510708,"CESANTIAS RETROACTIV",6]
[null,null,null,null,null,null,510790,"OTRAS PRIMAS",6]
[null,null,null,null,null,null,5108,"GASTOS DE PERSONAL D",4]
[null,null,null,null,null,null,510802,"HONORARIOS",6]
[null,null,null,null,null,null,5108020100,"HONORARIOS",10]
[null,null,null,null,null,null,510803,"CAPACITACION, BIENE",6]
[null,null,null,null,null,null,5108030100,"CAPACITACION, BIENES",10]
[null,null,null,null,null,null,510804,"DOTACION Y SUMINIST",6]
[null,null,null,null,null,null,5108040100,"DOTACION Y SUMINISTR",10]
[null,null,null,null,null,null,510805,"GASTOS DEPORTIVOS Y",6]
[null,null,null,null,null,null,510806,"CONTRATOS DE PERSONA",6]
[null,null,null,null,null,null,510809,"GASTOS DE REPRESENTA",6]
[null,null,null,null,null,null,510810,"VIATICOS",6]
[null,null,null,null,null,null,510890,"OTROS GASTOS DE PERS",6]
[null,null,null,null,null,null,5111,"GENERALES",4]
[null,null,null,null,null,null,511106,"AT ASISTENCIA TECNIC",6]
[null,null,null,null,null,null,5111060100,"ASC SISTEMATIZACION",10]
[null,null,null,null,null,null,5111060200,"AE INVESTIGACIONES E",10]
[null,null,null,null,null,null,5111060300,"AT ASISTENCIA TECNIC",10]
[null,null,null,null,null,null,5111060400,"AM ATL",10]
[null,null,null,null,null,null,5111060500,"AM BTL",10]
[null,null,null,null,null,null,5111060600,"AM DIGITAL",10]
[null,null,null,null,null,null,5111060700,"ESTUDIOS E  INVESTIGACIONES",10]
[null,null,null,null,null,null,5111060701,"ESTUDIOS CONSUMO",10]
[null,null,null,null,null,null,5111060703,"ESTUDIOS TRANSFORMACION",10]
[null,null,null,null,null,null,5111060704,"ESTUDIOS ITPA",10]
[null,null,null,null,null,null,5111061300,"AT ASISTENCIA TECNICA SEMILLA",10]
[null,null,null,null,null,null,5111060800,"AT ASISTENCIA TECNIC",10]
[null,null,null,null,null,null,5111060900,"AT ASISTENCIA TECNIC",10]
[null,null,null,null,null,null,5111061100,"AT ASISTENCIA TECNIC",10]
[null,null,null,null,null,null,5111061200,"AT ASISTENCIA TECNIC",10]
[null,null,null,null,null,null,5111063601,"AE INVESTIGACIONES E",{"$f":"LEN(G178)","v":10}]
[null,null,null,null,null,null,5111069900,"Transferencia de tec",10]
[null,null,null,null,null,null,511111,"COMISIONES, HONORARI",6]
[null,null,null,null,null,null,511112,"OBRAS Y MEJORAS EN P",6]
[null,null,null,null,null,null,511113,"VIGILANCIA Y SEGURID",6]
[null,null,null,null,null,null,511114,"MATERIALES Y SUMINIS",6]
[null,null,null,null,null,null,5111140300,"MATERIALES Y SUMINIS",10]
[null,null,null,null,null,null,511115,"MANTENIMIENTO",6]
[null,null,null,null,null,null,5111150100,"MANTENIMIENTO",10]
[null,null,null,null,null,null,511116,"REPARACIONES",6]
[null,null,null,null,null,null,511117,"SERVICIOS PUBLICOS",6]
[null,null,null,null,null,null,5111170100,"ENERGIA",10]
[null,null,null,null,null,null,5111170200,"ACUEDUCTO Y ALCANTAR",10]
[null,null,null,null,null,null,5111170300,"TELEFONO",10]
[null,null,null,null,null,null,5111170400,"SERVICIOS PUBLICOS",10]
[null,null,null,null,null,null,511118,"ARRENDAMIENTO OPERAT",6]
[null,null,null,null,null,null,5111180100,"ARRENDAMIENTOS",10]
[null,null,null,null,null,null,511119,"VIATICOS Y GASTOS DE",6]
[null,null,null,null,null,null,5111190100,"VIATICOS Y GASTOS DE",10]
[null,null,null,null,null,null,511120,"PUBLICIDAD Y PROPAGA",6]
[null,null,null,null,null,null,511121,"IMPRESOS, PUBLICACIO",6]
[null,null,null,null,null,null,5111210100,"IMPRESOS",10]
[null,null,null,null,null,null,5111210200,"PUBLICACIONES",10]
[null,null,null,null,null,null,5111210300,"IMPRESOS PUBLICACIONES SUSCRIPCIONES Y AFILIACIONES",{"$f":"LEN(G201)","v":10}]
[null,null,null,null,null,null,511122,"FOTOCOPIAS",6]
[null,null,null,null,null,null,511123,"COMUNICACIONES Y TRA",6]
[null,null,null,null,null,null,5111230100,"CORREO",10]
[null,null,null,null,null,null,5111230200,"TRANSPORTES",10]
[null,null,null,null,null,null,5111230201,"TRANSPORTES FLETES Y",10]
[null,null,null,null,null,null,511125,"SEGUROS GENERALES",6]
[null,null,null,null,null,null,5111250100,"SEGUROS GENERALES",10]
[null,null,null,null,null,null,511127,"PROMOCION Y DIVULGAC",6]
[null,null,null,null,null,null,5111270100,"PROMOCION Y DIVULGAC",10]
[null,null,null,null,null,null,511133,"SEGURIDAD INDUSTRIAL",6]
[null,null,null,null,null,null,511140,"CONTRATOS DE ADMINIS",6]
[null,null,null,null,null,null,5111400100,"CONTRAPRESTACION",10]
[null,null,null,null,null,null,5111400200,"COMISION  DE FOMENTO",10]
[null,null,null,null,null,null,511146,"COMBUSTIBLES Y LUBRI",6]
[null,null,null,null,null,null,511149,"SERVICIOS DE ASEO, C",6]
[null,null,null,null,null,null,5111490100,"SERVICIOS DE ASEO, VIGILANCIA Y SEGURIDAD",10]
[null,null,null,null,null,null,511154,"ORGANIZACION DE EVE",6]
[null,null,null,null,null,null,511155,"ELEMENTOS DE ASEO, L",6]
[null,null,null,null,null,null,5111550200,"VIGILANCIA",10]
[null,null,null,null,null,null,5111550300,"CAFETERIA",10]
[null,null,null,null,null,null,511159,"LICENCIAS",6]
[null,null,null,null,null,null,5111590100,"LICENCIAS",10]
[null,null,null,null,null,null,511164,"GASTOS LEGALES",6]
[null,null,null,null,null,null,5111640100,"GASTOS LEGALES",10]
[null,null,null,null,null,null,511165,"INTANGIBLES",6]
[null,null,null,null,null,null,5111650100,"INTANGIBLES",10]
[null,null,null,null,null,null,511166,"COSTAS PROCESALES",6]
[null,null,null,null,null,null,511170,"MUEBLES, EQUIPOS DE",6]
[null,null,null,null,null,null,5111700100,"MUEBLES, EQUIPOS DE",10]
[null,null,null,null,null,null,5111710100,"EQUIPO DE LABORATORIO Y CAMPO",10]
[null,null,null,null,null,null,511178,"COMISIONES",6]
[null,null,null,null,null,null,511179,"HONORARIOS",6]
[null,null,null,null,null,null,5111790100,"HONORARIOS",10]
[null,null,null,null,null,null,511180,"SERVICIOS",6]
[null,null,null,null,null,null,511190,"OTROS GASTOS GENERAL",6]
[null,null,null,null,null,null,5111900100,"JUNTA DIRECTIVA",10]
[null,null,null,null,null,null,5111900200,"COMPRA BASE DE DATOS",10]
[null,null,null,null,null,null,5120,"IMPUESTOS, CONTRIBUC",4]
[null,null,null,null,null,null,512001,"IMPUESTO PREDIAL UNI",6]
[null,null,null,null,null,null,512002,"CUOTA DE FISCALIZACI",6]
[null,null,null,null,null,null,5120020100,"CUOTA DE FISCALIZACI",10]
[null,null,null,null,null,null,512007,"MULTAS",6]
[null,null,null,null,null,null,512009,"IMPUESTO DE INDUSTRI",6]
[null,null,null,null,null,null,5120090100,"INDUSTRIA Y COMERCIO",10]
[null,null,null,null,null,null,512010,"TASAS",{"$f":"LEN(G246)","v":6}]
[null,null,null,null,null,null,512011,"IMPUESTO SOBRE VEHIC",6]
[null,null,null,null,null,null,512017,"INTERESES DE MORA",6]
[null,null,null,null,null,null,512024,"GRAVAMEN A LOS MOVIM",6]
[null,null,null,null,null,null,5120240100,"GRAVAMEN A LOS MOVIM",10]
[null,null,null,null,null,null,512035,"ESTAMPILLAS",6]
[null,null,null,null,null,null,512090,"OTROS IMPUESTOS, CON",6]
[null,null,null,null,null,null,53,"ETERIORO, DEPRECIACI",2]
[null,null,null,null,null,null,5330,"DEPRECIACION PROPIED",4]
[null,null,null,null,null,null,533006,"MUEBLES Y ENSERES AD",6]
[null,null,null,null,null,null,5330060100,"MUEBLES Y ENSERES AD",10]
[null,null,null,null,null,null,533007,"EQUIPO DE COMUNICACI",6]
[null,null,null,null,null,null,5330070100,"EQUIPO DE COMUNICACI",10]
[null,null,null,null,null,null,5331,"BIENES ADQUIRIDOS EN",4]
[null,null,null,null,null,null,533102,"MAQUINARIA Y EQUIPO",6]
[null,null,null,null,null,null,5331020100,"MAQUINARIA Y EQUIPO",10]
[null,null,null,null,null,null,5345,"AMORTIZACION DE INTA",4]
[null,null,null,null,null,null,534507,"LICENCIAS",6]
[null,null,null,null,null,null,5347,"DETERIORO DE CUENTAS",4]
[null,null,null,null,null,null,534702,"PRESTACION DE SERVI",6]
[null,null,null,null,null,null,534716,"DETERIORO CUENTAS PO",6]
[null,null,null,null,null,null,5347160100,"DETERIORO CUENTAS PO",10]
[null,null,null,null,null,null,5347160200,"DETERIORO AJUSTE NIC",10]
[null,null,null,null,null,null,5350,"DETERIORO DE INVENTA",4]
[null,null,null,null,null,null,535008,"MATERIALES Y SUMINIS",6]
[null,null,null,null,null,null,5351,"DETERIORO PPYE",4]
[null,null,null,null,null,null,535112,"EQUIPOS DE TRANSPORT",6]
[null,null,null,null,null,null,5360,"DEPRECIACION DE PPY",4]
[null,null,null,null,null,null,536004,"MAQUINARIA Y EQUIPO",6]
[null,null,null,null,null,null,5360040100,"MAQUINARIA Y EQUIPO",10]
[null,null,null,null,null,null,536005,"EQUIPO MEDICO Y CIE",6]
[null,null,null,null,null,null,536006,"MUEBLES, ENSERES Y E",6]
[null,null,null,null,null,null,5360060100,"MUEBLES ENSERES Y EQ",10]
[null,null,null,null,null,null,536007,"EQUIPOS DE COMUNICAC",6]
[null,null,null,null,null,null,5360070100,"EQUIPOS DE COMUNICAC",10]
[null,null,null,null,null,null,536008,"EQUIPOS DE TRANSPORT",6]
[null,null,null,null,null,null,536009,"EQUIPOS DE COMEDOR,",6]
[null,null,null,null,null,null,536010,"SEMOVIENTES",6]
[null,null,null,null,null,null,536011,"PLANTAS PRODUCTORAS",6]
[null,null,null,null,null,null,536012,"BIENES DE ARTE Y CUL",6]
[null,null,null,null,null,null,536013,"BIENES MUEBLES EN BO",6]
[null,null,null,null,null,null,5366,"AMORTIZACION DE ACT",4]
[null,null,null,null,null,null,536605,"LICENCIAS",6]
[null,null,null,null,null,null,5366050100,"LICENCIAS",10]
[null,null,null,null,null,null,5368,"PROVISION LITIGIOS",4]
[null,null,null,null,null,null,536801,"CIVILES",6]
[null,null,null,null,null,null,536803,"ADMINISTRATIVAS",6]
[null,null,null,null,null,null,536805,"LABORALES",6]
[null,null,null,null,null,null,536890,"OTROS LITIGIOS Y DEM",6]
[null,null,null,null,null,null,5373,"PROVISIONES DIVERSAS",4]
[null,null,null,null,null,null,537307,"DESMANTELAMIENTOS",6]
[null,null,null,null,null,null,54,"TRANSFERENCIAS Y SUB",2]
[null,null,null,null,null,null,5705050001,"EQUIPO DE CAMPO",10]
[null,null,null,null,null,null,58,"OTROS GASTOS",2]
[null,null,null,null,null,null,5802,"COMISIONES",4]
[null,null,null,null,null,null,580237,"COMISIONES SOBRE REC",6]
[null,null,null,null,null,null,580238,"COMISIONES Y OTROS G",6]
[null,null,null,null,null,null,5802380101,"COMISIONES Y OTROS G",10]
[null,null,null,null,null,null,580240,"COMISIONES SERVICIOS",6]
[null,null,null,null,null,null,5802400100,"COMISIONES SERVICIOS",10]
[null,null,null,null,null,null,580290,"OTRAS COMISIONES",6]
[null,null,null,null,null,null,5803,"AJUSTE POR DIFERENCI",4]
[null,null,null,null,null,null,580301,"EFECTIVO Y EQUIVALEN",6]
[null,null,null,null,null,null,580302,"CUENTAS POR COBRAR",6]
[null,null,null,null,null,null,580303,"PRESTAMOS POR COBRA",{"$f":"LEN(G310)","v":6}]
[null,null,null,null,null,null,580312,"ADQUISICION DE BIEN",6]
[null,null,null,null,null,null,580313,"ADQUISICION DE BIEN",6]
[null,null,null,null,null,null,580336,"INVERSIONES",6]
[null,null,null,null,null,null,580345,"FINANCIAMIENTO EXTER",6]
[null,null,null,null,null,null,580346,"CUENTAS POR PAGAR",6]
[null,null,null,null,null,null,5804,"FINANCIEROS",4]
[null,null,null,null,null,null,580401,"ACTUALIZACION FINAN",6]
[null,null,null,null,null,null,580439,"INTERESES DE MORA",6]
[null,null,null,null,null,null,580440,"INTERESES SOBRE DEPO",6]
[null,null,null,null,null,null,580490,"OTROS GASTOS FINANCI",6]
[null,null,null,null,null,null,5810,"GASTOS DIVERSOS",4]
[null,null,null,null,null,null,581090,"AJUSTE AL PESO",6]
[null,null,null,null,null,null,5810900101,"AJUSTE AL PESO",10]
[null,null,null,null,null,null,5810900102,"GASTOS GENERALES",10]
[null,null,null,null,null,null,5815,"AJUSTE DE EJERCICIOS",4]
[null,null,null,null,null,null,581588,"GASTOS DE ADMINISTRA",6]
[null,null,null,null,null,null,581589,"GASTOS DE OPERACION",6]
[null,null,null,null,null,null,581590,"PROVISIONES,DEPRECIA",6]
[null,null,null,null,null,null,581593,"OTROS GASTOS",6]
[null,null,null,null,null,null,5821,"IMPUESTO A LAS GANAN",4]
[null,null,null,null,null,null,582101,"IMPUESTO SOBRE LA RE",6]
[null,null,null,null,null,null,5890,"GASTOS DIVERSOS",4]
[null,null,null,null,null,null,589012,"SENTENCIAS",6]
[null,null,null,null,null,null,589013,"LAUDOS ARBITRALES CO",6]
[null,null,null,null,null,null,589019,"PERDIDA POR BAJA EN",6]
[null,null,null,null,null,null,589025,"MULTAS Y SANCIONES",6]
[null,null,null,null,null,null,589090,"AJUSTE AL PESO",6]
[null,null,null,null,null,null,5890900100,"AJUSTE AL PESO",10]
[null,null,null,null,null,null,5890900200,"GASTOS GENERALES",10]

{"sheet":"Plan de cuentas","index":1,"n_rows":529,"n_cols":2,"rows_kept":529,"cut":false,"hidden":true,"merged":[]}
["Cuenta de mayor","Texto explicativo"]
[1105010000,"CTA PUENTE LEGALIZACION"]
[1105020000,"CAJA MENOR"]
[1110060100,"BOGOTA CTA AHORROS No8751"]
[1110060101,"BOGOTA CTA AHORROS No8751 INGRESOS"]
[1110060102,"BOGOTA CTA AHORROS No3317 PAGO CHEQUES"]
[1110060103,"BOGOTA CTA AHORROS No8751PAGOS TRANSFERENCIA"]
[1110060104,"BOGOTA CTA AHORROS No8751 NOTAS DB CR"]
[1110065100,"DAVIVIENDA CTA AH No5625"]
[1110065101,"DAVIVIENDA CTA AH No5625 INGRESOS"]
[1110065102,"DAVIVIENDA CTA AH No5625 PAGO CHEQUES"]
[1110065103,"DAVIVIENDA CTA AH No5625 PAGO TRANSFERENCIAS"]
[1110065104,"DAVIVIENDA CTA AH No5625 NOTAS DB CR"]
[1110065200,"DAVIVIENDA CTA AH No9197"]
[1110065201,"DAVIVIENDA CTA AH No9197 INGRESOS"]
[1110065202,"DAVIVIENDA CTA AH No9197 PAGO CHEQUES"]
[1110065203,"DAVIVIENDA CTA AH No9197 PAGO TRANSFERENCIAS"]
[1110065204,"DAVIVIENDA CTA AH No9197 NOTAS DB CR"]
[1133010000,"CERTIFICADOS DE DEPOSITO A TERMINO"]
[1133019900,"CERTIFICADOS DE DEPOSITO A TERMINO RENDIMIENTOS FI"]
[1201010000,"TITULOS DE TESORERIA"]
[1201060000,"CERTIFICADOS DE DEPOSITO A TERMINO"]
[1201069900,"CDT RENDIMIENTOS FINANCIEROS."]
[1201100000,"BONOS Y TITULOS EMITIDOS POR EL SECTOR PRIVADO"]
[1201400100,"BOCAS"]
[1201410100,"BONOS Y TÍTULOS EMITIDOS POR EL GOBIERNO GENERAL"]
[1201420100,"BONOS Y TÍTULOS EMITIDOS POR LAS EMPRESAS NO FINAN"]
[1201430100,"BONOS Y TÍTULOS EMITIDOS POR LAS ENTIDADES FINANCI"]
[1201440100,"CARTERAS COLECTIVAS"]
[1201450100,"TÍTULOS DE CAPITALIZACIÓN"]
[1201470100,"PAGARÉS"]
[1201900100,"OTRAS INVERSIONES EN TÍTULOS DE DEUDA"]
[1207250100,"APORTES EN ORGANISMOS INTERNACIONALES"]
[1207500100,"ENTIDADES DEL SECTOR SOLIDARIO"]
[1207510100,"ENTIDADES PRIVADAS"]
[1207530100,"ENTIDADES DEL EXTERIOR"]
[1207540100,"EMPRESAS INDUSTRIALES Y COMERCIALES DEL ESTADO SOC"]
[1207550100,"SOCIEDADES DE ECONOMÍA MIXTA"]
[1207560100,"SOCIEDADES PÚBLICAS"]
[1208260500,"ENTIDADES DEL EXTERIOR"]
[1208310500,"EMPRESAS INDUSTRIALES Y COMERCIALES DEL ESTADO SOC"]
[1208320100,"SOCIEDADES DE ECONOMÍA MIXTA"]
[1208330100,"SOCIEDADES PÚBLICAS"]
[1208510100,"ENTIDADES PRIVADAS"]
[1211010100,"TITULOS DE TESORERIA (TES)"]
[1211400100,"CERTIFICADOS DE DEPOSITO A TERMINO (CDT)"]
[1211400200,"CDT RENDIMIENTOS FINANCIEROS."]
[1211410100,"BONOS Y TITULOS EMITIDOS POR EL SECTO"]
[1211420100,"BONOS Y TÃ\u008dTULOS EMITIDOS POR EL G"]
[1211430100,"BONOS Y TITULOS E"]
[1211440100,"BONOS Y TITULOS EMIT"]
[1211450100,"OTROS CERTIFICADOS"]
[1211470100,"PAGARES"]
[1211900100,"OTRAS INVERSIONES EN TÃ\u008dTULOS DE DEUDA"]
[1227010100,"ENTIDADES PRIVADAS"]
[1227030100,"EMPRESAS INDUSTRIALES Y C"]
[1227040100,"SOCIEDADES DE ECONOMIA MIXTA"]
[1227050100,"SOCIEDADES PUBLICAS"]
[1305010100,"IMPUESTO SOBRE LA RENTA Y COMPLEMENTARIOS"]
[1305040100,"IMPUESTO AL VALOR AGREGADO - IVA"]
[1305050100,"RETENCIONES EN LA FUENTE"]
[1305070100,"IMPUESTO PREDIAL UNIFICADO"]
[1305080100,"IMPUESTO DE INDUSTRIA Y COMERCIO"]
[1305210100,"IMPUESTO DE AVISOS, TABLEROS Y VALLAS"]
[1305520100,"GRAVAMEN A LOS MOVIMIENTOS FINANCIEROS"]
[1305550100,"IMPUESTO AL PATRIMONIO"]
[1305750100,"OTROS IMPUESTOS NACIONALES"]
[1305800100,"OTROS IMPUESTOS DEPARTAMENTALES"]
[1305850100,"OTROS IMPUESTOS MUNICIPALES"]
[1305900100,"OTROS IMPUESTOS DISTRITALES"]
[1310010100,"IMPUESTO SOBRE LA RENTA Y COMPLEMENTARIOS"]
[1310040100,"IMPUESTO AL VALOR AGREGADO - IVA"]
[1310050100,"RETENCIONES EN LA FUENTE"]
[1310070100,"IMPUESTO PREDIAL UNIFICADO"]
[1310080100,"IMPUESTO DE INDUSTRIA Y COMERCIO"]
[1310200100,"IMPUESTO DE AVISOS, TABLEROS Y VALLAS"]
[1310550100,"IMPUESTO AL PATRIMONIO"]
[1310750100,"OTROS IMPUESTOS NACIONALES"]
[1310800100,"OTROS IMPUESTOS DEPARTAMENTALES"]
[1310850100,"OTROS IMPUESTOS MUNICIPALES"]
[1310900100,"OTROS IMPUESTOS DISTRITALES"]
[1311010100,"TASAS"]
[1311020100,"MULTAS"]
[1311030100,"INTERESES"]
[1311040100,"SANCIONES"]
[1311170100,"CUOTAS DE SOSTENIMIENTO"]
[1311280100,"CUOTA DE FISCALIZACION Y AUDITAJE"]
[1311900100,"OTRAS CONTRIBUCIONES, TASAS E"]
[1312010100,"SENA"]
[1312020100,"ICBF"]
[1312030100,"ESAP"]
[1313010100,"CUOTA DE FOMENTO"]
[1313010200,"CUOTA DE FOMENTO AJUSTE NICSP"]
[1313900100,"OTRAS CUENTAS POR COBRAR POR RENTAS"]
[1316010100,"PRODUCTOS AGROPECUARIOS"]
[1316060100,"BIENES COMERCIALIZADOS"]
[1317020100,"SERVICIOS DE TRANSPORTE"]
[1317190100,"ADMINISTRACION DE PROYECTOS"]
[1317900100,"OTROS SERVICIOS"]
[1318010100,"SERVICIO DE ENERGÃ\u008dA"]
[1318020100,"SERVICIO DE ACUEDUCTO"]
[1318030100,"SERVICIO DE ALCANTARILLADO"]
[1318040100,"SERVICIO DE ASEO"]
[1318050100,"SERVICIO DE GAS COMBUSTIBLE"]
[1318060100,"SERVICIO DE TELECOMUNICACIONES"]
[1384350100,"INTERESES DE MORA-RENTAS PARAFISCALES"]
[1384900100,"OTRAS CUENTAS POR COBRAR"]
[1384900200,"OTRAS CUENTAS POR COBRAR K"]
[1385170100,"RENTAS CUOTA FOMENTO AJUSTE NICSP"]
[1385170200,"RENTAS PARAFISCALES DIFICIL COBRO"]
[1385900100,"OTRAS CUENTOS POR COBRAR DE DIFICIL RECA"]
[1386160100,"DETERIORO RENTAS PARAFISCALES CUENTAS POR COBRAR"]
[1386160200,"DETERIORO AJUSTE NICSP"]
[1386160300,"DETERIORO INTERESES CUENTAS POR COBRAR"]
[1401010100,"TASAS"]
[1401020100,"MULTAS"]
[1401030100,"INTERESES"]
[1401040100,"SANCIONES"]
[1401380100,"CUOTAS DE SOSTENIMIENTO"]
[1401610100,"CUOTA DE FISCALIZACIÓN Y AUDITAJE"]
[1401900100,"OTROS DEUDORES POR INGRESOS NO TRIBUTARIOS"]
[1402010100,"SENA"]
[1402020100,"ICBF"]
[1402030100,"ESAP"]
[1403010100,"CUOTA DE FOMENTO"]
[1403010200,"CUOTA DE FOMENTO AJUSTE NICSP"]
[1403900100,"OTROS DEUDORES POR RENTAS PARAFISCALES"]
[1406010100,"PRODUCTOS AGROPECUARIOS, DE SILVICULTURA Y PESCA"]
[1406060100,"BIENES COMERCIALIZADOS"]
[1407020100,"SERVICIOS DE TRANSPORTE"]
[1407050100,"SERVICIOS FINANCIEROS"]
[1407070100,"SERVICIOS DE SEGUROS Y REASEGUROS"]
[1407220100,"ADMINISTRACIÓN DE PROYECTOS"]
[1407900100,"OTROS SERVICIOS"]
[1408010100,"SERVICIO DE ENERGÍA"]
[1408020100,"SERVICIO DE ACUEDUCTO"]
[1408030100,"SERVICIO DE ALCANTARILLADO"]
[1408040100,"SERVICIO DE ASEO"]
[1408050100,"SERVICIO DE GAS COMBUSTIBLE"]
[1408060100,"SERVICIO DE TELECOMUNICACIONES"]
[1415900100,"OTROS PRESTAMOS POR COBRAR"]
[1420120100,"ANTICIPO PARA ADQUISICIÓN DE BIENES Y SERVICIOS"]
[1420130100,"ANTICIPO A PROVEEDORES"]
[1420900100,"OTROS AVANCES Y ANTICIPOS"]
[1422010100,"ANTICIPO DE IMPUESTO SOBRE LA RENTA"]
[1422020100,"RETENCIÓN EN LA FUENTE"]
[1422030100,"SALDOS A FAVOR EN LIQUIDACIONES PRIVADAS"]
[1422040100,"ANTICIPO CONTRIBUCIÓN ESPECIAL"]
[1422101100,"IMPUESTO A LAS VENTAS"]
[1422110100,"ANTICIPO DE IMPUESTO DE INDUSTRIA Y COMERCIO"]
[1422500100,"IMPUESTO DE INDUSTRIA Y COMERCIO RETENIDO"]
[1422900100,"OTROS ANTICIPOS O SALDOS A FAVOR POR IMPUESTOS Y C"]
[1470900100,"OTROS DEUDORES"]
[1470900200,"OTROS DEUDORES K"]
[1475900100,"OTROS DEUDORES RECAUDO"]
[1510060100,"PRODUCTOS AGRÍCOLAS"]
[1510420100,"PRODUCTOS AGROPECUARIOS"]
[1525220100,"PRODUCTOS AGRÍCOLAS"]
[1525900100,"OTROS INVENTARIOS EN TRANSITO"]
[1530150100,"PRODUCTOS AGRICOLAS"]
[1530900100,"OTROS INVENTARIOS EN PODER DE TERCEROS"]
[1620030100,"MAQUINARIA Y EQUIPO"]
[1620900100,"MAQUINARIA Y EQUIPO EN MONTAJE"]
[1640140100,"INVERNADEROS"]
[1655080100,"EQUIPO AGRICOLA"]
[1665010100,"MUEBLES Y ENSERES"]
[1670010100,"EQUIPO DE COMUNICACION"]
[1670020100,"EQUIPO DE COMPUTACION"]
[1685010100,"EDIFICACIONES"]
[1685040100,"MAQUINARIA Y EQUIPO"]
[1685060100,"MUEBLES, ENSERES Y EQUIPO DE OFICINA"]
[1685070100,"EQUIPOS DE COMUNICACIÓN Y COMPUTACION"]
[1689010000,"AJUSTES NICSP PPROPIEDAD PLANTA Y EQUIPO"]
[1699010000,"AJUSTES NICSP DEPRECIACION"]
[1699999999,"CONTRAPARTIDA CIERRE ANUAL"]
[1906030100,"AVANCES PARA VIATICOS Y GASTOS DE VIAJE"]
[1906040100,"ANTICIPO ADQUISICION BIENES Y SERVICIOS"]
[1906040200,"ANTICIPO PARA ADQUISICIÃ“N DE BIENE"]
[1906900100,"OTROS AVANCES Y ANTICIPOS"]
[1906900200,"OTROS AVANCES Y ANTICIPOS NÓMINA"]
[1907010100,"ANTICIPO DE IMPUESTO SOBRE LA RENTA"]
[1907020100,"RETENCIÃ“N EN LA FUENTE"]
[1907030100,"SALDOS A FAVOR EN LIQUIDACIONES PRIVADAS"]
[1907040100,"ANTICIPO CONTRIBUCIÃ“N ESPECIAL"]
[1907050100,"SALDO A FAVOR DE IMPUESTO A LAS VENTAS"]
[1907060100,"ANTICIPO DE IMPUESTO DE INDUSTRIA Y COM"]
[1907090100,"IMPUESTO DE INDUSTRIA Y COMERCIO RETENIDO"]
[1907900100,"OTROS A"]
[1920010100,"BIENES MUEBLES ENTREGADOS EN ADMINISTRACION"]
[1920050100,"BIENES MUEBLES ENTREGADOS EN COMODATO"]
[1920900100,"OTROS BIENES ENTREGADOS A TERCEROS"]
[1925010100,"BIENES MUEBLES ENTREGADOS EN ADMINISTRACION"]
[1925050100,"BIENES MUEBLES ENTREGADOS EN COMODATO"]
[1925900100,"OTROS BIENES ENTREGADOS A TERCEROS"]
[1970070100,"LICENCIAS"]
[1970080100,"SOFTWARE"]
[1970900100,"OTROS INTANGIBLES"]
[1975070100,"LICENCIAS"]
[1975080100,"SOFTWARE"]
[1975900100,"OTROS INTANGIBLES"]
[2313010100,"PRESTAMOS BANCA COMERCIAL"]
[2401010200,"BIENES Y SERVICIOS"]
[2407090100,"CUOTA DE FOMENTO"]
[2407900100,"OTROS RECAUDOS A FAVOR DE TERCEROS"]
[2424010100,"APORTES A FONDOS PENSIONALES"]
[2424010101,"APORTES A FONDOS PENSIONALES"]
[2424020100,"APORTES A SEGURIDAD SOCIAL EN SALUD"]
[2424020101,"APORTES A SEGURIDAD SOCIAL EN SALUD"]
[2424050100,"COOPERATIVAS"]
[2424050200,"APORTES COOPERATIVAS"]
[2424050300,"LIBRANZAS COOPERATIVAS"]
[2424070100,"LIBRANZAS"]
[2424110100,"EMBARGOS JUDICIALES"]
[2425180100,"APORTES A FONDOS DE PENSIONES"]
[2425190100,"APORTES A SEGURIDAD SOCIAL"]
[2425200100,"APORTES AL ICBF SENA Y CAJA DE"]
[2425220000,"COOPERATIVAS"]
[2425220100,"APORTES COOPERATIVAS"]
[2425220200,"LIBRANZAS COOPERATIVAS"]
[2425320100,"RIESGOS PROFESIONALES"]
[2425350100,"LIBRANZAS"]
[2425900100,"OTROS ACREEDORES"]
[2425990100,"AJUSTES CUENTAS POR PAGAR"]
[2436010100,"SALARIOS Y PAGOS LABORALES"]
[2436030100,"RTE HONORARIOS Y COMISIONES 10%"]
[2436030200,"RTE HONORARIOS Y COMISIONES 11%"]
[2436050100,"RTE SERV 1%"]
[2436050200,"RTE SERV 2%"]
[2436050300,"RTE SERV 3.5%"]
[2436050400,"RTE SERV 4%"]
[2436050500,"RTE SERV 6%"]
[2436050600,"RTE SERV 2.5% HOTELES Y RESTAURANTES"]
[2436050700,"RTE SERV 3.5% HOTELES Y RESTAURANTES"]
[2436050800,"RTE SERV LICENCIAMIENTO 3.5%"]
[2436050900,"RTE SERVICIOS 2 %"]
[2436060100,"RTE ARRIENDO 4%"]
[2436060200,"RTE ARRIENDO 3,5%"]
[2436080100,"RTE COMPRAS 1%"]
[2436080200,"RTE COMPRAS 1.5%"]
[2436080300,"RTE COMPRAS 2.5%"]
[2436080400,"RTE COMPRAS 3.5%"]
[2436100100,"RTE PAGO AL EXTERIOR 20%"]
[2436150100,"RENTAS DE TRABAJO"]
[2436250100,"IVA RETENIDO REGIMEN SIMPLIFICA"]
[2436250200,"IVA RETENIDO REGIMEN SIMPL EXT"]
[2436250300,"IVA RETENIDO REGIMEN COMUN SERVICIO"]
[2436250400,"IVA RETENIDO RC COMPRAS"]
[2436250500,"IVA RETENIDO RC SERVICIOS"]
[2436250600,"IVA RETENIDO"]
[2436270100,"ICA 6.9 X 1000"]
[2436270200,"ICA 9.66 X 1000"]
[2436270300,"ICA 13.8 X 1000"]
[2436270400,"ICA 4.14 x 1000"]
[2436270500,"ICA 11.04 x 1000"]
[2436270600,"RTE ICA 10 X MIL ITAGUI ACTIV TRANSP DE CARGA"]
[2436270700,"RTE ICA 6 X MIL  ITAGUI COMPRAS A"]
[2436270800,"RTE ICA 9 X MIL ITAGUI EXPENDIO DE"]
[2436270900,"RTE ICA 8 X MIL ITAGUI SERV DE HOTELES"]
[2436271000,"RTE ICA 10 X MIL ITAGUI OTROS SERVICIOS"]
[2436271100,"RTE ICA 10 X MIL LA UNION SEV DE TRANSP DE CARGA"]
[2436271200,"RTE ICA 10 X MIL LA UNION COMPRAS EN GE"]
[2436271300,"RTE ICA 10 X MIL LA UNION SERVICIOS EN GENERAL"]
[2436271400,"RTE ICA 10 X MIL LA UNION SERV DE HOSPE"]
[2436271500,"RTE ICA 10 X MIL TAUSA  SEV DE TRANSP"]
[2436271600,"RTE ICA 6 X MIL TAUSA  PAPELERIA Y MI"]
[2436271700,"RTE ICA 8 X MIL TAUSA SERV DE REST Y CAF"]
[2436271800,"RTE ICA 10 X MIL TAUSA SERV DE HOTELES"]
[2436271900,"RTE ICA 5 X MIL TAUSA COMPRA DE INSUMO"]
[2436272000,"RTE ICA 10 X MIL TAUSA OTRAS ACT DE SE"]
[2436272100,"RTE ICA 5 X MIL VILLAPINZON COMRPA D"]
[2436272200,"RTE ICA 5 X MIL VILLAPINZON SERV"]
[2436272300,"RTE ICA 5 X MIL VILLAPINZON TRANSPORTE DE CARGA"]
[2436272400,"RTE ICA 5 X MIL VILLAPINZON SERV DE HO"]
[2436272500,"RTE ICA 5 X MIL VILLAPINZON COMP"]
[2436272600,"RTE ICA 5 X MIL VILLAPINZON ARRENDAMIENTO"]
[2436272700,"RTE ICA 5 X MIL VILLAPINZON OTRAS"]
[2436272800,"RTE ICA 7 X MIL SUBACHOQUE COMPRAS EN"]
[2436272900,"RTE ICA 8 X MIL SUBACHOQUE SERVICIOS"]
[2436273000,"RTE ICA 7 X MIL EL ROSAL COMPRAS EN GENE"]
[2436273100,"RTE ICA 8,5 X MIL EL ROSAL SERVICIOS"]
[2436273200,"RTE ICA 7 X MIL LA CALERA COMP DE"]
[2436273300,"RTE ICA 7 X MIL LA CALERA SERV DE"]
[2436273400,"RTE ICA 5 X MIL LA CALERA TRANSPORTE D"]
[2436273500,"RTE ICA 10 X MIL LA CALERA ALOJAMIIENTO Y RESTAURA"]
[2436273600,"RTE ICA 4 X MIL LA CALERA COMPRA DE PA"]
[2436273700,"RTE ICA 10X MIL LA CALERA ARRENDAMIENTOS"]
[2436273800,"RTE ICA 10 X MIL LA CALERA MANIPULA"]
[2436273900,"RTE ICA 7 X MIL TUNJA COMP DE INSUMOS"]
[2436274000,"RTE ICA 5 X MIL TUNJA  SERV DE REST"]
[2436274100,"RTE ICA 7 X MIL TUNJA TRANSPORTE DE CARGA"]
[2436274200,"RTE ICA 7 X MIL TUNJA ALOJAMIENTO EN HOTELES"]
[2436274300,"RTE ICA 10X MIL TUNJA COMPRA DE PAPELERIA"]
[2436274400,"RTE ICA 10 X MIL TUNJA ARRENDAMIENTOS"]
[2436274500,"RTE ICA 10 X MIL TUNJA OTRAS ACT DE SERVICIOS"]
[2436274600,"RET ICA 8 X MIL ZIPAQUIRA ACTIV COMERCIAL"]
[2436274700,"RET ICA 9 X MIL ZIPAQUIRA ACTIV SERVICIOS"]
[2436274800,"RET ICA 7 X MIL ZIPAQUIRA MANTENIMIENT COMPRA"]
[2436274900,"RET ICA 10 X MIL ZIPAQUIRA OTROS SERVICIOS"]
[2436275000,"RET ICA 7 X MIL ZIPAQUIRA ACTIV SERVICIOS"]
[2436275100,"RET ICA 8 X MIL ZIPAQUIRA SERVICIOS"]
[2436275200,"RET ICA 9 X MIL ZIPAQUIRA COMPRAS"]
[2436275300,"RET ICA 10 X MIL ZIPAQUIRA COMPRAS"]
[2436275400,"RETEICA ACT.SERVICIOS BTA 8.66 X MIL"]
[2436275500,"RETEICA ACT.SERVICIOS BTA 7.66 X MIL"]
[2436900100,"RETENCIONES CONTRATISTAS"]
[2436990100,"RETEFUENTE POR PAGAR"]
[2436990200,"RETE ICA POR PAGAR"]
[2445011600,"IVA GENERADO 16%"]
[2445011700,"IVA GENERADO 19%"]
[2445750100,"RTE IVA REGIMEN SIMPLIFICADO"]
[2445750200,"RTE IVA REGIMEN SIMPLIFICADO EXT"]
[2445750300,"RTE IVA REGIMEN COMUN"]
[2445750400,"RETE IVA REGIMEN SIMPLIFICADO"]
[2445750500,"RTE IVA REGIMEN SIMPLIFICADO EXT"]
[2445750600,"RTE IVA REGIMEN COMUN"]
[2490440100,"INTERESES DE MORA-RENTAS PARAFISCALES"]
[2490500100,"APORTES AL ICBF Y SENA"]
[2490900100,"OTRAS CUENTAS POR PAGAR"]
[2490900200,"CUOTA FOMENTO POR RECAUDAR"]
[2505010100,"NOMINA POR PAGAR"]
[2505010900,"CUENTA TECNICA NOMINA"]
[2505020100,"CESANTIAS"]
[2505030100,"INTERESES SOBRE LAS CESATIAS"]
[2505040100,"VACACIONES"]
[2505050100,"PRIMA DE VACACIONES"]
[2505060100,"PRIMA DE SERVICIOS"]
[2505080100,"INDEMNIZACIONES"]
[2505090100,"LICENCIAS"]
[2505120100,"BONIFICACIONES"]
[2511010100,"NOMINA POR PAGAR"]
[2511010200,"CUENTA TECNICA NOMINA"]
[2511020100,"CESANTIAS"]
[2511030100,"INTERESES SOBRE CESANTIAS"]
[2511040100,"VACACIONES"]
[2511050100,"PRIMA DE VACACIONES"]
[2511060100,"PRIMA DE SERVICIOS"]
[2511080100,"LICENCIAS"]
[2511090100,"BONIFICACIONES"]
[2511110100,"RIESGOS PROFESIONALES"]
[2513010100,"INDEMNIZACIONES"]
[2715010100,"CESANTIAS"]
[2715020100,"INTERESES SOBRE CESANTIAS"]
[2715030100,"VACACIONES"]
[2715040100,"PRIMA DE SERVICIOS"]
[2790908200,"GASTOS PROVISIONADOS"]
[2905080100,"CUOTA DE FOMENTO"]
[2910900100,"VENTAS"]
[2990900100,"OTROS PASIVOS DIFERIDOS"]
[3105060100,"CAPITAL FISCAL"]
[3105060200,"ADOP PRIMERA VEZ PPE"]
[3109010100,"UTILIDAD O EXCENDENTES ACUMULADOS"]
[3109020100,"PERDIDAS O DEFICITS ACUMULADOS"]
[3110010100,"UTILIDAD O EXCEDENTE DEL EJERCICIO"]
[3110010200,"EXCEDENTES"]
[3110020100,"PÉRDIDA O DÉFICIT DEL EJERCICIO"]
[3114010100,"RESERVAS DE LEY"]
[3145060100,"IMPACTOS POR TRANSICION NUEVO MARCO REGULATORIO"]
[3145150100,"ADOPCION PRIMERA VEZ CXP"]
[3215010100,"FONDO DE EMERGENCIA"]
[3225010100,"UTILIDAD O EXCEDENTES ACUMULADA"]
[3225020100,"PERDIDA O DEFICIT ACUMULADOS"]
[3230010100,"UTILIDAD O EXCEDENTES DEL EJERCICIO"]
[3230010900,"EXCEDENTES"]
[3230020100,"PERDIDA O DEFICIT DEL EJERCICIO"]
[4115030100,"CUOTA DE FOMENTO VIGENCIA ACTUAL"]
[4115030200,"CUOTA DE FOMENTO VIGENCIAS ANTERIORES"]
[4115030300,"CUOTA PARAFISCAL AJUSTE NICSP"]
[4115900100,"OTRAS RENTAS PARAFISCALES CARTERA RECUPERADA"]
[4195030100,"RENTAS PARAFISCALES"]
[4201010200,"AGRICOLAS"]
[4295030100,"PRODUCTOS AGROPECUARIOS DE SILVICULTURA Y PESCA"]
[4428900100,"OTRAS TRANSFERENCIAS"]
[4802010100,"INTERESES SOBRE DEPOSITOS EN"]
[4802200100,"GANANCIA POR BAJA EN CUENTAS DE CUENTAS POR PAGAR"]
[4802330100,"INTERESES DE MORA"]
[4802330200,"OTROS INTERESES DE MORA"]
[4802900100,"INTERESES RENTAS PARFISCALES POR DETERIORO"]
[4805130100,"INTERESES DE MORA"]
[4805220100,"INTERESES SOBRE DEPÓSITOS INSTITUCIONES FINANCIERA"]
[4808250100,"SOBRANTES"]
[4808260100,"RECUPERACIONES"]
[4808260200,"INCAPACIDADES"]
[4808270100,"APROVECHAMIENTOS"]
[4808280100,"INDEMNIZACIONES"]
[4808530100,"DERECHOS DE SUSTITUCION DE ACTIVOS DETERIORADOS PO"]
[4808630100,"RECUPERACIONES"]
[4808630200,"INCAPACIDADES"]
[4808900100,"TRASLADO RECURSOS FONDOS PARAFISCALES"]
[4808900200,"OTROS INGRESOS DIVERSOS"]
[4810070100,"SOBRANTES"]
[4810080100,"RECUPERACIONES"]
[4810080200,"INCAPACIDADES"]
[4810320100,"UTILIDAD EN VENTA DE PROPUIEDAD PLANTA Y EQUIPO"]
[4810470100,"APROVECHAMIENTOS"]
[4810490100,"INDEMNIZACIONES"]
[4810900100,"TRASLADO RECURSOS FONDOS PARAFISCALES"]
[4815540100,"CUOTA PARAFISCAL"]
[4830020100,"REVERSION DE PERDIDAS DETERIORO CUENTAS POR COBRAR"]
[4831900100,"PROVISIONES DIVERSAS"]
[5101010100,"SUELDOS DEL PERSONAL"]
[5101010200,"APOYO DE SOSTENIMIENTO"]
[5101090100,"HONORARIOS"]
[5101170100,"VACACIONES"]
[5101230100,"AUXILIO DE TRANSPORTE"]
[5101240100,"CESANTÍAS"]
[5101250100,"INTERESES A LAS CESANTÍAS"]
[5101300100,"CAPACITACION Y DIVULGACION"]
[5101310100,"DOTACION Y SUMINISTRO A TRABAJADORES"]
[5101450100,"SALARIO INTEGRAL"]
[5101520100,"PRIMA DE SERVICIOS"]
[5102010100,"INCAPACIDADES"]
[5102030100,"INDEMNIZACIONES"]
[5103020100,"APORTES A CAJAS DE COMPENSA"]
[5103030100,"COTIZACIONES A SEGURIDAD SOCIAL"]
[5103050100,"COTIZACIONES A RIESGOS LABORALES"]
[5103070100,"COTIZACIONES A ENTIDADES ADMINISTRADORAS DEL REGIM"]
[5104010100,"APORTES AL ICBF"]
[5104020100,"APORTES AL SENA"]
[5107010100,"VACACIONES"]
[5107020100,"CESANTIAS"]
[5107030100,"INTERESES A LAS CESANTIAS"]
[5107060100,"PRIMA DE SERVICIOS"]
[5108020100,"HONORARIOS"]
[5108030100,"CAPACITACION, BIENESTAR SOCIAL Y ESTIMULO"]
[5108040100,"DOTACION Y SUMINISTRO A TRABAJADORES"]
[5111060100,"ASC SISTEMATIZACION Y CONTROL A LA EVASION Y ELUSI"]
[5111060200,"AE INVESTIGACIONES ECONOMICAS"]
[5111060300,"AT ASISTENCIA TECNICA"]
[5111060400,"AM ATL"]
[5111060500,"AM BTL"]
[5111060600,"AM DIGITAL"]
[5111060700,"ESTUDIOS ECONOMICOS"]
[5111060701,"ESTUDIOS CONSUMO"]
[5111060702,"ESTUDIOS ASOCIATIVIDAD"]
[5111060703,"ESTUDIOS TRANSFORMACION"]
[5111060704,"ESTUDIOS ITPA"]
[5111060800,"AT ASISTENCIA TECNICA VERTICILLIUM"]
[5111060900,"AT ASISTENCIA TECNICA MEJORAMIENTO GENETICO"]
[5111061100,"AT ASISTENCIA TECNICA  PMP"]
[5111061200,"AT ASISTENCIA TECNICA ESTRES"]
[5111061300,"AT ASISTENCIA TECNICA SEMILLA"]
[5111063601,"AE INVESTIGACIONES ECONOMICAS"]
[5111130100,"VIGILANCIA Y SEGURIDAD"]
[5111140300,"MATERIALES Y SUMINISTROS"]
[5111150100,"MANTENIMIENTO"]
[5111170100,"ENERGIA"]
[5111170200,"ACUEDUCTO Y ALCANTARILLADO"]
[5111170300,"TELEFONO"]
[5111180100,"ARRENDAMIENTOS"]
[5111190100,"VIATICOS Y GASTOS DE VIAJE"]
[5111210100,"IMPRESOS"]
[5111210200,"PUBLICACIONES"]
[5111210300,"IMPRESOS PUBLICACIONES SUSCRIPCIONES Y AFILIACIONES"]
[5111230100,"CORREO"]
[5111230200,"TRANSPORTES"]
[5111230201,"TRANSPORTES FLETES Y ACARREOS"]
[5111250100,"SEGUROS GENERALES"]
[5111270100,"PROMOCION Y DIVULGACION"]
[5111400100,"CONTRAPRESTACION"]
[5111400200,"COMISION  DE FOMENTO"]
[5111490100,"SERVICIOS DE ASEO"]
[5111550200,"VIGILANCIA"]
[5111550300,"CAFETERIA"]
[5111590100,"LICENCIAS"]
[5111640100,"GASTOS LEGALES"]
[5111650100,"INTANGIBLES"]
[5111700100,"MUEBLES, EQUIPOS DE OFICINA Y SOFTWARE"]
[5111710100,"EQUIPO DE LABORATORIO Y CAMPO"]
[5111790100,"HONORARIOS"]
[5111900100,"JUNTA DIRECTIVA"]
[5111900200,"COMPRA BASE DE DATOS"]
[5120020100,"CUOTA DE FISCALIZACIÓN Y AUDITAJE"]
[5120090100,"INDUSTRIA Y COMERCIO"]
[5120240100,"GRAVAMEN A LOS MOVIMIENTOS FINANCIEROS"]
[5120300100,"IMPUESTO NACIONAL AL CONSUMO"]
[5307110100,"PERDIDA EN BAJA DE PROPIEDADES LICENCIAS SOFWARE"]
[5330060100,"MUEBLES Y ENSERES ADMON"]
[5330070100,"EQUIPO DE COMUNICACION Y COMPUTACION"]
[5331020100,"MAQUINARIA Y EQUIPO"]
[5344010100,"BIENES MUEBLES ENTREGADOS EN ADMINISTRACION"]
[5344050100,"BIENES MUEBLES ENTREGADOS EN COMODATO"]
[5344900100,"OTROS BIENES ENTREGADOS A TERCEROS"]
[5345080100,"SOFTWARE, LICENCUAS"]
[5347160100,"DETERIORO CUENTAS POR COBRAR RENTAS PARAFISCALES"]
[5347160200,"DETERIORO AJUSTE NICSP"]
[5347160300,"DETERIORO CUENTAS POR COBRAR INTERESES"]
[5347900100,"DETERIORO OTRAS CUENTAS POR COBRAR"]
[5351080100,"DETERIORO DE PROPIEDADES,MAQUINARIA Y EQUIPO"]
[5357060100,"LICENCIAS"]
[5357070100,"SOFTWARES"]
[5360010100,"EDIFICACIONES"]
[5360040100,"MAQUINARIA Y EQUIPO"]
[5360060100,"MUEBLES ENSERES Y EQUIPO DE OFICINA"]
[5360070100,"EQUIPOS DE COMUNICACION Y COMPUTACION"]
[5366050100,"LICENCIAS"]
[5366060100,"SOFTWARE"]
[5802380101,"COMISIONES Y OTROS GASTOS BANCARIOS"]
[5802400100,"COMISIONES SERVICIOS FINANCIEROS"]
[5810330100,"PERDIDA EN BAJA DE PROPIEDADES PLANTA Y EQUIPO"]
[5810900101,"AJUSTE AL PESO"]
[5810900102,"GASTOS GENERALES"]
[5890900100,"AJUSTE AL PESO"]
[5890900200,"GASTOS GENERALES"]
[5905010100,"CIERRE DE INGRESOS, GASTOS Y COSTOS"]
[6210050100,"AGROPECUARIOS"]
[6210400100,"PRODUCTOS AGROPECUARIOS"]
[8306170100,"PROPIEDAD, PLANTA Y EQUIPO"]
[8312900100,"OTROS DOCUMENTOS ENTREGADOS PARA SU COBRO"]
[8315060100,"MUEBLES-ENSERES Y EQUIPO DE OFICINA"]
[8315070100,"EQUIPO DE COMPUTO"]
[8315080100,"LICENCIAS"]
[8315101100,"MUEBLES Y ENSERES"]
[8315101200,"EQUIPO DE COMUNICACION Y COMPUTACION"]
[8390900100,"CUENTAS DEUDORAS DE CONTROL DE CARTERA"]
[8390900200,"CUENTAS DEUDORAS DE CONTROL CUOTA DE FOMENTO"]
[8390900300,"CUENTAS DEUDORAS DE CONTROL INT DE MORA"]
[8915040100,"DOCUMENTOS ENTREGADOS PARA"]
[8915060100,"MUEBLES ENSERES Y QUIPOS DE O"]
[8915060200,"EQUIPO DE COMUNICACION Y COMP"]
[8915060300,"LICENCIAS"]
[8915060400,"MUEBLES, ENSERES Y EQUIPO OFIC"]
[8915060500,"EQUIPO COMPUTO Y COMUNICACIO"]
[8915900100,"DEUDORAS DE CONTROL CREDITO"]
[8915900200,"DEUDORAS DE CONTROL CR CUOTA DE FOMENTO"]
[8915900300,"DEUDORAS DE CONTROL CR INT DE MORA"]
[9390110100,"CONTRATOS PENDIENTES DE EJECUCION"]
[9915900100,"OTRAS CUENTAS ACREEDORAS DE CONTROL"]
[9999999998,"DESGLOSE DE DOCUMENTOS SALDO CERO"]
[9999999999,"SALDOS INICIALES PRESUPUESTO"]

{"sheet":"SOLICITUDES 2025","index":2,"n_rows":137,"n_cols":29,"rows_kept":137,"cut":false,"hidden":false,"merged":[[7,12,8,12],[7,13,8,13],[7,14,8,14],[7,7,8,7],[7,8,8,8],[7,9,8,9],[7,10,8,10],[7,11,8,11],[1,4,1,19],[2,4,2,19],[3,4,3,19],[4,4,4,19],[5,4,5,19],[130,13,136,13],[121,13,128,13],[7,15,8,15],[7,16,8,16],[7,17,8,17],[7,26,8,26],[9,20,9,27],[19,20,19,27],[9,3,9,18],[19,3,19,18],[7,3,8,3],[7,5,8,5],[7,6,8,6]]}
[]
[null,null,null,null,"DIRECCION DE CADENAS AGRICOLAS Y FORESTALES"]
[null,null,null,null,"PROGRAMA DE SEGUIMIENTO Y EVALUACION FONDOS PARAFISCALES"]
[null,null,null,null,"CUADRO CONTROL DE APROPIACION 2025"]
[null,null,null,null,"FONDO NACIONAL DE FOMENTO DE LA PAPA"]
[]
[]
[null,null,null,"CUENTAS","APROP","Acuerdo 02","Acuerdo 03","Acuerdo 04","Traslado 01","Traslado 02","Acuerdo 05","Acuerdo 06","Traslado 03","Traslado 04","Septiembre","Octubre","Noviembre","Diciembre","APROP DEF",null,"EJECUCIÓN","EJECUCIÓN","EJECUCIÓN","EJECUCIÓN","AJUSTE","TOTAL","SALDO","%"]
[null,null,null,null,"AÑO 2025",null,null,null,null,null,null,null,null,null,null,null,null,null,"AÑO 2025",null,"1ER TRIM","2DO TRIM","3ER TRIM","4TO TRIM","AÑO","EJECUTADO",null,"EJECUCIÓN"]
[null,null,null,"INGRESOS",null,null,null,null,null,null,null,null,null,null,null,null,null,null,null,null,"INGRESOS"]
[null,null,null,"INGRESOS OPERACIONALES",22505267483.490921,1120084209.2,0,0,0,0,0,0,0,0,0,0,0,0,23625351692.690922,null,2893326623,3357547358,4177471592,6242082019,3889925706,20560353298,3064998394.6909218,0.87026654948636584]
[null,null,4115030100,"Cuota de Fomento",13694112651,0,0,0,0,0,0,0,0,0,0,0,0,0,13694112651,null,2757209401,2489448939,2238425923,2532991223,0,10018075486,3676037165,0.73156076200880671]
[null,null,4115030200,"Cuota de Fomento vigencias anteriores",365088276,0,0,0,0,0,0,0,0,0,0,0,0,0,365088276,null,83167145,150633748,375624522,296955430,0,906380845,-541292569,2.482634761462458]
[null,null,4802330100,"Intereses por Mora",472940316,0,0,0,0,0,0,0,0,0,0,0,0,0,472940316,null,52950077,82098520,249130912,158507008,0,542686517,-69746201,1.1474735788860089]
[null,null,1,"Superávit Vigencias anteriores",7973126240.490921,1120084209.2,0,0,0,0,0,0,0,0,0,0,0,0,9093210449.6909218,null,0,635366151,1314290235,3253628358,3889925706,9093210450,-0.30907821655273438,1.0000000000339899]
[null,null,null,"INGRESOS NO OPERACIONALES",544227620,0,0,0,0,0,0,0,0,0,0,0,0,0,544227620,null,138166624,206103434,183607831,146512269,0,674390158,-130162538,1.2391692983167595]
[null,4808270100,4808630100,"Otros Ingresos",29984620,0,0,0,0,0,0,0,0,0,0,0,0,0,29984620,null,418900,21457861,-980294,19860735,0,40757202,-10772582,1.3592702525494738]
[null,null,4802010100,"Ingresos Financieros",514243000,0,0,0,0,0,0,0,0,0,0,0,0,0,514243000,null,137747724,184645573,184588125,126651534,0,633632956,-119389956,1.2321664193776094]
[null,null,null,"TOTAL INGRESOS",23049495103.490921,1120084209.2,0,0,0,0,0,0,0,0,0,0,0,0,24169579312.690922,null,3031493247,3563650792,4361079423,6388594288,3889925706,21234743456,2934835856.6909218,0.87857315103743228]
[null,null,null,"EGRESOS",null,null,null,null,null,null,null,null,null,null,null,null,null,null,null,null,"EGRESOS"]
[null,null,null,"FUNCIONAMIENTO:",3598384069,0,58826869,0,0,0,0,0,0,0,0,0,0,0,3657210938,null,729282133,938599401,697560925,767126945,0,3132569404,524641534,0.85654600106634593]
[null,null,null,"SERVICIOS PERSONALES",1850121000,0,62267000,0,0,0,0,0,0,0,0,0,0,0,1912388000,null,421135272,461743178,474158102,473600650,0,1830637202,81750798,0.95725198129249922]
[null,null,5101010100,"Sueldos",1193782000,0,39579000,0,0,0,0,0,-33000,0,0,0,0,0,1233328000,null,270888432,295605967,305896063,301851800,0,1174242262,59085738,0.95209243769702789]
[null,null,5101230100,"Auxilio de Transporte",6137000,0,1011000,0,0,0,0,0,0,0,0,0,0,0,7148000,null,1113334,1760000,1600000,1506666,0,5980000,1168000,0.83659764969222161]
[null,null,5107010100,"Vacaciones",49752000,0,1648000,0,0,0,0,0,0,0,0,0,0,0,51400000,null,11838448,12741159,12796124,12695617,0,50071348,1328652,0.97415073929961093]
[null,null,5107060100,"Prima legal",100009000,0,3376000,0,0,0,0,0,0,0,0,0,0,0,103385000,null,23442707,25628986,25725583,25516807,0,100314083,3070917,0.97029630023697833]
[null,null,5107020100,"Cesantías",100009000,0,3376000,0,0,0,0,0,0,0,0,0,0,0,103385000,null,23442707,25628983,25725584,25516787,0,100314061,3070939,0.97029608744015095]
[null,null,5107030100,"Intereses de cesantías",11974000,0,403000,0,0,0,0,0,0,0,0,0,0,0,12377000,null,645589,2129850,3574710,5000478,0,11350627,1026373,0.91707416983113843]
[null,null,5103030100,"Aportes a salud",101482000,0,3363000,0,0,0,0,0,0,0,0,0,0,0,104845000,null,23768463,25994817,26107520,25901248,0,101772048,3072952,0.97069052410701506]
[null,null,5103070100,"Aporte a pension",143270000,0,4751000,0,0,0,0,0,0,0,0,0,0,0,148021000,null,33556392,36700317,36859120,36566148,0,143681977,4339023,0.97068643638402663]
[null,null,5103050100,"Aportes a riesgos liberales",31755000,0,1055000,0,0,0,0,0,33000,0,0,0,0,0,32843000,null,7258500,7988400,8162900,8071500,0,31481300,1361700,0.95853911031269978]
[null,null,5103020100,"Caja de compensación",49752000,0,1648000,0,0,0,0,0,0,0,0,0,0,0,51400000,null,11189400,12248799,12313798,13763799,0,49515796,1884204,0.96334233463035024]
[null,null,5104010100,"Aportes ICBF",37313000,0,1242000,0,0,0,0,0,0,0,0,0,0,0,38555000,null,8393800,9188500,9237100,10325200,0,37144600,1410400,0.96341849306185967]
[null,null,5104020100,"Aportes SENA",24886000,0,815000,0,0,0,0,0,0,0,0,0,0,0,25701000,null,5597500,6127400,6159600,6884600,0,24769100,931900,0.96374071047819154]
[null,null,null,"GASTOS GENERALES",1748263069,0,-3440131,0,0,0,0,0,0,0,0,0,0,0,1744822938,null,308146861,476856223,223402823,293526295,0,1301932202,442890736,0.7461686648229976]
[null,null,5111790100,"Honorarios",368281080,0,-1028160,0,0,0,0,0,0,0,0,0,0,0,367252920,null,50696010,69254950,60609700,82595250,0,263155910,104097010,0.71655226049666265]
[null,null,5108040100,"Dotación y suministro",6047046,0,-30424,0,0,0,0,0,0,0,0,0,0,0,6016622,null,3989090,1912600,0,0,0,5901690,114932,0.98089758671892635]
[null,5111590100,5111700100,"Muebles, enseres y equipo de oficina",346284184,0,-106970,0,0,0,0,0,0,0,0,0,0,0,346177214,null,67759120,55602022,55638578,58428205,0,237427925,108749289,0.6858565942471303]
[null,null,5111710100,"Equipo de laboratorio y campo",0,0,0,0,0,0,0,0,0,0,0,0,0,0,0,null,0,0,0,0,0,0,0,0]
[null,null,5111210300,"Impresos y publicaciones",0,0,0,0,0,0,0,0,0,1200000,0,0,0,0,1200000,null,0,0,0,1144400,0,1144400,55600,0.95366666666666666]
[null,null,5111140300,"Materiales y suministros ",18542335,0,-139895,0,0,0,0,0,0,0,0,0,0,0,18402440,null,5761847,1873088,1634613,6462762,0,15732310,2670130,0.85490348019067042]
[null,null,5111230100,"Comunicaciones y transporte - correo",54800000,0,0,0,0,0,0,0,0,0,0,0,0,0,54800000,null,8630165,3236503,3038727,2790375,0,17695770,37104230,0.32291551094890508,"***"]
[null,null,5111230200,"Transportes fletes y acarreos",4378047,0,0,0,0,0,0,0,0,0,0,0,0,0,4378047,null,1041470,616780,263700,1692345,0,3614295,763752,0.82554961150485595]
[null,null,5101300200,"Capacitación",80000000,0,0,0,0,0,0,0,0,0,0,0,0,0,80000000,null,71352475,3490815,4040920,1000590,0,79884800,115200,0.99856]
[null,null,5101300100,"Divulgación",8824072,0,-66588,0,0,0,0,0,0,0,0,0,0,0,8757484,null,0,7886886,865069,0,0,8751955,5529,0.99936865428472377]
[null,null,5111150100,"Mantenimiento",333897989,0,-69245,0,2423416,0,0,0,0,0,0,0,0,0,336252160,null,2234322,236031226,-19144486,37602714,0,256723776,79528384,0.76348587916877619]
[null,null,5111640100,"Seguros, impuestos y gastos legales",16147510,0,-122623,0,0,0,0,0,0,0,0,0,0,0,16024887,null,3990400,2643540,109500,0,0,6743440,9281447,0.42081045563691027]
[null,5802400100,5120240100,"Comisiones y gastos bancarios",120000000,0,0,0,0,0,0,0,0,0,0,0,0,0,120000000,null,21109458,21920824,22327841,39268127,0,104626250,15373750,0.87188541666666663]
[null,null,5111190100,"Viáticos y Gastos de viaje",196245520,0,-538224,0,0,0,0,0,0,0,0,0,0,0,195707296,null,26118065,53064028,36522847,17063189,0,132768129,62939167,0.67840152980295632]
[5111170100,5111170200,5111170300,"Servicios públicos",21611538,0,-163122,0,0,0,0,0,0,0,0,0,0,0,21448416,null,5060992,5255030,5142378,5142378,0,20600778,847638,0.96048015853478408]
[null,null,5111180100,"Arriendos ",49369668,0,-372612,0,0,0,0,0,0,0,0,0,0,0,48997056,null,12249261,12249261,12249261,12249261,0,48997044,12,0.99999975508732608]
[null,null,5120020100,"Cuota de fiscalización y auditaje",40543000,0,-306000,0,0,0,0,0,0,-1200000,0,0,0,0,39037000,null,0,0,33365649,0,0,33365649,5671351,0.85471857468555468]
[null,null,5111900100,"Gastos del máximo órgano de dirección",83291080,0,-496268,0,-2423416,0,0,0,0,0,0,0,0,0,80371396,null,28154186,1818670,6738526,28086699,0,64798081,15573315,0.8062331155726099]
[null,null,null,"CUOTA DE ADMINISTRACIÓN",1405920093,0,0,0,0,0,0,0,0,0,0,0,0,0,1405920093,null,284037655,264008269,261405044,282994665,0,1092445633,313474460,0.77703252015475677]
[null,null,5111400100,"Contraprestación ",1405920093,0,0,0,0,0,0,0,0,0,0,0,0,0,1405920093,null,284037655,264008269,261405044,282994665,0,1092445633,313474460,0.77703252015475677]
[null,null,null,"INVERSIÓN:",13172890291,0,103107744.03999999,0,0,0,0,1546958011,0,0,0,0,0,0,14822956046.040001,null,1417460673,2361043122,3402113454,5338472678,0,12519089927,2303866119.04,0.84457444845115859]
[null,null,null,"SERVICIOS PERSONALES",3634478000,0,122181000,-24000000,0,0,-700000,0,0,0,0,0,0,0,3731959000,null,809555701,945059793,939997472,930816064,0,3625429030,106529970,0.97145467836061439]
[null,null,5101010100,"Sueldos",2340090000,0,77596000,-24000000,0,-1200000,-700000,0,0,0,0,0,0,0,2391786000,null,522806832,609594556,601200660,583328787,0,2316930835,74855165,0.96870323473755593]
[null,null,5101230100,"Auxilio de Transporte",10225000,0,1683000,0,0,1200000,0,0,0,0,0,0,0,0,13108000,null,2413333,3000000,3593334,3006667,0,12013334,1094666,0.9164887091852304]
[null,null,5107010100,"Vacaciones",96847000,0,3221000,0,0,0,0,0,0,0,0,0,0,0,100068000,null,22292452,25375358,25185525,25543758,0,98397093,1670907,0.9833022844465763]
[null,null,5107060100,"Prima legal",194528000,0,6562000,0,0,0,0,0,0,0,0,0,0,0,201090000,null,44077236,51000718,51240095,51175301,0,197493350,3596650,0.98211422746034116]
[null,null,5107020100,"Cesantías",194528000,0,6562000,0,0,0,0,0,0,0,0,0,0,0,201090000,null,44036103,51000716,51240093,51175273,0,197452185,3637815,0.98190951812621219]
[null,null,5107030100,"Intereses de cesantías",22969000,0,785000,0,0,0,0,0,0,0,0,0,0,0,23754000,null,1154116,4164809,7089640,10145916,0,22554481,1199519,0.94950244169403053]
[null,null,5103030100,"Aportes a salud",199578000,0,6628000,0,0,0,0,0,0,0,0,0,0,0,206206000,null,44668604,52232636,51869498,51821547,0,200592285,5613715,0.97277618013054912]
[null,null,5103070100,"Aporte a pension",278883000,0,9254000,0,0,0,0,0,0,0,0,0,0,0,288137000,null,63062425,73073401,73171728,73161117,0,282468671,5668329,0.98032766010613004]
[null,null,5103050100,"Aportes a riesgos liberales",78914000,0,2636000,0,0,0,0,0,0,0,0,0,0,0,81550000,null,17740600,20693300,20471000,19944100,0,78849000,2701000,0.96687921520539544]
[null,null,5103020100,"Caja de compensación",96847000,0,3221000,0,0,0,0,0,0,0,0,0,0,0,100068000,null,21020400,24406899,24411999,27333898,0,97173196,2894804,0.97107163129072227]
[null,null,5104010100,"Aportes ICBF",72637000,0,2426000,0,0,0,0,0,0,0,0,0,0,0,75063000,null,15767700,18308100,18312100,20505500,0,72893400,2169600,0.97109627912553453]
[null,null,5104020100,"Aportes SENA",48432000,0,1607000,0,0,0,0,0,0,0,0,0,0,0,50039000,null,10515900,12209300,12211800,13674200,0,48611200,1427800,0.97146625632007033]
[null,null,null,"GASTOS GENERALES",3853634916,0,-7189967.9600000056,24000000,0,0,700000,78111000,0,0,0,0,0,0,3949255948.04,null,437645091,901094380,797534231,795432666,0,2931706368,1017549580.04,0.74234397733957813]
[null,null,5111790100,"Honorarios",1487732308,0,-4685528,24000000,0,0,0,78111000,0,0,0,0,0,0,1585157780,null,108246018,262022545,345060047,397217662,0,1112546272,472611508,0.70185207178556064]
[null,null,5108040100,"Dotación y suministro a trabajadores",10078410,0,-45636,0,0,0,700000,0,0,0,0,0,0,0,10732774,null,5938670,3858522,765440,0,0,10562632,170142,0.98414743476383648]
[null,null,5111700100,"Muebles, enseres y equipo de oficina",170848433,0,-217600,0,0,0,0,0,0,0,0,0,0,0,170630833,null,78038012,18779538,5976168,22652783,0,125446501,45184332,0.73519245492987773]
[null,null,5111710100,"Equipo de laboratorio y campo",166120000,0,0,0,0,0,0,0,0,0,0,0,0,0,166120000,null,0,63938700,0,13600,0,63952300,102167700,0.38497652299542501]
[null,null,5111210300,"Impresos, publicaciones, suscripciones y afiliaciones",13400000,0,0,0,0,0,0,0,0,0,0,0,0,0,13400000,null,0,0,0,0,0,0,13400000,0,"**"]
[null,null,5111140300,"Materiales y suministros (insumos agrícolas y pecuarios)",134173093,0,-7248,0,0,0,0,0,0,0,0,0,0,0,134165845,null,22289776,81268519,11098829,3900429,0,118557553,15608292,0.88366419188132417]
[null,null,5111230100,"Comunicaciones y transporte - correo",15889671,0,-47475,0,0,0,0,0,0,0,0,0,0,0,15842196,null,767973,2448850,7335750,1502910,0,12055483,3786713,0.76097297369632344]
[null,null,5111230200,"Transportes fletes y acarreos",97605493,0,-505659,0,0,0,0,0,0,0,0,0,0,0,97099834,null,23957649,16082778,3076606,13276072,0,56393105,40706729,0.58077447382659786]
[null,null,5101300200,"Capacitación",0,0,0,0,0,0,0,0,0,0,0,0,0,0,0,null,0,0,0,0,0,0,0,0]
[null,null,5101300100,"Divulgación",922453614,0,-1212467,0,0,0,0,0,0,0,0,0,0,0,921241147,null,65161460,258713767,253113611,169564759,0,746553597,174687550,0.81037804209151332]
[null,null,5111150100,"Mantenimiento",40941485,0,-92918,0,0,0,0,0,0,0,0,0,0,0,40848567,null,1196599,4788200,7038249,21293973,0,34317021,6531546,0.84010342394630388,"***"]
[null,null,5111640100,"Seguros, impuestos y gastos legales",4794332,0,-28740.959999999999,0,0,0,0,0,0,0,0,0,0,0,4765591.04,null,0,1892082,0,0,0,1892082,2873509.04,0.39702987187083516]
[null,5802400100,5120240100,"Comisiones y gastos bancarios",0,0,0,0,0,0,0,0,0,0,0,0,0,0,0,null,0,0,0,0,0,0,0,0]
[null,null,5111190100,"Viáticos y Gastos de viaje",689719041,0,-346696.00000000559,0,0,0,0,0,0,0,0,0,0,0,689372345,null,118500426,173864652,148694717,147510440,0,588570235,100802110,0.85377697447378742]
[5111170100,5111170200,5111170300,"Servicios públicos",83079036,0,0,0,-14000000,0,0,0,0,0,0,0,0,0,69079036,null,11018399,10938418,12801393,16952980,0,51711190,17367846,0.74858007572659235]
[null,null,5111490100,"Servicios de aseo, vigilancia y seguridad",10800000,0,0,0,14000000,0,0,0,0,0,0,0,0,0,24800000,null,1030109,997809,1073421,1047058,0,4148397,20651603,0.16727407258064517,"***"]
[null,null,5111180100,"Arriendos ",6000000,0,0,0,0,0,0,0,0,0,0,0,0,0,6000000,null,1500000,1500000,1500000,500000,0,5000000,1000000,0.83333333333333337]
[null,null,5120020100,"Cuota de Auditaje C.G.R.",0,0,0,0,0,0,0,0,0,0,0,0,0,0,0,null,0,0,0,0,0,0,0,0]
[null,null,5111900100,"Gastos Junta Directiva",0,0,0,0,0,0,0,0,0,0,0,0,0,0,0,null,0,0,0,0,0,0,0,0]
[null,null,null,"ESTUDIOS Y PROYECTOS",5684777375,0,-11883288,0,0,0,0,1468847011,0,0,0,0,0,0,7141741098,null,170259881,514888949,1664581751,3612223948,0,5961954529,1179786569,0.83480406909032423]
[null,null,null,"Programa 1  - Investigación y transferencia de tecnología",2911167520,0,-780634,0,0,0,0,0,0,0,0,0,0,0,2910386886,null,141882167,137145013,1008000355,1554813600,0,2841841135,68545751,0.97644789037164459]
[null,null,5111060704,"Proyecto No 1 - Implementación y Transferencia de Tecnología en el Sector Productivo Papa – ITPA",384730000,0,-88000,0,0,0,0,0,0,0,0,0,0,0,384642000,null,137164300,84243000,125495250,12500000,0,359402550,25239450,0.93438197076762286]
[null,null,28,"Insumos agrícolas",84000000,0,0,0,0,0,0,0,0,0,0,0,0,0,84000000,null,59068800,0,5183250,0,0,64252050,19747950,0.76490535714285712]
[null,null,29,"Análisis de suelo ITPA",239070000,0,0,0,0,0,0,0,0,0,0,0,0,0,239070000,null,71095500,71743000,95312000,0,0,238150500,919500,0.99615384615384617]
[null,null,30,"Trampas Tecia solanivora (feromonas e implementos)  ",11660000,0,-88000,0,0,0,0,0,0,0,0,0,0,0,11572000,null,7000000,0,0,0,0,7000000,4572000,0.6049083995852057]
[null,null,31,"Estudio para el análisis de la vulnerabilidad por riesgo climatico en el cultivo de papa en Colombia. ",50000000,0,0,0,0,0,0,0,0,0,0,0,0,0,50000000,null,0,12500000,25000000,12500000,0,50000000,0,1]
[null,null,5111060900,"Proyecto No 2 - Mejoramiento Genético de Papa Tetraploide como Estrategia de Sostenibilidad para el Sistema Productivo en Colombia",106437520,0,-692634,0,0,0,0,0,0,0,0,0,0,0,105744886,null,2715867,52902013,18505105,4311600,0,78434585,27310301,0.74173407307848438]
[null,null,21,"Insumos de laboratorio y campo de investigación para patógenos de suelo. ",14000000,0,0,0,0,0,0,0,0,0,0,0,0,0,14000000,null,0,4976539,1225105,4212600,0,10414244,3585756,0.74387457142857139]
[null,null,22,"Insumos agrícolas lotes de pruebas",69502080,0,-524544,0,0,0,0,0,0,0,0,0,0,0,68977536,null,2068367,47925474,0,99000,0,50092841,18884695,0.7262196347518125]
[null,null,23,"Análisis foliares",22285440,0,-168090,0,0,0,0,0,0,0,0,0,0,0,22117350,null,0,0,17280000,0,0,17280000,4837350,0.78128708909521261]
[null,null,24,"Análisis de suelo",650000,0,0,0,0,0,0,0,0,0,0,0,0,0,650000,null,647500,0,0,0,0,647500,2500,0.99615384615384617]
[null,null,5111061300,"Proyecto No 3 - Diseño y Construcción de un Sistema Productivo de Semilla Certificadas de Papa Fase I",2420000000,0,0,0,0,0,0,0,0,0,0,0,0,0,2420000000,null,2002000,0,864000000,1538002000,0,2404004000,15996000,0.99339008264462814]
[null,null,18,"Analisis de virus y patogenos normatividad ICA",20000000,0,0,0,0,0,0,0,0,0,0,0,0,0,20000000,null,2002000,0,0,2002000,0,4004000,15996000,0.20019999999999999,"***"]
[null,null,19,"Programa de transferencia de tecnología a través de la ampliación de oferta de tubérculo semilla -  categoría certificada",2400000000,0,0,0,0,0,0,0,0,0,0,0,0,0,2400000000,null,0,0,864000000,1536000000,0,2400000000,0,1,"***"]
[null,null,null,"Programa 2 - Investigaciones económicas y mercados",2773609855,0,-11102654,0,0,0,0,1468847011,0,0,0,0,0,0,4231354212,null,28377714,377743936,656581396,2057410348,0,3120113394,1111240818,0.73737939148451515]
[null,null,5111060701,"Proyecto No 1 - Estrategias de promocion al consumo de papa y divulgacion multiplataforma del FNFP",2362961733,0,-11102654,0,0,0,0,1468847011,0,0,0,0,0,0,3820706090,null,5511962,290385663,536129140,1879102986,0,2711129751,1109576339,0.70958866951213195]
[null,null,31,"ATL",850662548,0,-1891793,0,0,0,0,0,0,0,0,0,0,0,848770755,null,0,0,286750588,562020167,0,848770755,0,1,"***"]
[null,null,32,"BTL",400000000,0,-3018868,0,0,0,0,208847011,0,0,0,0,0,0,605828143,null,5511962,139667386,92491021,365222373,0,602892742,2935401,0.9951547298785689]
[null,null,33,"Digital",1042987021,0,-5668882,0,0,0,0,0,0,0,0,0,0,0,1037318139,null,0,150718277,156887531,586860446,0,894466254,142851885,0.86228729680008032,"***"]
[null,null,34,"Estudio de percepción de la categoría",69312164,0,-523111,0,0,0,0,0,0,0,0,0,0,0,68789053,null,0,0,0,0,0,0,68789053,0,"***"]
[null,null,35,"Apoyo a la comercializacíon",0,0,0,0,0,0,0,1260000000,0,0,0,0,0,0,1260000000,null,0,0,0,365000000,0,365000000,895000000,0.28968253968253971]
[null,null,5111060700,"Proyecto No 2 - Sistemas de informacion estadistica y estudios economicos de la cadena agroalimentaria de la papa",390848122,0,0,0,0,0,0,0,0,0,0,0,0,0,390848122,null,22865752,68597256,120452256,178307362,0,390222626,625496,0.99839964435085604]
[null,null,23,"Investigación de consumo per cápita de papa en Colombia",228657520,0,0,0,0,0,0,0,0,0,0,0,0,0,228657520,null,22865752,68597256,68597256,68597256,0,228657520,0,1]
[null,null,22,"Estudios e investigaciones Económicas",162190602,0,0,0,0,0,0,0,0,0,0,0,0,0,162190602,null,0,0,51855000,109710106,0,161565106,625496,0.99614345102436941,"***"]
[null,null,5111060703,"Proyecto No 3 - Implementacion de un modelo agroindustrial innovador a pequeña escala para la elaboracion de productos derivados a partir de la transformacion de la papa",19800000,0,0,0,0,0,0,0,0,0,0,0,0,0,19800000,null,0,18761017,0,0,0,18761017,1038983,0.94752611111111107]
[null,null,11,"Análisis y caracterización de producto",19800000,0,0,0,0,0,0,0,0,0,0,0,0,0,19800000,null,0,18761017,0,0,0,18761017,1038983,0.94752611111111107]
[null,null,null,"TOTAL INVERSIÓN Y FUNCIONAMIENTO",18177194453,0,161934613.03999999,0,0,0,0,1546958011,0,0,0,0,0,0,19886087077.040001,null,2430780461,3563650792,4361079423,6388594288,0,16744104964,3141982113.04,0.8420009878832494]
[null,null,null,"RESERVA PROY. INV. Y GT.",4872300650.490921,1120084209.2,-161934613.03999999,0,0,0,0,-1546958011,0,0,0,0,0,0,4283492235.6509209,null,600712786,0,0,0,3889925706,4490638492,-207146256.34907818,1.0483591996794179]
[null,null,null,"TOTAL PRESUPUESTO",23049495103.490921,1120084209.2,0,0,0,0,0,0,0,0,0,0,0,0,24169579312.690922,null,3031493247,3563650792,4361079423,6388594288,3889925706,21234743456,2934835856.6909218,0.87857315103743228]
[null,null,null,"Cifra de control",0,0,0,0,0,0,0,0,0,0,0,0,0,0,0]
[]
[null,null,null,null,null,null,null,null,null,null,null,null,null,"Ejecucion",null,null,null,null,"PRESUPUESTO",null,2430780461,3563650792,4361079423,6388594288]
[null,null,null,null,null,null,null,null,null,null,null,null,null,null,null,null,null,null,"CONTABILIDAD",null,2494086882,3651575845,4823937974,6494890734]
[null,null,null,null,null,null,null,null,null,null,null,null,null,null,null,null,null,null,"DIF",null,-63306421,-87925053,-462858551,-106296446]
[null,null,null,null,null,null,null,null,null,null,null,null,null,null,null,null,null,null,"CTA 53",null,152423602,102117076,464421773,114346447]
[null,null,null,null,null,null,null,null,null,null,null,null,null,null,null,null,null,null,"DIF",null,89117181,14192023,1563222,8050001]
[null,null,null,null,null,null,null,null,null,null,null,null,null,null,null,null,null,null,"ACT FIJOS",null,89117181,14286420,1579999,8050001]
[null,null,null,null,null,null,null,null,null,null,null,null,null,null,null,null,null,null,"devolución de transf",null,0,94397,16777,0]
[null,null,null,null,null,null,null,null,null,null,null,null,null,null,null,null,null,null,"DIF",null,0,0,0,0]
[]
[null,null,null,null,null,null,null,null,null,null,null,null,null,"Ingreso",null,null,null,null,"PRESUPUESTO",null,3031493247,3563650792,4361079423,6388594288]
[null,null,null,null,null,null,null,null,null,null,null,null,null,null,null,null,null,null,"CONTABILIDAD",null,3100320301,2941760792,3421627302,4277231400]
[null,null,null,null,null,null,null,null,null,null,null,null,null,null,null,null,null,null,"DIF",null,-68827054,621890000,939452121,2111362888]
[null,null,null,null,null,null,null,null,null,null,null,null,null,null,null,null,null,null,"Reversion perdida deterioro",null,68827054,13476151,374838114,1141915470]
[null,null,null,null,null,null,null,null,null,null,null,null,null,null,null,null,null,null,"Reposicion activo fijo",null,null,null,null,350000]
[null,null,null,null,null,null,null,null,null,null,null,null,null,null,null,null,null,null,"Consumo de reserva",null,0,635366151,1314290235,3253628358]
[null,null,null,null,null,null,null,null,null,null,null,null,null,null,null,null,null,null,"Dif",null,0,0,0,0]

{"sheet":"Anexo 5 Planta y Equipo de trab","index":3,"n_rows":133,"n_cols":32,"rows_kept":133,"cut":false,"hidden":true,"merged":[[1,4,4,32],[5,4,5,32],[6,5,6,11],[11,4,12,4],[11,5,12,5],[11,6,12,6],[11,7,12,7],[11,8,11,9],[11,10,11,17],[11,18,11,25],[55,26,55,30],[55,31,56,31],[130,4,130,7],[132,4,132,7],[11,26,11,30],[11,31,12,31],[53,4,53,7],[55,4,56,4],[55,5,56,5],[55,6,56,6],[55,7,56,7],[55,8,55,9],[55,10,55,17],[55,18,55,25]]}
[]
[null,null,null,null,"MINISTERIO DE AGRICULTURA Y DESARROLLO RURAL\nFORMATO RELACIÓN PLANTA DE PERSONAL Y EQUIPO DE TRABAJO FUNCIONAMIENTO E INVERSIÓN \nDE LOS FONDOS DE FOMENTO AGRICOLAS, FORESTALES, PECUARIOS Y PESQUEROS, Y DE LOS FONDOS DE ESTABILIZACIÓN DE PRECIOS"]
[]
[]
[]
[null,null,null,null,"DIRECCIÓN DE CADENAS AGRÍCOLAS Y FORESTALES - DIRECCIÓN DE CADENAS PECUARIAS, PESQUERAS Y ACUÍCOLAS"]
[]
[null,null,null,null,"FONDO:","FONDO NACIONAL DE FOMENTO DE LA PAPA - FNFP"]
[null,null,null,null,"AÑO PROYECTADO ",2025]
[null,null,null,null,"FECHA DE ELABORACIÓN  "]
[]
[null,null,null,null,"CARGO","FECHA INICIO","FECHA TERMINACION","DIAS LAB","ANTERIOR",null,"INFORMACION MENSUAL PARAFISCALES SEGUN LOS PORCENTAJES ESTABLECIDOS POR LA LEY",null,null,null,null,null,null,null,"INFORMACION ANUAL PARAFISCALES",null,null,null,null,null,null,null,"PRESTACIONES SOCIALES SEGUN LO ESTABLECIDO POR LA LEY",null,null,null,null,"TOTAL AÑO VIGENCIA SOLICITADA"]
["NIVEL SALARIAL","NIVEL ARL","TIPO",null,null,null,null,null,"SALARIO MENSUAL ANTERIOR","% DE INCREMENTO SALARIO","SALARIO MENSUAL VIGENCIA SOLICITADA","SALUD MENSUAL","PENSION MENSUAL","ARL \nMENSUAL","CAJA COMPENSACION MENSUAL","SENA \nMENSUAL","AUXILIO DE TRANSPORTE ","ICBF \nMENSUAL","SALARIO \nANUAL","SALUD \nANUAL","PENSION \nANUAL","ARL \nANUAL","CAJA COMPENSACION  ANUAL","SENA \nANUAL","AUXILIO DE TRANSPORTE  ANUAL","ICBF \nANUAL","CESANTIAS \nANUAL","INTERESES DE CESANTIAS ANUAL","PRIMA \nANUAL","VACACIONES \nANUAL","VARIACIÓN DE VACACIONES"]
[null,null,null,null,"GASTOS DE FUNCIONAMIENTO"]
[null,null,null,null,"GASTOS DE FUNCIONAMIENTO - ADMINISTRATIVO"]
[1,2,"C",null,"DIRECTOR ADMINISTRATIVO","2025-01-02","2025-12-31",{"$f":"DAYS360(F16,G16)","v":359},{"$f":"IF(C16=\"C\",'SUPUESTOS GASTOS'!$D$6*SUMIF('SUPUESTOS GASTOS'!$B$38:$B$47,'Anexo 5 Planta y Equipo de trab'!$A16,'SUPUESTOS GASTOS'!$D$38:$D$47),IF($C16=\"N\",0,IF(C16=\"E\",'SUPUESTOS GASTOS'!$D$6*SUMIF('SUPUESTOS GASTOS'!$B$38:$B$47,'Anexo 5 Planta y Equipo de trab'!$A16,'SUPUESTOS GASTOS'!$D$38:$D$47),\"\")))","v":8866000},{"$f":"+'SUPUESTOS GASTOS'!$D$10","v":0.06},{"$f":"IF($C16=\"C\",ROUNDUP((I16*J16)+I16,-3),IF($C16=\"N\",ROUNDUP(('SUPUESTOS GASTOS'!$D$6*SUMIF('SUPUESTOS GASTOS'!$B$38:$B$47,'Anexo 5 Planta y Equipo de trab'!$A16,'SUPUESTOS GASTOS'!$D$38:$D$47)*$J16)+'SUPUESTOS GASTOS'!$D$6*SUMIF('SUPUESTOS GASTOS'!$B$38:$B$47,'Anexo 5 Planta y Equipo de trab'!$A16,'SUPUESTOS GASTOS'!$D$38:$D$47),-3),IF($C16=\"E\",0)))","v":9398000},{"$f":"IFERROR(IF($E16=\"PASANTE SENA\",ROUNDUP((K16*'SUPUESTOS GASTOS'!$D$20),-3),ROUNDUP((K16*'SUPUESTOS GASTOS'!$D$19),-3)),0)","v":799000},{"$f":"IFERROR(IF($E16=\"PASANTE SENA\",0,ROUNDUP((K16*'SUPUESTOS GASTOS'!$D$18),-3)),0)","v":1128000},{"$f":"IFERROR(ROUNDUP(K16*SUMIF('SUPUESTOS GASTOS'!$B$24:$B$28,'Anexo 5 Planta y Equipo de trab'!$B16,'SUPUESTOS GASTOS'!$D$24:$D$28),-3),0)","v":229000},{"$f":"IFERROR(IF($E16=\"PASANTE SENA\",0,ROUNDUP((K16*'SUPUESTOS GASTOS'!$D$31),-3)),0)","v":376000},{"$f":"IFERROR(IF($E16=\"PASANTE SENA\",0,ROUNDUP((K16*'SUPUESTOS GASTOS'!$D$32),-3)),0)","v":188000},{"$f":"IF($C16=\"E\",0,IF($E16=\"PASANTE SENA\",0,IF(K16>=('SUPUESTOS GASTOS'!$D$14*2),0,ROUNDUP('SUPUESTOS GASTOS'!$D$15,-3))))","v":0},{"$f":"IFERROR(IF($E16=\"PASANTE SENA\",0,ROUNDUP((K16*'SUPUESTOS GASTOS'!$D$33),-3)),0)","v":282000},{"$f":"ROUNDUP((K16/'SUPUESTOS GASTOS'!$D$13)*H16,-3)","v":112463000},{"$f":"IFERROR(IF($E16=\"PASANTE SENA\",ROUNDUP((S16*'SUPUESTOS GASTOS'!$D$20),-3),ROUNDUP((S16*'SUPUESTOS GASTOS'!$D$19),-3)),0)","v":9560000},{"$f":"IFERROR(IF($E16=\"PASANTE SENA\",0,ROUNDUP((S16*'SUPUESTOS GASTOS'!$D$18),-3)),0)","v":13496000},{"$f":"IFERROR(ROUNDUP(S16*SUMIF('SUPUESTOS GASTOS'!$B$24:$B$28,'Anexo 5 Planta y Equipo de trab'!$B16,'SUPUESTOS GASTOS'!$D$24:$D$28),-3),0)","v":2740000},{"$f":"IFERROR(IF($E16=\"PASANTE SENA\",0,ROUNDUP(((S16+AD16)*'SUPUESTOS GASTOS'!$D$31),-3)),0)","v":4686000},{"$f":"IFERROR(IF($E16=\"PASANTE SENA\",0,ROUNDUP(((S16+AD16)*'SUPUESTOS GASTOS'!$D$32),-3)),0)","v":2343000},{"$f":"IF($C16=\"E\",0,IF($E16=\"PASANTE SENA\",0,IF(K16>=('SUPUESTOS GASTOS'!$D$14*2),0,ROUNDUP(('SUPUESTOS GASTOS'!$D$15/'SUPUESTOS GASTOS'!$D$13)*$H16,-3))))","v":0},{"$f":"IFERROR(IF($E16=\"PASANTE SENA\",0,ROUNDUP(((S16+AD16)*'SUPUESTOS GASTOS'!$D$33),-3)),0)","v":3515000},{"$f":"IF($E16=\"PASANTE SENA\",0,ROUNDUP(((K16+Q16)*H16)/'SUPUESTOS GASTOS'!$D$12,-3))","v":9372000},{"$f":"IF($E16=\"PASANTE SENA\",0,ROUNDUP((((AA16)/'SUPUESTOS GASTOS'!$D$12)*H16)*'SUPUESTOS GASTOS'!$D$21,-3))","v":1122000},{"$f":"IF($E16=\"PASANTE SENA\",0,ROUNDUP(((K16+Q16)*H16)/'SUPUESTOS GASTOS'!$D$12,-3))","v":9372000},{"$f":"IF($E16=\"PASANTE SENA\",0,ROUNDUP((K16*H16)/('SUPUESTOS GASTOS'!$D$12*2),-3))","v":4686000},null,{"$f":"ROUNDUP(SUM(S16:AD16),-3)","v":173355000}]
[3,2,"N",null,"COORDINADOR ADMINISTRATIVO Y FINANCIERO ","2025-01-02","2025-12-31",{"$f":"DAYS360(F17,G17)","v":359},{"$f":"IF(C17=\"C\",'SUPUESTOS GASTOS'!$D$6*SUMIF('SUPUESTOS GASTOS'!$B$38:$B$47,'Anexo 5 Planta y Equipo de trab'!$A17,'SUPUESTOS GASTOS'!$D$38:$D$47),IF($C17=\"N\",0,IF(C17=\"E\",'SUPUESTOS GASTOS'!$D$6*SUMIF('SUPUESTOS GASTOS'!$B$38:$B$47,'Anexo 5 Planta y Equipo de trab'!$A17,'SUPUESTOS GASTOS'!$D$38:$D$47),\"\")))","v":0},{"$f":"+'SUPUESTOS GASTOS'!$D$10","v":0.06},{"$f":"IF($C17=\"C\",ROUNDUP((I17*J17)+I17,-3),IF($C17=\"N\",ROUNDUP(('SUPUESTOS GASTOS'!$D$6*SUMIF('SUPUESTOS GASTOS'!$B$38:$B$47,'Anexo 5 Planta y Equipo de trab'!$A17,'SUPUESTOS GASTOS'!$D$38:$D$47)*$J17)+'SUPUESTOS GASTOS'!$D$6*SUMIF('SUPUESTOS GASTOS'!$B$38:$B$47,'Anexo 5 Planta y Equipo de trab'!$A17,'SUPUESTOS GASTOS'!$D$38:$D$47),-3),IF($C17=\"E\",0)))","v":5512000},{"$f":"IFERROR(IF($E17=\"PASANTE SENA\",ROUNDUP((K17*'SUPUESTOS GASTOS'!$D$20),-3),ROUNDUP((K17*'SUPUESTOS GASTOS'!$D$19),-3)),0)","v":469000},{"$f":"IFERROR(IF($E17=\"PASANTE SENA\",0,ROUNDUP((K17*'SUPUESTOS GASTOS'!$D$18),-3)),0)","v":662000},{"$f":"IFERROR(ROUNDUP(K17*SUMIF('SUPUESTOS GASTOS'!$B$24:$B$28,'Anexo 5 Planta y Equipo de trab'!$B17,'SUPUESTOS GASTOS'!$D$24:$D$28),-3),0)","v":135000},{"$f":"IFERROR(IF($E17=\"PASANTE SENA\",0,ROUNDUP((K17*'SUPUESTOS GASTOS'!$D$31),-3)),0)","v":221000},{"$f":"IFERROR(IF($E17=\"PASANTE SENA\",0,ROUNDUP((K17*'SUPUESTOS GASTOS'!$D$32),-3)),0)","v":111000},{"$f":"IF($C17=\"E\",0,IF($E17=\"PASANTE SENA\",0,IF(K17>=('SUPUESTOS GASTOS'!$D$14*2),0,ROUNDUP('SUPUESTOS GASTOS'!$D$15,-3))))","v":0},{"$f":"IFERROR(IF($E17=\"PASANTE SENA\",0,ROUNDUP((K17*'SUPUESTOS GASTOS'!$D$33),-3)),0)","v":166000},{"$f":"ROUNDUP((K17/'SUPUESTOS GASTOS'!$D$13)*H17,-3)","v":65961000},{"$f":"IFERROR(IF($E17=\"PASANTE SENA\",ROUNDUP((S17*'SUPUESTOS GASTOS'!$D$20),-3),ROUNDUP((S17*'SUPUESTOS GASTOS'!$D$19),-3)),0)","v":5607000},{"$f":"IFERROR(IF($E17=\"PASANTE SENA\",0,ROUNDUP((S17*'SUPUESTOS GASTOS'!$D$18),-3)),0)","v":7916000},{"$f":"IFERROR(ROUNDUP(S17*SUMIF('SUPUESTOS GASTOS'!$B$24:$B$28,'Anexo 5 Planta y Equipo de trab'!$B17,'SUPUESTOS GASTOS'!$D$24:$D$28),-3),0)","v":1607000},{"$f":"IFERROR(IF($E17=\"PASANTE SENA\",0,ROUNDUP(((S17+AD17)*'SUPUESTOS GASTOS'!$D$31),-3)),0)","v":2749000},{"$f":"IFERROR(IF($E17=\"PASANTE SENA\",0,ROUNDUP(((S17+AD17)*'SUPUESTOS GASTOS'!$D$32),-3)),0)","v":1375000},{"$f":"IF($C17=\"E\",0,IF($E17=\"PASANTE SENA\",0,IF(K17>=('SUPUESTOS GASTOS'!$D$14*2),0,ROUNDUP(('SUPUESTOS GASTOS'!$D$15/'SUPUESTOS GASTOS'!$D$13)*$H17,-3))))","v":0},{"$f":"IFERROR(IF($E17=\"PASANTE SENA\",0,ROUNDUP(((S17+AD17)*'SUPUESTOS GASTOS'!$D$33),-3)),0)","v":2062000},{"$f":"IF($E17=\"PASANTE SENA\",0,ROUNDUP(((K17+Q17)*H17)/'SUPUESTOS GASTOS'!$D$12,-3))","v":5497000},{"$f":"IF($E17=\"PASANTE SENA\",0,ROUNDUP((((AA17)/'SUPUESTOS GASTOS'!$D$12)*H17)*'SUPUESTOS GASTOS'!$D$21,-3))","v":658000},{"$f":"IF($E17=\"PASANTE SENA\",0,ROUNDUP(((K17+Q17)*H17)/'SUPUESTOS GASTOS'!$D$12,-3))","v":5497000},{"$f":"IF($E17=\"PASANTE SENA\",0,ROUNDUP((K17*H17)/('SUPUESTOS GASTOS'!$D$12*2),-3))","v":2749000},null,101678000]
[4,5,"E",null,"SUPERVISOR FINANCIERO Y ADMINISTRATIVO","2025-01-02","2025-12-31",359,{"$f":"IF(C18=\"C\",'SUPUESTOS GASTOS'!$D$6*SUMIF('SUPUESTOS GASTOS'!$B$38:$B$47,'Anexo 5 Planta y Equipo de trab'!$A18,'SUPUESTOS GASTOS'!$D$38:$D$47),IF($C18=\"N\",0,IF(C18=\"E\",'SUPUESTOS GASTOS'!$D$6*SUMIF('SUPUESTOS GASTOS'!$B$38:$B$47,'Anexo 5 Planta y Equipo de trab'!$A18,'SUPUESTOS GASTOS'!$D$38:$D$47),\"\")))","v":3900000},{"$f":"+'SUPUESTOS GASTOS'!$D$10","v":0.06},{"$f":"IF($C18=\"C\",ROUNDUP((I18*J18)+I18,-3),IF($C18=\"N\",ROUNDUP(('SUPUESTOS GASTOS'!$D$6*SUMIF('SUPUESTOS GASTOS'!$B$38:$B$47,'Anexo 5 Planta y Equipo de trab'!$A18,'SUPUESTOS GASTOS'!$D$38:$D$47)*$J18)+'SUPUESTOS GASTOS'!$D$6*SUMIF('SUPUESTOS GASTOS'!$B$38:$B$47,'Anexo 5 Planta y Equipo de trab'!$A18,'SUPUESTOS GASTOS'!$D$38:$D$47),-3),IF($C18=\"E\",0)))","v":0},{"$f":"IFERROR(IF($E18=\"PASANTE SENA\",ROUNDUP((K18*'SUPUESTOS GASTOS'!$D$20),-3),ROUNDUP((K18*'SUPUESTOS GASTOS'!$D$19),-3)),0)","v":0},{"$f":"IFERROR(IF($E18=\"PASANTE SENA\",0,ROUNDUP((K18*'SUPUESTOS GASTOS'!$D$18),-3)),0)","v":0},{"$f":"IFERROR(ROUNDUP(K18*SUMIF('SUPUESTOS GASTOS'!$B$24:$B$28,'Anexo 5 Planta y Equipo de trab'!$B18,'SUPUESTOS GASTOS'!$D$24:$D$28),-3),0)","v":0},{"$f":"IFERROR(IF($E18=\"PASANTE SENA\",0,ROUNDUP((K18*'SUPUESTOS GASTOS'!$D$31),-3)),0)","v":0},{"$f":"IFERROR(IF($E18=\"PASANTE SENA\",0,ROUNDUP((K18*'SUPUESTOS GASTOS'!$D$32),-3)),0)","v":0},{"$f":"IF($C18=\"E\",0,IF($E18=\"PASANTE SENA\",0,IF(K18>=('SUPUESTOS GASTOS'!$D$14*2),0,ROUNDUP('SUPUESTOS GASTOS'!$D$15,-3))))","v":0},{"$f":"IFERROR(IF($E18=\"PASANTE SENA\",0,ROUNDUP((K18*'SUPUESTOS GASTOS'!$D$33),-3)),0)","v":0},{"$f":"ROUNDUP((K18/'SUPUESTOS GASTOS'!$D$13)*H18,-3)","v":0},{"$f":"IFERROR(IF($E18=\"PASANTE SENA\",ROUNDUP((S18*'SUPUESTOS GASTOS'!$D$20),-3),ROUNDUP((S18*'SUPUESTOS GASTOS'!$D$19),-3)),0)","v":0},{"$f":"IFERROR(IF($E18=\"PASANTE SENA\",0,ROUNDUP((S18*'SUPUESTOS GASTOS'!$D$18),-3)),0)","v":0},{"$f":"IFERROR(ROUNDUP(S18*SUMIF('SUPUESTOS GASTOS'!$B$24:$B$28,'Anexo 5 Planta y Equipo de trab'!$B18,'SUPUESTOS GASTOS'!$D$24:$D$28),-3),0)","v":0},{"$f":"IFERROR(IF($E18=\"PASANTE SENA\",0,ROUNDUP(((S18+AD18)*'SUPUESTOS GASTOS'!$D$31),-3)),0)","v":0},{"$f":"IFERROR(IF($E18=\"PASANTE SENA\",0,ROUNDUP(((S18+AD18)*'SUPUESTOS GASTOS'!$D$32),-3)),0)","v":0},{"$f":"IF($C18=\"E\",0,IF($E18=\"PASANTE SENA\",0,IF(K18>=('SUPUESTOS GASTOS'!$D$14*2),0,ROUNDUP(('SUPUESTOS GASTOS'!$D$15/'SUPUESTOS GASTOS'!$D$13)*$H18,-3))))","v":0},{"$f":"IFERROR(IF($E18=\"PASANTE SENA\",0,ROUNDUP(((S18+AD18)*'SUPUESTOS GASTOS'!$D$33),-3)),0)","v":0},{"$f":"IF($E18=\"PASANTE SENA\",0,ROUNDUP(((K18+Q18)*H18)/'SUPUESTOS GASTOS'!$D$12,-3))","v":0},{"$f":"IF($E18=\"PASANTE SENA\",0,ROUNDUP((((AA18)/'SUPUESTOS GASTOS'!$D$12)*H18)*'SUPUESTOS GASTOS'!$D$21,-3))","v":0},{"$f":"IF($E18=\"PASANTE SENA\",0,ROUNDUP(((K18+Q18)*H18)/'SUPUESTOS GASTOS'!$D$12,-3))","v":0},{"$f":"IF($E18=\"PASANTE SENA\",0,ROUNDUP((K18*H18)/('SUPUESTOS GASTOS'!$D$12*2),-3))","v":0},null,0]
[5,1,"C",null,"PROFESIONAL PRESUPUESTAL Y FINANCIERO","2025-01-02","2025-12-31",359,{"$f":"IF(C19=\"C\",'SUPUESTOS GASTOS'!$D$6*SUMIF('SUPUESTOS GASTOS'!$B$38:$B$47,'Anexo 5 Planta y Equipo de trab'!$A19,'SUPUESTOS GASTOS'!$D$38:$D$47),IF($C19=\"N\",0,IF(C19=\"E\",'SUPUESTOS GASTOS'!$D$6*SUMIF('SUPUESTOS GASTOS'!$B$38:$B$47,'Anexo 5 Planta y Equipo de trab'!$A19,'SUPUESTOS GASTOS'!$D$38:$D$47),\"\")))","v":3380000},{"$f":"+'SUPUESTOS GASTOS'!$D$10","v":0.06},{"$f":"IF($C19=\"C\",ROUNDUP((I19*J19)+I19,-3),IF($C19=\"N\",ROUNDUP(('SUPUESTOS GASTOS'!$D$6*SUMIF('SUPUESTOS GASTOS'!$B$38:$B$47,'Anexo 5 Planta y Equipo de trab'!$A19,'SUPUESTOS GASTOS'!$D$38:$D$47)*$J19)+'SUPUESTOS GASTOS'!$D$6*SUMIF('SUPUESTOS GASTOS'!$B$38:$B$47,'Anexo 5 Planta y Equipo de trab'!$A19,'SUPUESTOS GASTOS'!$D$38:$D$47),-3),IF($C19=\"E\",0)))","v":3583000},{"$f":"IFERROR(IF($E19=\"PASANTE SENA\",ROUNDUP((K19*'SUPUESTOS GASTOS'!$D$20),-3),ROUNDUP((K19*'SUPUESTOS GASTOS'!$D$19),-3)),0)","v":305000},{"$f":"IFERROR(IF($E19=\"PASANTE SENA\",0,ROUNDUP((K19*'SUPUESTOS GASTOS'!$D$18),-3)),0)","v":430000},{"$f":"IFERROR(ROUNDUP(K19*SUMIF('SUPUESTOS GASTOS'!$B$24:$B$28,'Anexo 5 Planta y Equipo de trab'!$B19,'SUPUESTOS GASTOS'!$D$24:$D$28),-3),0)","v":19000},{"$f":"IFERROR(IF($E19=\"PASANTE SENA\",0,ROUNDUP((K19*'SUPUESTOS GASTOS'!$D$31),-3)),0)","v":144000},{"$f":"IFERROR(IF($E19=\"PASANTE SENA\",0,ROUNDUP((K19*'SUPUESTOS GASTOS'!$D$32),-3)),0)","v":72000},{"$f":"IF($C19=\"E\",0,IF($E19=\"PASANTE SENA\",0,IF(K19>=('SUPUESTOS GASTOS'!$D$14*2),0,ROUNDUP('SUPUESTOS GASTOS'!$D$15,-3))))","v":0},{"$f":"IFERROR(IF($E19=\"PASANTE SENA\",0,ROUNDUP((K19*'SUPUESTOS GASTOS'!$D$33),-3)),0)","v":108000},{"$f":"ROUNDUP((K19/'SUPUESTOS GASTOS'!$D$13)*H19,-3)","v":42877000},{"$f":"IFERROR(IF($E19=\"PASANTE SENA\",ROUNDUP((S19*'SUPUESTOS GASTOS'!$D$20),-3),ROUNDUP((S19*'SUPUESTOS GASTOS'!$D$19),-3)),0)","v":3645000},{"$f":"IFERROR(IF($E19=\"PASANTE SENA\",0,ROUNDUP((S19*'SUPUESTOS GASTOS'!$D$18),-3)),0)","v":5146000},{"$f":"IFERROR(ROUNDUP(S19*SUMIF('SUPUESTOS GASTOS'!$B$24:$B$28,'Anexo 5 Planta y Equipo de trab'!$B19,'SUPUESTOS GASTOS'!$D$24:$D$28),-3),0)","v":224000},{"$f":"IFERROR(IF($E19=\"PASANTE SENA\",0,ROUNDUP(((S19+AD19)*'SUPUESTOS GASTOS'!$D$31),-3)),0)","v":1787000},{"$f":"IFERROR(IF($E19=\"PASANTE SENA\",0,ROUNDUP(((S19+AD19)*'SUPUESTOS GASTOS'!$D$32),-3)),0)","v":894000},{"$f":"IF($C19=\"E\",0,IF($E19=\"PASANTE SENA\",0,IF(K19>=('SUPUESTOS GASTOS'!$D$14*2),0,ROUNDUP(('SUPUESTOS GASTOS'!$D$15/'SUPUESTOS GASTOS'!$D$13)*$H19,-3))))","v":0},{"$f":"IFERROR(IF($E19=\"PASANTE SENA\",0,ROUNDUP(((S19+AD19)*'SUPUESTOS GASTOS'!$D$33),-3)),0)","v":1340000},{"$f":"IF($E19=\"PASANTE SENA\",0,ROUNDUP(((K19+Q19)*H19)/'SUPUESTOS GASTOS'!$D$12,-3))","v":3574000},{"$f":"IF($E19=\"PASANTE SENA\",0,ROUNDUP((((AA19)/'SUPUESTOS GASTOS'!$D$12)*H19)*'SUPUESTOS GASTOS'!$D$21,-3))","v":428000},{"$f":"IF($E19=\"PASANTE SENA\",0,ROUNDUP(((K19+Q19)*H19)/'SUPUESTOS GASTOS'!$D$12,-3))","v":3574000},{"$f":"IF($E19=\"PASANTE SENA\",0,ROUNDUP((K19*H19)/('SUPUESTOS GASTOS'!$D$12*2),-3))","v":1787000},null,65276000]
[5,1,"C",null,"PROFESIONAL EN GESTIÓN CONTABLE Y FINANCIERA","2025-01-02","2025-12-31",359,{"$f":"IF(C20=\"C\",'SUPUESTOS GASTOS'!$D$6*SUMIF('SUPUESTOS GASTOS'!$B$38:$B$47,'Anexo 5 Planta y Equipo de trab'!$A20,'SUPUESTOS GASTOS'!$D$38:$D$47),IF($C20=\"N\",0,IF(C20=\"E\",'SUPUESTOS GASTOS'!$D$6*SUMIF('SUPUESTOS GASTOS'!$B$38:$B$47,'Anexo 5 Planta y Equipo de trab'!$A20,'SUPUESTOS GASTOS'!$D$38:$D$47),\"\")))","v":3380000},{"$f":"+'SUPUESTOS GASTOS'!$D$10","v":0.06},{"$f":"IF($C20=\"C\",ROUNDUP((I20*J20)+I20,-3),IF($C20=\"N\",ROUNDUP(('SUPUESTOS GASTOS'!$D$6*SUMIF('SUPUESTOS GASTOS'!$B$38:$B$47,'Anexo 5 Planta y Equipo de trab'!$A20,'SUPUESTOS GASTOS'!$D$38:$D$47)*$J20)+'SUPUESTOS GASTOS'!$D$6*SUMIF('SUPUESTOS GASTOS'!$B$38:$B$47,'Anexo 5 Planta y Equipo de trab'!$A20,'SUPUESTOS GASTOS'!$D$38:$D$47),-3),IF($C20=\"E\",0)))","v":3583000},{"$f":"IFERROR(IF($E20=\"PASANTE SENA\",ROUNDUP((K20*'SUPUESTOS GASTOS'!$D$20),-3),ROUNDUP((K20*'SUPUESTOS GASTOS'!$D$19),-3)),0)","v":305000},{"$f":"IFERROR(IF($E20=\"PASANTE SENA\",0,ROUNDUP((K20*'SUPUESTOS GASTOS'!$D$18),-3)),0)","v":430000},{"$f":"IFERROR(ROUNDUP(K20*SUMIF('SUPUESTOS GASTOS'!$B$24:$B$28,'Anexo 5 Planta y Equipo de trab'!$B20,'SUPUESTOS GASTOS'!$D$24:$D$28),-3),0)","v":19000},{"$f":"IFERROR(IF($E20=\"PASANTE SENA\",0,ROUNDUP((K20*'SUPUESTOS GASTOS'!$D$31),-3)),0)","v":144000},{"$f":"IFERROR(IF($E20=\"PASANTE SENA\",0,ROUNDUP((K20*'SUPUESTOS GASTOS'!$D$32),-3)),0)","v":72000},{"$f":"IF($C20=\"E\",0,IF($E20=\"PASANTE SENA\",0,IF(K20>=('SUPUESTOS GASTOS'!$D$14*2),0,ROUNDUP('SUPUESTOS GASTOS'!$D$15,-3))))","v":0},{"$f":"IFERROR(IF($E20=\"PASANTE SENA\",0,ROUNDUP((K20*'SUPUESTOS GASTOS'!$D$33),-3)),0)","v":108000},{"$f":"ROUNDUP((K20/'SUPUESTOS GASTOS'!$D$13)*H20,-3)","v":42877000},{"$f":"IFERROR(IF($E20=\"PASANTE SENA\",ROUNDUP((S20*'SUPUESTOS GASTOS'!$D$20),-3),ROUNDUP((S20*'SUPUESTOS GASTOS'!$D$19),-3)),0)","v":3645000},{"$f":"IFERROR(IF($E20=\"PASANTE SENA\",0,ROUNDUP((S20*'SUPUESTOS GASTOS'!$D$18),-3)),0)","v":5146000},{"$f":"IFERROR(ROUNDUP(S20*SUMIF('SUPUESTOS GASTOS'!$B$24:$B$28,'Anexo 5 Planta y Equipo de trab'!$B20,'SUPUESTOS GASTOS'!$D$24:$D$28),-3),0)","v":224000},{"$f":"IFERROR(IF($E20=\"PASANTE SENA\",0,ROUNDUP(((S20+AD20)*'SUPUESTOS GASTOS'!$D$31),-3)),0)","v":1787000},{"$f":"IFERROR(IF($E20=\"PASANTE SENA\",0,ROUNDUP(((S20+AD20)*'SUPUESTOS GASTOS'!$D$32),-3)),0)","v":894000},{"$f":"IF($C20=\"E\",0,IF($E20=\"PASANTE SENA\",0,IF(K20>=('SUPUESTOS GASTOS'!$D$14*2),0,ROUNDUP(('SUPUESTOS GASTOS'!$D$15/'SUPUESTOS GASTOS'!$D$13)*$H20,-3))))","v":0},{"$f":"IFERROR(IF($E20=\"PASANTE SENA\",0,ROUNDUP(((S20+AD20)*'SUPUESTOS GASTOS'!$D$33),-3)),0)","v":1340000},{"$f":"IF($E20=\"PASANTE SENA\",0,ROUNDUP(((K20+Q20)*H20)/'SUPUESTOS GASTOS'!$D$12,-3))","v":3574000},{"$f":"IF($E20=\"PASANTE SENA\",0,ROUNDUP((((AA20)/'SUPUESTOS GASTOS'!$D$12)*H20)*'SUPUESTOS GASTOS'!$D$21,-3))","v":428000},{"$f":"IF($E20=\"PASANTE SENA\",0,ROUNDUP(((K20+Q20)*H20)/'SUPUESTOS GASTOS'!$D$12,-3))","v":3574000},{"$f":"IF($E20=\"PASANTE SENA\",0,ROUNDUP((K20*H20)/('SUPUESTOS GASTOS'!$D$12*2),-3))","v":1787000},null,65276000]
[5,1,"C",null,"PROFESIONAL EN GESTIÓN CONTABLE Y FINANCIERA","2025-01-02","2025-12-31",359,{"$f":"IF(C21=\"C\",'SUPUESTOS GASTOS'!$D$6*SUMIF('SUPUESTOS GASTOS'!$B$38:$B$47,'Anexo 5 Planta y Equipo de trab'!$A21,'SUPUESTOS GASTOS'!$D$38:$D$47),IF($C21=\"N\",0,IF(C21=\"E\",'SUPUESTOS GASTOS'!$D$6*SUMIF('SUPUESTOS GASTOS'!$B$38:$B$47,'Anexo 5 Planta y Equipo de trab'!$A21,'SUPUESTOS GASTOS'!$D$38:$D$47),\"\")))","v":3380000},{"$f":"+'SUPUESTOS GASTOS'!$D$10","v":0.06},{"$f":"IF($C21=\"C\",ROUNDUP((I21*J21)+I21,-3),IF($C21=\"N\",ROUNDUP(('SUPUESTOS GASTOS'!$D$6*SUMIF('SUPUESTOS GASTOS'!$B$38:$B$47,'Anexo 5 Planta y Equipo de trab'!$A21,'SUPUESTOS GASTOS'!$D$38:$D$47)*$J21)+'SUPUESTOS GASTOS'!$D$6*SUMIF('SUPUESTOS GASTOS'!$B$38:$B$47,'Anexo 5 Planta y Equipo de trab'!$A21,'SUPUESTOS GASTOS'!$D$38:$D$47),-3),IF($C21=\"E\",0)))","v":3583000},{"$f":"IFERROR(IF($E21=\"PASANTE SENA\",ROUNDUP((K21*'SUPUESTOS GASTOS'!$D$20),-3),ROUNDUP((K21*'SUPUESTOS GASTOS'!$D$19),-3)),0)","v":305000},{"$f":"IFERROR(IF($E21=\"PASANTE SENA\",0,ROUNDUP((K21*'SUPUESTOS GASTOS'!$D$18),-3)),0)","v":430000},{"$f":"IFERROR(ROUNDUP(K21*SUMIF('SUPUESTOS GASTOS'!$B$24:$B$28,'Anexo 5 Planta y Equipo de trab'!$B21,'SUPUESTOS GASTOS'!$D$24:$D$28),-3),0)","v":19000},{"$f":"IFERROR(IF($E21=\"PASANTE SENA\",0,ROUNDUP((K21*'SUPUESTOS GASTOS'!$D$31),-3)),0)","v":144000},{"$f":"IFERROR(IF($E21=\"PASANTE SENA\",0,ROUNDUP((K21*'SUPUESTOS GASTOS'!$D$32),-3)),0)","v":72000},{"$f":"IF($C21=\"E\",0,IF($E21=\"PASANTE SENA\",0,IF(K21>=('SUPUESTOS GASTOS'!$D$14*2),0,ROUNDUP('SUPUESTOS GASTOS'!$D$15,-3))))","v":0},{"$f":"IFERROR(IF($E21=\"PASANTE SENA\",0,ROUNDUP((K21*'SUPUESTOS GASTOS'!$D$33),-3)),0)","v":108000},{"$f":"ROUNDUP((K21/'SUPUESTOS GASTOS'!$D$13)*H21,-3)","v":42877000},{"$f":"IFERROR(IF($E21=\"PASANTE SENA\",ROUNDUP((S21*'SUPUESTOS GASTOS'!$D$20),-3),ROUNDUP((S21*'SUPUESTOS GASTOS'!$D$19),-3)),0)","v":3645000},{"$f":"IFERROR(IF($E21=\"PASANTE SENA\",0,ROUNDUP((S21*'SUPUESTOS GASTOS'!$D$18),-3)),0)","v":5146000},{"$f":"IFERROR(ROUNDUP(S21*SUMIF('SUPUESTOS GASTOS'!$B$24:$B$28,'Anexo 5 Planta y Equipo de trab'!$B21,'SUPUESTOS GASTOS'!$D$24:$D$28),-3),0)","v":224000},{"$f":"IFERROR(IF($E21=\"PASANTE SENA\",0,ROUNDUP(((S21+AD21)*'SUPUESTOS GASTOS'!$D$31),-3)),0)","v":1787000},{"$f":"IFERROR(IF($E21=\"PASANTE SENA\",0,ROUNDUP(((S21+AD21)*'SUPUESTOS GASTOS'!$D$32),-3)),0)","v":894000},{"$f":"IF($C21=\"E\",0,IF($E21=\"PASANTE SENA\",0,IF(K21>=('SUPUESTOS GASTOS'!$D$14*2),0,ROUNDUP(('SUPUESTOS GASTOS'!$D$15/'SUPUESTOS GASTOS'!$D$13)*$H21,-3))))","v":0},{"$f":"IFERROR(IF($E21=\"PASANTE SENA\",0,ROUNDUP(((S21+AD21)*'SUPUESTOS GASTOS'!$D$33),-3)),0)","v":1340000},{"$f":"IF($E21=\"PASANTE SENA\",0,ROUNDUP(((K21+Q21)*H21)/'SUPUESTOS GASTOS'!$D$12,-3))","v":3574000},{"$f":"IF($E21=\"PASANTE SENA\",0,ROUNDUP((((AA21)/'SUPUESTOS GASTOS'!$D$12)*H21)*'SUPUESTOS GASTOS'!$D$21,-3))","v":428000},{"$f":"IF($E21=\"PASANTE SENA\",0,ROUNDUP(((K21+Q21)*H21)/'SUPUESTOS GASTOS'!$D$12,-3))","v":3574000},{"$f":"IF($E21=\"PASANTE SENA\",0,ROUNDUP((K21*H21)/('SUPUESTOS GASTOS'!$D$12*2),-3))","v":1787000},null,65276000]
[8,1,"N",null,"TECNICO DE INFORMACIÓN DOCUMENTAL","2025-01-07","2025-12-31",354,{"$f":"IF(C22=\"C\",'SUPUESTOS GASTOS'!$D$6*SUMIF('SUPUESTOS GASTOS'!$B$38:$B$47,'Anexo 5 Planta y Equipo de trab'!$A22,'SUPUESTOS GASTOS'!$D$38:$D$47),IF($C22=\"N\",0,IF(C22=\"E\",'SUPUESTOS GASTOS'!$D$6*SUMIF('SUPUESTOS GASTOS'!$B$38:$B$47,'Anexo 5 Planta y Equipo de trab'!$A22,'SUPUESTOS GASTOS'!$D$38:$D$47),\"\")))","v":0},{"$f":"+'SUPUESTOS GASTOS'!$D$10","v":0.06},{"$f":"IF($C22=\"C\",ROUNDUP((I22*J22)+I22,-3),IF($C22=\"N\",ROUNDUP(('SUPUESTOS GASTOS'!$D$6*SUMIF('SUPUESTOS GASTOS'!$B$38:$B$47,'Anexo 5 Planta y Equipo de trab'!$A22,'SUPUESTOS GASTOS'!$D$38:$D$47)*$J22)+'SUPUESTOS GASTOS'!$D$6*SUMIF('SUPUESTOS GASTOS'!$B$38:$B$47,'Anexo 5 Planta y Equipo de trab'!$A22,'SUPUESTOS GASTOS'!$D$38:$D$47),-3),IF($C22=\"E\",0)))","v":1792000},{"$f":"IFERROR(IF($E22=\"PASANTE SENA\",ROUNDUP((K22*'SUPUESTOS GASTOS'!$D$20),-3),ROUNDUP((K22*'SUPUESTOS GASTOS'!$D$19),-3)),0)","v":153000},{"$f":"IFERROR(IF($E22=\"PASANTE SENA\",0,ROUNDUP((K22*'SUPUESTOS GASTOS'!$D$18),-3)),0)","v":216000},{"$f":"IFERROR(ROUNDUP(K22*SUMIF('SUPUESTOS GASTOS'!$B$24:$B$28,'Anexo 5 Planta y Equipo de trab'!$B22,'SUPUESTOS GASTOS'!$D$24:$D$28),-3),0)","v":10000},{"$f":"IFERROR(IF($E22=\"PASANTE SENA\",0,ROUNDUP((K22*'SUPUESTOS GASTOS'!$D$31),-3)),0)","v":72000},{"$f":"IFERROR(IF($E22=\"PASANTE SENA\",0,ROUNDUP((K22*'SUPUESTOS GASTOS'!$D$32),-3)),0)","v":36000},{"$f":"IF($C22=\"E\",0,IF($E22=\"PASANTE SENA\",0,IF(K22>=('SUPUESTOS GASTOS'!$D$14*2),0,ROUNDUP('SUPUESTOS GASTOS'!$D$15,-3))))","v":172000},{"$f":"IFERROR(IF($E22=\"PASANTE SENA\",0,ROUNDUP((K22*'SUPUESTOS GASTOS'!$D$33),-3)),0)","v":54000},{"$f":"ROUNDUP((K22/'SUPUESTOS GASTOS'!$D$13)*H22,-3)","v":21146000},{"$f":"IFERROR(IF($E22=\"PASANTE SENA\",ROUNDUP((S22*'SUPUESTOS GASTOS'!$D$20),-3),ROUNDUP((S22*'SUPUESTOS GASTOS'!$D$19),-3)),0)","v":1798000},{"$f":"IFERROR(IF($E22=\"PASANTE SENA\",0,ROUNDUP((S22*'SUPUESTOS GASTOS'!$D$18),-3)),0)","v":2538000},{"$f":"IFERROR(ROUNDUP(S22*SUMIF('SUPUESTOS GASTOS'!$B$24:$B$28,'Anexo 5 Planta y Equipo de trab'!$B22,'SUPUESTOS GASTOS'!$D$24:$D$28),-3),0)","v":111000},{"$f":"IFERROR(IF($E22=\"PASANTE SENA\",0,ROUNDUP(((S22+AD22)*'SUPUESTOS GASTOS'!$D$31),-3)),0)","v":882000},{"$f":"IFERROR(IF($E22=\"PASANTE SENA\",0,ROUNDUP(((S22+AD22)*'SUPUESTOS GASTOS'!$D$32),-3)),0)","v":441000},{"$f":"IF($C22=\"E\",0,IF($E22=\"PASANTE SENA\",0,IF(K22>=('SUPUESTOS GASTOS'!$D$14*2),0,ROUNDUP(('SUPUESTOS GASTOS'!$D$15/'SUPUESTOS GASTOS'!$D$13)*$H22,-3))))","v":2027000},{"$f":"IFERROR(IF($E22=\"PASANTE SENA\",0,ROUNDUP(((S22+AD22)*'SUPUESTOS GASTOS'!$D$33),-3)),0)","v":661000},{"$f":"IF($E22=\"PASANTE SENA\",0,ROUNDUP(((K22+Q22)*H22)/'SUPUESTOS GASTOS'!$D$12,-3))","v":1932000},{"$f":"IF($E22=\"PASANTE SENA\",0,ROUNDUP((((AA22)/'SUPUESTOS GASTOS'!$D$12)*H22)*'SUPUESTOS GASTOS'!$D$21,-3))","v":228000},{"$f":"IF($E22=\"PASANTE SENA\",0,ROUNDUP(((K22+Q22)*H22)/'SUPUESTOS GASTOS'!$D$12,-3))","v":1932000},{"$f":"IF($E22=\"PASANTE SENA\",0,ROUNDUP((K22*H22)/('SUPUESTOS GASTOS'!$D$12*2),-3))","v":882000},null,34578000]
[null,null,null,null,"SUB TOTAL GASTOS DE FUNCIONAMIENTO - ADMINISTRATIVO",null,null,null,null,null,{"$f":"SUM(K16:K22)","v":27451000},2336000,3296000,431000,1101000,551000,172000,826000,328201000,27900000,39388000,5130000,13678000,6841000,2027000,10258000,27523000,3292000,27523000,13678000,0,{"$f":"SUM(AF16:AF22)","v":505439000}]
[null,null,null,null,"GASTOS DE FUNCIONAMIENTO - RECAUDO"]
[1,2,"C",null,"DIRECTOR DE RECAUDO","2025-01-02","2025-12-31",{"$f":"DAYS360(F25,G25)","v":359},{"$f":"IF(C25=\"C\",'SUPUESTOS GASTOS'!$D$6*SUMIF('SUPUESTOS GASTOS'!$B$38:$B$47,'Anexo 5 Planta y Equipo de trab'!$A25,'SUPUESTOS GASTOS'!$D$38:$D$47),IF($C25=\"N\",0,IF(C25=\"E\",'SUPUESTOS GASTOS'!$D$6*SUMIF('SUPUESTOS GASTOS'!$B$38:$B$47,'Anexo 5 Planta y Equipo de trab'!$A25,'SUPUESTOS GASTOS'!$D$38:$D$47),\"\")))","v":8866000},{"$f":"+'SUPUESTOS GASTOS'!$D$10","v":0.06},{"$f":"IF($C25=\"C\",ROUNDUP((I25*J25)+I25,-3),IF($C25=\"N\",ROUNDUP(('SUPUESTOS GASTOS'!$D$6*SUMIF('SUPUESTOS GASTOS'!$B$38:$B$47,'Anexo 5 Planta y Equipo de trab'!$A25,'SUPUESTOS GASTOS'!$D$38:$D$47)*$J25)+'SUPUESTOS GASTOS'!$D$6*SUMIF('SUPUESTOS GASTOS'!$B$38:$B$47,'Anexo 5 Planta y Equipo de trab'!$A25,'SUPUESTOS GASTOS'!$D$38:$D$47),-3),IF($C25=\"E\",0)))","v":9398000},{"$f":"IFERROR(IF($E25=\"PASANTE SENA\",ROUNDUP((K25*'SUPUESTOS GASTOS'!$D$20),-3),ROUNDUP((K25*'SUPUESTOS GASTOS'!$D$19),-3)),0)","v":799000},{"$f":"IFERROR(IF($E25=\"PASANTE SENA\",0,ROUNDUP((K25*'SUPUESTOS GASTOS'!$D$18),-3)),0)","v":1128000},{"$f":"IFERROR(ROUNDUP(K25*SUMIF('SUPUESTOS GASTOS'!$B$24:$B$28,'Anexo 5 Planta y Equipo de trab'!$B25,'SUPUESTOS GASTOS'!$D$24:$D$28),-3),0)","v":229000},{"$f":"IFERROR(IF($E25=\"PASANTE SENA\",0,ROUNDUP((K25*'SUPUESTOS GASTOS'!$D$31),-3)),0)","v":376000},{"$f":"IFERROR(IF($E25=\"PASANTE SENA\",0,ROUNDUP((K25*'SUPUESTOS GASTOS'!$D$32),-3)),0)","v":188000},{"$f":"IF($C25=\"E\",0,IF($E25=\"PASANTE SENA\",0,IF(K25>=('SUPUESTOS GASTOS'!$D$14*2),0,ROUNDUP('SUPUESTOS GASTOS'!$D$15,-3))))","v":0},{"$f":"IFERROR(IF($E25=\"PASANTE SENA\",0,ROUNDUP((K25*'SUPUESTOS GASTOS'!$D$33),-3)),0)","v":282000},{"$f":"ROUNDUP((K25/'SUPUESTOS GASTOS'!$D$13)*H25,-3)","v":112463000},{"$f":"IFERROR(IF($E25=\"PASANTE SENA\",ROUNDUP((S25*'SUPUESTOS GASTOS'!$D$20),-3),ROUNDUP((S25*'SUPUESTOS GASTOS'!$D$19),-3)),0)","v":9560000},{"$f":"IFERROR(IF($E25=\"PASANTE SENA\",0,ROUNDUP((S25*'SUPUESTOS GASTOS'!$D$18),-3)),0)","v":13496000},{"$f":"IFERROR(ROUNDUP(S25*SUMIF('SUPUESTOS GASTOS'!$B$24:$B$28,'Anexo 5 Planta y Equipo de trab'!$B25,'SUPUESTOS GASTOS'!$D$24:$D$28),-3),0)","v":2740000},{"$f":"IFERROR(IF($E25=\"PASANTE SENA\",0,ROUNDUP(((S25+AD25)*'SUPUESTOS GASTOS'!$D$31),-3)),0)","v":4686000},{"$f":"IFERROR(IF($E25=\"PASANTE SENA\",0,ROUNDUP(((S25+AD25)*'SUPUESTOS GASTOS'!$D$32),-3)),0)","v":2343000},{"$f":"IF($C25=\"E\",0,IF($E25=\"PASANTE SENA\",0,IF(K25>=('SUPUESTOS GASTOS'!$D$14*2),0,ROUNDUP(('SUPUESTOS GASTOS'!$D$15/'SUPUESTOS GASTOS'!$D$13)*$H25,-3))))","v":0},{"$f":"IFERROR(IF($E25=\"PASANTE SENA\",0,ROUNDUP(((S25+AD25)*'SUPUESTOS GASTOS'!$D$33),-3)),0)","v":3515000},{"$f":"IF($E25=\"PASANTE SENA\",0,ROUNDUP(((K25+Q25)*H25)/'SUPUESTOS GASTOS'!$D$12,-3))","v":9372000},{"$f":"IF($E25=\"PASANTE SENA\",0,ROUNDUP((((AA25)/'SUPUESTOS GASTOS'!$D$12)*H25)*'SUPUESTOS GASTOS'!$D$21,-3))","v":1122000},{"$f":"IF($E25=\"PASANTE SENA\",0,ROUNDUP(((K25+Q25)*H25)/'SUPUESTOS GASTOS'!$D$12,-3))","v":9372000},{"$f":"IF($E25=\"PASANTE SENA\",0,ROUNDUP((K25*H25)/('SUPUESTOS GASTOS'!$D$12*2),-3))","v":4686000},null,{"$f":"ROUNDUP(SUM(S25:AD25),-3)","v":173355000}]
[3,2,"C",null,"COORDINADOR DE RECAUDO ZONA 1","2025-01-02","2025-12-31",359,{"$f":"IF(C26=\"C\",'SUPUESTOS GASTOS'!$D$6*SUMIF('SUPUESTOS GASTOS'!$B$38:$B$47,'Anexo 5 Planta y Equipo de trab'!$A26,'SUPUESTOS GASTOS'!$D$38:$D$47),IF($C26=\"N\",0,IF(C26=\"E\",'SUPUESTOS GASTOS'!$D$6*SUMIF('SUPUESTOS GASTOS'!$B$38:$B$47,'Anexo 5 Planta y Equipo de trab'!$A26,'SUPUESTOS GASTOS'!$D$38:$D$47),\"\")))","v":5200000},{"$f":"+'SUPUESTOS GASTOS'!$D$10","v":0.06},{"$f":"IF($C26=\"C\",ROUNDUP((I26*J26)+I26,-3),IF($C26=\"N\",ROUNDUP(('SUPUESTOS GASTOS'!$D$6*SUMIF('SUPUESTOS GASTOS'!$B$38:$B$47,'Anexo 5 Planta y Equipo de trab'!$A26,'SUPUESTOS GASTOS'!$D$38:$D$47)*$J26)+'SUPUESTOS GASTOS'!$D$6*SUMIF('SUPUESTOS GASTOS'!$B$38:$B$47,'Anexo 5 Planta y Equipo de trab'!$A26,'SUPUESTOS GASTOS'!$D$38:$D$47),-3),IF($C26=\"E\",0)))","v":5512000},{"$f":"IFERROR(IF($E26=\"PASANTE SENA\",ROUNDUP((K26*'SUPUESTOS GASTOS'!$D$20),-3),ROUNDUP((K26*'SUPUESTOS GASTOS'!$D$19),-3)),0)","v":469000},{"$f":"IFERROR(IF($E26=\"PASANTE SENA\",0,ROUNDUP((K26*'SUPUESTOS GASTOS'!$D$18),-3)),0)","v":662000},{"$f":"IFERROR(ROUNDUP(K26*SUMIF('SUPUESTOS GASTOS'!$B$24:$B$28,'Anexo 5 Planta y Equipo de trab'!$B26,'SUPUESTOS GASTOS'!$D$24:$D$28),-3),0)","v":135000},{"$f":"IFERROR(IF($E26=\"PASANTE SENA\",0,ROUNDUP((K26*'SUPUESTOS GASTOS'!$D$31),-3)),0)","v":221000},{"$f":"IFERROR(IF($E26=\"PASANTE SENA\",0,ROUNDUP((K26*'SUPUESTOS GASTOS'!$D$32),-3)),0)","v":111000},{"$f":"IF($C26=\"E\",0,IF($E26=\"PASANTE SENA\",0,IF(K26>=('SUPUESTOS GASTOS'!$D$14*2),0,ROUNDUP('SUPUESTOS GASTOS'!$D$15,-3))))","v":0},{"$f":"IFERROR(IF($E26=\"PASANTE SENA\",0,ROUNDUP((K26*'SUPUESTOS GASTOS'!$D$33),-3)),0)","v":166000},{"$f":"ROUNDUP((K26/'SUPUESTOS GASTOS'!$D$13)*H26,-3)","v":65961000},{"$f":"IFERROR(IF($E26=\"PASANTE SENA\",ROUNDUP((S26*'SUPUESTOS GASTOS'!$D$20),-3),ROUNDUP((S26*'SUPUESTOS GASTOS'!$D$19),-3)),0)","v":5607000},{"$f":"IFERROR(IF($E26=\"PASANTE SENA\",0,ROUNDUP((S26*'SUPUESTOS GASTOS'!$D$18),-3)),0)","v":7916000},{"$f":"IFERROR(ROUNDUP(S26*SUMIF('SUPUESTOS GASTOS'!$B$24:$B$28,'Anexo 5 Planta y Equipo de trab'!$B26,'SUPUESTOS GASTOS'!$D$24:$D$28),-3),0)","v":1607000},{"$f":"IFERROR(IF($E26=\"PASANTE SENA\",0,ROUNDUP(((S26+AD26)*'SUPUESTOS GASTOS'!$D$31),-3)),0)","v":2749000},{"$f":"IFERROR(IF($E26=\"PASANTE SENA\",0,ROUNDUP(((S26+AD26)*'SUPUESTOS GASTOS'!$D$32),-3)),0)","v":1375000},{"$f":"IF($C26=\"E\",0,IF($E26=\"PASANTE SENA\",0,IF(K26>=('SUPUESTOS GASTOS'!$D$14*2),0,ROUNDUP(('SUPUESTOS GASTOS'!$D$15/'SUPUESTOS GASTOS'!$D$13)*$H26,-3))))","v":0},{"$f":"IFERROR(IF($E26=\"PASANTE SENA\",0,ROUNDUP(((S26+AD26)*'SUPUESTOS GASTOS'!$D$33),-3)),0)","v":2062000},{"$f":"IF($E26=\"PASANTE SENA\",0,ROUNDUP(((K26+Q26)*H26)/'SUPUESTOS GASTOS'!$D$12,-3))","v":5497000},{"$f":"IF($E26=\"PASANTE SENA\",0,ROUNDUP((((AA26)/'SUPUESTOS GASTOS'!$D$12)*H26)*'SUPUESTOS GASTOS'!$D$21,-3))","v":658000},{"$f":"IF($E26=\"PASANTE SENA\",0,ROUNDUP(((K26+Q26)*H26)/'SUPUESTOS GASTOS'!$D$12,-3))","v":5497000},{"$f":"IF($E26=\"PASANTE SENA\",0,ROUNDUP((K26*H26)/('SUPUESTOS GASTOS'!$D$12*2),-3))","v":2749000},null,101678000]
[3,2,"N",null,"COORDINADOR DE RECAUDO ZONA 2","2025-01-02","2025-12-31",359,{"$f":"IF(C27=\"C\",'SUPUESTOS GASTOS'!$D$6*SUMIF('SUPUESTOS GASTOS'!$B$38:$B$47,'Anexo 5 Planta y Equipo de trab'!$A27,'SUPUESTOS GASTOS'!$D$38:$D$47),IF($C27=\"N\",0,IF(C27=\"E\",'SUPUESTOS GASTOS'!$D$6*SUMIF('SUPUESTOS GASTOS'!$B$38:$B$47,'Anexo 5 Planta y Equipo de trab'!$A27,'SUPUESTOS GASTOS'!$D$38:$D$47),\"\")))","v":0},{"$f":"+'SUPUESTOS GASTOS'!$D$10","v":0.06},{"$f":"IF($C27=\"C\",ROUNDUP((I27*J27)+I27,-3),IF($C27=\"N\",ROUNDUP(('SUPUESTOS GASTOS'!$D$6*SUMIF('SUPUESTOS GASTOS'!$B$38:$B$47,'Anexo 5 Planta y Equipo de trab'!$A27,'SUPUESTOS GASTOS'!$D$38:$D$47)*$J27)+'SUPUESTOS GASTOS'!$D$6*SUMIF('SUPUESTOS GASTOS'!$B$38:$B$47,'Anexo 5 Planta y Equipo de trab'!$A27,'SUPUESTOS GASTOS'!$D$38:$D$47),-3),IF($C27=\"E\",0)))","v":5512000},{"$f":"IFERROR(IF($E27=\"PASANTE SENA\",ROUNDUP((K27*'SUPUESTOS GASTOS'!$D$20),-3),ROUNDUP((K27*'SUPUESTOS GASTOS'!$D$19),-3)),0)","v":469000},{"$f":"IFERROR(IF($E27=\"PASANTE SENA\",0,ROUNDUP((K27*'SUPUESTOS GASTOS'!$D$18),-3)),0)","v":662000},{"$f":"IFERROR(ROUNDUP(K27*SUMIF('SUPUESTOS GASTOS'!$B$24:$B$28,'Anexo 5 Planta y Equipo de trab'!$B27,'SUPUESTOS GASTOS'!$D$24:$D$28),-3),0)","v":135000},{"$f":"IFERROR(IF($E27=\"PASANTE SENA\",0,ROUNDUP((K27*'SUPUESTOS GASTOS'!$D$31),-3)),0)","v":221000},{"$f":"IFERROR(IF($E27=\"PASANTE SENA\",0,ROUNDUP((K27*'SUPUESTOS GASTOS'!$D$32),-3)),0)","v":111000},{"$f":"IF($C27=\"E\",0,IF($E27=\"PASANTE SENA\",0,IF(K27>=('SUPUESTOS GASTOS'!$D$14*2),0,ROUNDUP('SUPUESTOS GASTOS'!$D$15,-3))))","v":0},{"$f":"IFERROR(IF($E27=\"PASANTE SENA\",0,ROUNDUP((K27*'SUPUESTOS GASTOS'!$D$33),-3)),0)","v":166000},{"$f":"ROUNDUP((K27/'SUPUESTOS GASTOS'!$D$13)*H27,-3)","v":65961000},{"$f":"IFERROR(IF($E27=\"PASANTE SENA\",ROUNDUP((S27*'SUPUESTOS GASTOS'!$D$20),-3),ROUNDUP((S27*'SUPUESTOS GASTOS'!$D$19),-3)),0)","v":5607000},{"$f":"IFERROR(IF($E27=\"PASANTE SENA\",0,ROUNDUP((S27*'SUPUESTOS GASTOS'!$D$18),-3)),0)","v":7916000},{"$f":"IFERROR(ROUNDUP(S27*SUMIF('SUPUESTOS GASTOS'!$B$24:$B$28,'Anexo 5 Planta y Equipo de trab'!$B27,'SUPUESTOS GASTOS'!$D$24:$D$28),-3),0)","v":1607000},{"$f":"IFERROR(IF($E27=\"PASANTE SENA\",0,ROUNDUP(((S27+AD27)*'SUPUESTOS GASTOS'!$D$31),-3)),0)","v":2749000},{"$f":"IFERROR(IF($E27=\"PASANTE SENA\",0,ROUNDUP(((S27+AD27)*'SUPUESTOS GASTOS'!$D$32),-3)),0)","v":1375000},{"$f":"IF($C27=\"E\",0,IF($E27=\"PASANTE SENA\",0,IF(K27>=('SUPUESTOS GASTOS'!$D$14*2),0,ROUNDUP(('SUPUESTOS GASTOS'!$D$15/'SUPUESTOS GASTOS'!$D$13)*$H27,-3))))","v":0},{"$f":"IFERROR(IF($E27=\"PASANTE SENA\",0,ROUNDUP(((S27+AD27)*'SUPUESTOS GASTOS'!$D$33),-3)),0)","v":2062000},{"$f":"IF($E27=\"PASANTE SENA\",0,ROUNDUP(((K27+Q27)*H27)/'SUPUESTOS GASTOS'!$D$12,-3))","v":5497000},{"$f":"IF($E27=\"PASANTE SENA\",0,ROUNDUP((((AA27)/'SUPUESTOS GASTOS'!$D$12)*H27)*'SUPUESTOS GASTOS'!$D$21,-3))","v":658000},{"$f":"IF($E27=\"PASANTE SENA\",0,ROUNDUP(((K27+Q27)*H27)/'SUPUESTOS GASTOS'!$D$12,-3))","v":5497000},{"$f":"IF($E27=\"PASANTE SENA\",0,ROUNDUP((K27*H27)/('SUPUESTOS GASTOS'!$D$12*2),-3))","v":2749000},null,101678000]
[10,5,"C",null,"GESTOR LEGAL","2025-01-02","2025-12-31",359,{"$f":"IF(C28=\"C\",'SUPUESTOS GASTOS'!$D$6*SUMIF('SUPUESTOS GASTOS'!$B$38:$B$47,'Anexo 5 Planta y Equipo de trab'!$A28,'SUPUESTOS GASTOS'!$D$38:$D$47),IF($C28=\"N\",0,IF(C28=\"E\",'SUPUESTOS GASTOS'!$D$6*SUMIF('SUPUESTOS GASTOS'!$B$38:$B$47,'Anexo 5 Planta y Equipo de trab'!$A28,'SUPUESTOS GASTOS'!$D$38:$D$47),\"\")))","v":4500000},{"$f":"+'SUPUESTOS GASTOS'!$D$10","v":0.06},{"$f":"IF($C28=\"C\",ROUNDUP((I28*J28)+I28,-3),IF($C28=\"N\",ROUNDUP(('SUPUESTOS GASTOS'!$D$6*SUMIF('SUPUESTOS GASTOS'!$B$38:$B$47,'Anexo 5 Planta y Equipo de trab'!$A28,'SUPUESTOS GASTOS'!$D$38:$D$47)*$J28)+'SUPUESTOS GASTOS'!$D$6*SUMIF('SUPUESTOS GASTOS'!$B$38:$B$47,'Anexo 5 Planta y Equipo de trab'!$A28,'SUPUESTOS GASTOS'!$D$38:$D$47),-3),IF($C28=\"E\",0)))","v":4770000},{"$f":"IFERROR(IF($E28=\"PASANTE SENA\",ROUNDUP((K28*'SUPUESTOS GASTOS'!$D$20),-3),ROUNDUP((K28*'SUPUESTOS GASTOS'!$D$19),-3)),0)","v":406000},{"$f":"IFERROR(IF($E28=\"PASANTE SENA\",0,ROUNDUP((K28*'SUPUESTOS GASTOS'!$D$18),-3)),0)","v":573000},{"$f":"IFERROR(ROUNDUP(K28*SUMIF('SUPUESTOS GASTOS'!$B$24:$B$28,'Anexo 5 Planta y Equipo de trab'!$B28,'SUPUESTOS GASTOS'!$D$24:$D$28),-3),0)","v":50000},{"$f":"IFERROR(IF($E28=\"PASANTE SENA\",0,ROUNDUP((K28*'SUPUESTOS GASTOS'!$D$31),-3)),0)","v":191000},{"$f":"IFERROR(IF($E28=\"PASANTE SENA\",0,ROUNDUP((K28*'SUPUESTOS GASTOS'!$D$32),-3)),0)","v":96000},{"$f":"IF($C28=\"E\",0,IF($E28=\"PASANTE SENA\",0,IF(K28>=('SUPUESTOS GASTOS'!$D$14*2),0,ROUNDUP('SUPUESTOS GASTOS'!$D$15,-3))))","v":0},{"$f":"IFERROR(IF($E28=\"PASANTE SENA\",0,ROUNDUP((K28*'SUPUESTOS GASTOS'!$D$33),-3)),0)","v":144000},{"$f":"ROUNDUP((K28/'SUPUESTOS GASTOS'!$D$13)*H28,-3)","v":57081000},{"$f":"IFERROR(IF($E28=\"PASANTE SENA\",ROUNDUP((S28*'SUPUESTOS GASTOS'!$D$20),-3),ROUNDUP((S28*'SUPUESTOS GASTOS'!$D$19),-3)),0)","v":4852000},{"$f":"IFERROR(IF($E28=\"PASANTE SENA\",0,ROUNDUP((S28*'SUPUESTOS GASTOS'!$D$18),-3)),0)","v":6850000},{"$f":"IFERROR(ROUNDUP(S28*SUMIF('SUPUESTOS GASTOS'!$B$24:$B$28,'Anexo 5 Planta y Equipo de trab'!$B28,'SUPUESTOS GASTOS'!$D$24:$D$28),-3),0)","v":596000},{"$f":"IFERROR(IF($E28=\"PASANTE SENA\",0,ROUNDUP(((S28+AD28)*'SUPUESTOS GASTOS'!$D$31),-3)),0)","v":2379000},{"$f":"IFERROR(IF($E28=\"PASANTE SENA\",0,ROUNDUP(((S28+AD28)*'SUPUESTOS GASTOS'!$D$32),-3)),0)","v":1190000},{"$f":"IF($C28=\"E\",0,IF($E28=\"PASANTE SENA\",0,IF(K28>=('SUPUESTOS GASTOS'!$D$14*2),0,ROUNDUP(('SUPUESTOS GASTOS'!$D$15/'SUPUESTOS GASTOS'!$D$13)*$H28,-3))))","v":0},{"$f":"IFERROR(IF($E28=\"PASANTE SENA\",0,ROUNDUP(((S28+AD28)*'SUPUESTOS GASTOS'!$D$33),-3)),0)","v":1784000},{"$f":"IF($E28=\"PASANTE SENA\",0,ROUNDUP(((K28+Q28)*H28)/'SUPUESTOS GASTOS'!$D$12,-3))","v":4757000},{"$f":"IF($E28=\"PASANTE SENA\",0,ROUNDUP((((AA28)/'SUPUESTOS GASTOS'!$D$12)*H28)*'SUPUESTOS GASTOS'!$D$21,-3))","v":570000},{"$f":"IF($E28=\"PASANTE SENA\",0,ROUNDUP(((K28+Q28)*H28)/'SUPUESTOS GASTOS'!$D$12,-3))","v":4757000},{"$f":"IF($E28=\"PASANTE SENA\",0,ROUNDUP((K28*H28)/('SUPUESTOS GASTOS'!$D$12*2),-3))","v":2379000},null,87195000]
[6,3,"E",null,"ASESOR DE RECAUDO ZONA 3","2025-01-02","2025-12-31",359,{"$f":"IF(C29=\"C\",'SUPUESTOS GASTOS'!$D$6*SUMIF('SUPUESTOS GASTOS'!$B$38:$B$47,'Anexo 5 Planta y Equipo de trab'!$A29,'SUPUESTOS GASTOS'!$D$38:$D$47),IF($C29=\"N\",0,IF(C29=\"E\",'SUPUESTOS GASTOS'!$D$6*SUMIF('SUPUESTOS GASTOS'!$B$38:$B$47,'Anexo 5 Planta y Equipo de trab'!$A29,'SUPUESTOS GASTOS'!$D$38:$D$47),\"\")))","v":3120000},{"$f":"+'SUPUESTOS GASTOS'!$D$10","v":0.06},{"$f":"IF($C29=\"C\",ROUNDUP((I29*J29)+I29,-3),IF($C29=\"N\",ROUNDUP(('SUPUESTOS GASTOS'!$D$6*SUMIF('SUPUESTOS GASTOS'!$B$38:$B$47,'Anexo 5 Planta y Equipo de trab'!$A29,'SUPUESTOS GASTOS'!$D$38:$D$47)*$J29)+'SUPUESTOS GASTOS'!$D$6*SUMIF('SUPUESTOS GASTOS'!$B$38:$B$47,'Anexo 5 Planta y Equipo de trab'!$A29,'SUPUESTOS GASTOS'!$D$38:$D$47),-3),IF($C29=\"E\",0)))","v":0},{"$f":"IFERROR(IF($E29=\"PASANTE SENA\",ROUNDUP((K29*'SUPUESTOS GASTOS'!$D$20),-3),ROUNDUP((K29*'SUPUESTOS GASTOS'!$D$19),-3)),0)","v":0},{"$f":"IFERROR(IF($E29=\"PASANTE SENA\",0,ROUNDUP((K29*'SUPUESTOS GASTOS'!$D$18),-3)),0)","v":0},{"$f":"IFERROR(ROUNDUP(K29*SUMIF('SUPUESTOS GASTOS'!$B$24:$B$28,'Anexo 5 Planta y Equipo de trab'!$B29,'SUPUESTOS GASTOS'!$D$24:$D$28),-3),0)","v":0},{"$f":"IFERROR(IF($E29=\"PASANTE SENA\",0,ROUNDUP((K29*'SUPUESTOS GASTOS'!$D$31),-3)),0)","v":0},{"$f":"IFERROR(IF($E29=\"PASANTE SENA\",0,ROUNDUP((K29*'SUPUESTOS GASTOS'!$D$32),-3)),0)","v":0},{"$f":"IF($C29=\"E\",0,IF($E29=\"PASANTE SENA\",0,IF(K29>=('SUPUESTOS GASTOS'!$D$14*2),0,ROUNDUP('SUPUESTOS GASTOS'!$D$15,-3))))","v":0},{"$f":"IFERROR(IF($E29=\"PASANTE SENA\",0,ROUNDUP((K29*'SUPUESTOS GASTOS'!$D$33),-3)),0)","v":0},{"$f":"ROUNDUP((K29/'SUPUESTOS GASTOS'!$D$13)*H29,-3)","v":0},{"$f":"IFERROR(IF($E29=\"PASANTE SENA\",ROUNDUP((S29*'SUPUESTOS GASTOS'!$D$20),-3),ROUNDUP((S29*'SUPUESTOS GASTOS'!$D$19),-3)),0)","v":0},{"$f":"IFERROR(IF($E29=\"PASANTE SENA\",0,ROUNDUP((S29*'SUPUESTOS GASTOS'!$D$18),-3)),0)","v":0},{"$f":"IFERROR(ROUNDUP(S29*SUMIF('SUPUESTOS GASTOS'!$B$24:$B$28,'Anexo 5 Planta y Equipo de trab'!$B29,'SUPUESTOS GASTOS'!$D$24:$D$28),-3),0)","v":0},{"$f":"IFERROR(IF($E29=\"PASANTE SENA\",0,ROUNDUP(((S29+AD29)*'SUPUESTOS GASTOS'!$D$31),-3)),0)","v":0},{"$f":"IFERROR(IF($E29=\"PASANTE SENA\",0,ROUNDUP(((S29+AD29)*'SUPUESTOS GASTOS'!$D$32),-3)),0)","v":0},{"$f":"IF($C29=\"E\",0,IF($E29=\"PASANTE SENA\",0,IF(K29>=('SUPUESTOS GASTOS'!$D$14*2),0,ROUNDUP(('SUPUESTOS GASTOS'!$D$15/'SUPUESTOS GASTOS'!$D$13)*$H29,-3))))","v":0},{"$f":"IFERROR(IF($E29=\"PASANTE SENA\",0,ROUNDUP(((S29+AD29)*'SUPUESTOS GASTOS'!$D$33),-3)),0)","v":0},{"$f":"IF($E29=\"PASANTE SENA\",0,ROUNDUP(((K29+Q29)*H29)/'SUPUESTOS GASTOS'!$D$12,-3))","v":0},{"$f":"IF($E29=\"PASANTE SENA\",0,ROUNDUP((((AA29)/'SUPUESTOS GASTOS'!$D$12)*H29)*'SUPUESTOS GASTOS'!$D$21,-3))","v":0},{"$f":"IF($E29=\"PASANTE SENA\",0,ROUNDUP(((K29+Q29)*H29)/'SUPUESTOS GASTOS'!$D$12,-3))","v":0},{"$f":"IF($E29=\"PASANTE SENA\",0,ROUNDUP((K29*H29)/('SUPUESTOS GASTOS'!$D$12*2),-3))","v":0},null,0]
[6,3,"E",null,"ASESOR DE RECAUDO ZONA 4","2025-01-02","2025-12-31",359,{"$f":"IF(C30=\"C\",'SUPUESTOS GASTOS'!$D$6*SUMIF('SUPUESTOS GASTOS'!$B$38:$B$47,'Anexo 5 Planta y Equipo de trab'!$A30,'SUPUESTOS GASTOS'!$D$38:$D$47),IF($C30=\"N\",0,IF(C30=\"E\",'SUPUESTOS GASTOS'!$D$6*SUMIF('SUPUESTOS GASTOS'!$B$38:$B$47,'Anexo 5 Planta y Equipo de trab'!$A30,'SUPUESTOS GASTOS'!$D$38:$D$47),\"\")))","v":3120000},{"$f":"+'SUPUESTOS GASTOS'!$D$10","v":0.06},{"$f":"IF($C30=\"C\",ROUNDUP((I30*J30)+I30,-3),IF($C30=\"N\",ROUNDUP(('SUPUESTOS GASTOS'!$D$6*SUMIF('SUPUESTOS GASTOS'!$B$38:$B$47,'Anexo 5 Planta y Equipo de trab'!$A30,'SUPUESTOS GASTOS'!$D$38:$D$47)*$J30)+'SUPUESTOS GASTOS'!$D$6*SUMIF('SUPUESTOS GASTOS'!$B$38:$B$47,'Anexo 5 Planta y Equipo de trab'!$A30,'SUPUESTOS GASTOS'!$D$38:$D$47),-3),IF($C30=\"E\",0)))","v":0},{"$f":"IFERROR(IF($E30=\"PASANTE SENA\",ROUNDUP((K30*'SUPUESTOS GASTOS'!$D$20),-3),ROUNDUP((K30*'SUPUESTOS GASTOS'!$D$19),-3)),0)","v":0},{"$f":"IFERROR(IF($E30=\"PASANTE SENA\",0,ROUNDUP((K30*'SUPUESTOS GASTOS'!$D$18),-3)),0)","v":0},{"$f":"IFERROR(ROUNDUP(K30*SUMIF('SUPUESTOS GASTOS'!$B$24:$B$28,'Anexo 5 Planta y Equipo de trab'!$B30,'SUPUESTOS GASTOS'!$D$24:$D$28),-3),0)","v":0},{"$f":"IFERROR(IF($E30=\"PASANTE SENA\",0,ROUNDUP((K30*'SUPUESTOS GASTOS'!$D$31),-3)),0)","v":0},{"$f":"IFERROR(IF($E30=\"PASANTE SENA\",0,ROUNDUP((K30*'SUPUESTOS GASTOS'!$D$32),-3)),0)","v":0},{"$f":"IF($C30=\"E\",0,IF($E30=\"PASANTE SENA\",0,IF(K30>=('SUPUESTOS GASTOS'!$D$14*2),0,ROUNDUP('SUPUESTOS GASTOS'!$D$15,-3))))","v":0},{"$f":"IFERROR(IF($E30=\"PASANTE SENA\",0,ROUNDUP((K30*'SUPUESTOS GASTOS'!$D$33),-3)),0)","v":0},{"$f":"ROUNDUP((K30/'SUPUESTOS GASTOS'!$D$13)*H30,-3)","v":0},{"$f":"IFERROR(IF($E30=\"PASANTE SENA\",ROUNDUP((S30*'SUPUESTOS GASTOS'!$D$20),-3),ROUNDUP((S30*'SUPUESTOS GASTOS'!$D$19),-3)),0)","v":0},{"$f":"IFERROR(IF($E30=\"PASANTE SENA\",0,ROUNDUP((S30*'SUPUESTOS GASTOS'!$D$18),-3)),0)","v":0},{"$f":"IFERROR(ROUNDUP(S30*SUMIF('SUPUESTOS GASTOS'!$B$24:$B$28,'Anexo 5 Planta y Equipo de trab'!$B30,'SUPUESTOS GASTOS'!$D$24:$D$28),-3),0)","v":0},{"$f":"IFERROR(IF($E30=\"PASANTE SENA\",0,ROUNDUP(((S30+AD30)*'SUPUESTOS GASTOS'!$D$31),-3)),0)","v":0},{"$f":"IFERROR(IF($E30=\"PASANTE SENA\",0,ROUNDUP(((S30+AD30)*'SUPUESTOS GASTOS'!$D$32),-3)),0)","v":0},{"$f":"IF($C30=\"E\",0,IF($E30=\"PASANTE SENA\",0,IF(K30>=('SUPUESTOS GASTOS'!$D$14*2),0,ROUNDUP(('SUPUESTOS GASTOS'!$D$15/'SUPUESTOS GASTOS'!$D$13)*$H30,-3))))","v":0},{"$f":"IFERROR(IF($E30=\"PASANTE SENA\",0,ROUNDUP(((S30+AD30)*'SUPUESTOS GASTOS'!$D$33),-3)),0)","v":0},{"$f":"IF($E30=\"PASANTE SENA\",0,ROUNDUP(((K30+Q30)*H30)/'SUPUESTOS GASTOS'!$D$12,-3))","v":0},{"$f":"IF($E30=\"PASANTE SENA\",0,ROUNDUP((((AA30)/'SUPUESTOS GASTOS'!$D$12)*H30)*'SUPUESTOS GASTOS'!$D$21,-3))","v":0},{"$f":"IF($E30=\"PASANTE SENA\",0,ROUNDUP(((K30+Q30)*H30)/'SUPUESTOS GASTOS'!$D$12,-3))","v":0},{"$f":"IF($E30=\"PASANTE SENA\",0,ROUNDUP((K30*H30)/('SUPUESTOS GASTOS'!$D$12*2),-3))","v":0},null,0]
[6,3,"E",null,"ASESOR DE RECAUDO ZONA 5","2025-01-02","2025-12-31",359,{"$f":"IF(C31=\"C\",'SUPUESTOS GASTOS'!$D$6*SUMIF('SUPUESTOS GASTOS'!$B$38:$B$47,'Anexo 5 Planta y Equipo de trab'!$A31,'SUPUESTOS GASTOS'!$D$38:$D$47),IF($C31=\"N\",0,IF(C31=\"E\",'SUPUESTOS GASTOS'!$D$6*SUMIF('SUPUESTOS GASTOS'!$B$38:$B$47,'Anexo 5 Planta y Equipo de trab'!$A31,'SUPUESTOS GASTOS'!$D$38:$D$47),\"\")))","v":3120000},{"$f":"+'SUPUESTOS GASTOS'!$D$10","v":0.06},{"$f":"IF($C31=\"C\",ROUNDUP((I31*J31)+I31,-3),IF($C31=\"N\",ROUNDUP(('SUPUESTOS GASTOS'!$D$6*SUMIF('SUPUESTOS GASTOS'!$B$38:$B$47,'Anexo 5 Planta y Equipo de trab'!$A31,'SUPUESTOS GASTOS'!$D$38:$D$47)*$J31)+'SUPUESTOS GASTOS'!$D$6*SUMIF('SUPUESTOS GASTOS'!$B$38:$B$47,'Anexo 5 Planta y Equipo de trab'!$A31,'SUPUESTOS GASTOS'!$D$38:$D$47),-3),IF($C31=\"E\",0)))","v":0},{"$f":"IFERROR(IF($E31=\"PASANTE SENA\",ROUNDUP((K31*'SUPUESTOS GASTOS'!$D$20),-3),ROUNDUP((K31*'SUPUESTOS GASTOS'!$D$19),-3)),0)","v":0},{"$f":"IFERROR(IF($E31=\"PASANTE SENA\",0,ROUNDUP((K31*'SUPUESTOS GASTOS'!$D$18),-3)),0)","v":0},{"$f":"IFERROR(ROUNDUP(K31*SUMIF('SUPUESTOS GASTOS'!$B$24:$B$28,'Anexo 5 Planta y Equipo de trab'!$B31,'SUPUESTOS GASTOS'!$D$24:$D$28),-3),0)","v":0},{"$f":"IFERROR(IF($E31=\"PASANTE SENA\",0,ROUNDUP((K31*'SUPUESTOS GASTOS'!$D$31),-3)),0)","v":0},{"$f":"IFERROR(IF($E31=\"PASANTE SENA\",0,ROUNDUP((K31*'SUPUESTOS GASTOS'!$D$32),-3)),0)","v":0},{"$f":"IF($C31=\"E\",0,IF($E31=\"PASANTE SENA\",0,IF(K31>=('SUPUESTOS GASTOS'!$D$14*2),0,ROUNDUP('SUPUESTOS GASTOS'!$D$15,-3))))","v":0},{"$f":"IFERROR(IF($E31=\"PASANTE SENA\",0,ROUNDUP((K31*'SUPUESTOS GASTOS'!$D$33),-3)),0)","v":0},{"$f":"ROUNDUP((K31/'SUPUESTOS GASTOS'!$D$13)*H31,-3)","v":0},{"$f":"IFERROR(IF($E31=\"PASANTE SENA\",ROUNDUP((S31*'SUPUESTOS GASTOS'!$D$20),-3),ROUNDUP((S31*'SUPUESTOS GASTOS'!$D$19),-3)),0)","v":0},{"$f":"IFERROR(IF($E31=\"PASANTE SENA\",0,ROUNDUP((S31*'SUPUESTOS GASTOS'!$D$18),-3)),0)","v":0},{"$f":"IFERROR(ROUNDUP(S31*SUMIF('SUPUESTOS GASTOS'!$B$24:$B$28,'Anexo 5 Planta y Equipo de trab'!$B31,'SUPUESTOS GASTOS'!$D$24:$D$28),-3),0)","v":0},{"$f":"IFERROR(IF($E31=\"PASANTE SENA\",0,ROUNDUP(((S31+AD31)*'SUPUESTOS GASTOS'!$D$31),-3)),0)","v":0},{"$f":"IFERROR(IF($E31=\"PASANTE SENA\",0,ROUNDUP(((S31+AD31)*'SUPUESTOS GASTOS'!$D$32),-3)),0)","v":0},{"$f":"IF($C31=\"E\",0,IF($E31=\"PASANTE SENA\",0,IF(K31>=('SUPUESTOS GASTOS'!$D$14*2),0,ROUNDUP(('SUPUESTOS GASTOS'!$D$15/'SUPUESTOS GASTOS'!$D$13)*$H31,-3))))","v":0},{"$f":"IFERROR(IF($E31=\"PASANTE SENA\",0,ROUNDUP(((S31+AD31)*'SUPUESTOS GASTOS'!$D$33),-3)),0)","v":0},{"$f":"IF($E31=\"PASANTE SENA\",0,ROUNDUP(((K31+Q31)*H31)/'SUPUESTOS GASTOS'!$D$12,-3))","v":0},{"$f":"IF($E31=\"PASANTE SENA\",0,ROUNDUP((((AA31)/'SUPUESTOS GASTOS'!$D$12)*H31)*'SUPUESTOS GASTOS'!$D$21,-3))","v":0},{"$f":"IF($E31=\"PASANTE SENA\",0,ROUNDUP(((K31+Q31)*H31)/'SUPUESTOS GASTOS'!$D$12,-3))","v":0},{"$f":"IF($E31=\"PASANTE SENA\",0,ROUNDUP((K31*H31)/('SUPUESTOS GASTOS'!$D$12*2),-3))","v":0},null,0]
[6,3,"E",null,"ASESOR DE RECAUDO ZONA 6","2025-01-02","2025-12-31",359,{"$f":"IF(C32=\"C\",'SUPUESTOS GASTOS'!$D$6*SUMIF('SUPUESTOS GASTOS'!$B$38:$B$47,'Anexo 5 Planta y Equipo de trab'!$A32,'SUPUESTOS GASTOS'!$D$38:$D$47),IF($C32=\"N\",0,IF(C32=\"E\",'SUPUESTOS GASTOS'!$D$6*SUMIF('SUPUESTOS GASTOS'!$B$38:$B$47,'Anexo 5 Planta y Equipo de trab'!$A32,'SUPUESTOS GASTOS'!$D$38:$D$47),\"\")))","v":3120000},{"$f":"+'SUPUESTOS GASTOS'!$D$10","v":0.06},{"$f":"IF($C32=\"C\",ROUNDUP((I32*J32)+I32,-3),IF($C32=\"N\",ROUNDUP(('SUPUESTOS GASTOS'!$D$6*SUMIF('SUPUESTOS GASTOS'!$B$38:$B$47,'Anexo 5 Planta y Equipo de trab'!$A32,'SUPUESTOS GASTOS'!$D$38:$D$47)*$J32)+'SUPUESTOS GASTOS'!$D$6*SUMIF('SUPUESTOS GASTOS'!$B$38:$B$47,'Anexo 5 Planta y Equipo de trab'!$A32,'SUPUESTOS GASTOS'!$D$38:$D$47),-3),IF($C32=\"E\",0)))","v":0},{"$f":"IFERROR(IF($E32=\"PASANTE SENA\",ROUNDUP((K32*'SUPUESTOS GASTOS'!$D$20),-3),ROUNDUP((K32*'SUPUESTOS GASTOS'!$D$19),-3)),0)","v":0},{"$f":"IFERROR(IF($E32=\"PASANTE SENA\",0,ROUNDUP((K32*'SUPUESTOS GASTOS'!$D$18),-3)),0)","v":0},{"$f":"IFERROR(ROUNDUP(K32*SUMIF('SUPUESTOS GASTOS'!$B$24:$B$28,'Anexo 5 Planta y Equipo de trab'!$B32,'SUPUESTOS GASTOS'!$D$24:$D$28),-3),0)","v":0},{"$f":"IFERROR(IF($E32=\"PASANTE SENA\",0,ROUNDUP((K32*'SUPUESTOS GASTOS'!$D$31),-3)),0)","v":0},{"$f":"IFERROR(IF($E32=\"PASANTE SENA\",0,ROUNDUP((K32*'SUPUESTOS GASTOS'!$D$32),-3)),0)","v":0},{"$f":"IF($C32=\"E\",0,IF($E32=\"PASANTE SENA\",0,IF(K32>=('SUPUESTOS GASTOS'!$D$14*2),0,ROUNDUP('SUPUESTOS GASTOS'!$D$15,-3))))","v":0},{"$f":"IFERROR(IF($E32=\"PASANTE SENA\",0,ROUNDUP((K32*'SUPUESTOS GASTOS'!$D$33),-3)),0)","v":0},{"$f":"ROUNDUP((K32/'SUPUESTOS GASTOS'!$D$13)*H32,-3)","v":0},{"$f":"IFERROR(IF($E32=\"PASANTE SENA\",ROUNDUP((S32*'SUPUESTOS GASTOS'!$D$20),-3),ROUNDUP((S32*'SUPUESTOS GASTOS'!$D$19),-3)),0)","v":0},{"$f":"IFERROR(IF($E32=\"PASANTE SENA\",0,ROUNDUP((S32*'SUPUESTOS GASTOS'!$D$18),-3)),0)","v":0},{"$f":"IFERROR(ROUNDUP(S32*SUMIF('SUPUESTOS GASTOS'!$B$24:$B$28,'Anexo 5 Planta y Equipo de trab'!$B32,'SUPUESTOS GASTOS'!$D$24:$D$28),-3),0)","v":0},{"$f":"IFERROR(IF($E32=\"PASANTE SENA\",0,ROUNDUP(((S32+AD32)*'SUPUESTOS GASTOS'!$D$31),-3)),0)","v":0},{"$f":"IFERROR(IF($E32=\"PASANTE SENA\",0,ROUNDUP(((S32+AD32)*'SUPUESTOS GASTOS'!$D$32),-3)),0)","v":0},{"$f":"IF($C32=\"E\",0,IF($E32=\"PASANTE SENA\",0,IF(K32>=('SUPUESTOS GASTOS'!$D$14*2),0,ROUNDUP(('SUPUESTOS GASTOS'!$D$15/'SUPUESTOS GASTOS'!$D$13)*$H32,-3))))","v":0},{"$f":"IFERROR(IF($E32=\"PASANTE SENA\",0,ROUNDUP(((S32+AD32)*'SUPUESTOS GASTOS'!$D$33),-3)),0)","v":0},{"$f":"IF($E32=\"PASANTE SENA\",0,ROUNDUP(((K32+Q32)*H32)/'SUPUESTOS GASTOS'!$D$12,-3))","v":0},{"$f":"IF($E32=\"PASANTE SENA\",0,ROUNDUP((((AA32)/'SUPUESTOS GASTOS'!$D$12)*H32)*'SUPUESTOS GASTOS'!$D$21,-3))","v":0},{"$f":"IF($E32=\"PASANTE SENA\",0,ROUNDUP(((K32+Q32)*H32)/'SUPUESTOS GASTOS'!$D$12,-3))","v":0},{"$f":"IF($E32=\"PASANTE SENA\",0,ROUNDUP((K32*H32)/('SUPUESTOS GASTOS'!$D$12*2),-3))","v":0},null,0]
[6,3,"E",null,"ASESOR DE RECAUDO ZONA 7","2025-01-02","2025-12-31",359,{"$f":"IF(C33=\"C\",'SUPUESTOS GASTOS'!$D$6*SUMIF('SUPUESTOS GASTOS'!$B$38:$B$47,'Anexo 5 Planta y Equipo de trab'!$A33,'SUPUESTOS GASTOS'!$D$38:$D$47),IF($C33=\"N\",0,IF(C33=\"E\",'SUPUESTOS GASTOS'!$D$6*SUMIF('SUPUESTOS GASTOS'!$B$38:$B$47,'Anexo 5 Planta y Equipo de trab'!$A33,'SUPUESTOS GASTOS'!$D$38:$D$47),\"\")))","v":3120000},{"$f":"+'SUPUESTOS GASTOS'!$D$10","v":0.06},{"$f":"IF($C33=\"C\",ROUNDUP((I33*J33)+I33,-3),IF($C33=\"N\",ROUNDUP(('SUPUESTOS GASTOS'!$D$6*SUMIF('SUPUESTOS GASTOS'!$B$38:$B$47,'Anexo 5 Planta y Equipo de trab'!$A33,'SUPUESTOS GASTOS'!$D$38:$D$47)*$J33)+'SUPUESTOS GASTOS'!$D$6*SUMIF('SUPUESTOS GASTOS'!$B$38:$B$47,'Anexo 5 Planta y Equipo de trab'!$A33,'SUPUESTOS GASTOS'!$D$38:$D$47),-3),IF($C33=\"E\",0)))","v":0},{"$f":"IFERROR(IF($E33=\"PASANTE SENA\",ROUNDUP((K33*'SUPUESTOS GASTOS'!$D$20),-3),ROUNDUP((K33*'SUPUESTOS GASTOS'!$D$19),-3)),0)","v":0},{"$f":"IFERROR(IF($E33=\"PASANTE SENA\",0,ROUNDUP((K33*'SUPUESTOS GASTOS'!$D$18),-3)),0)","v":0},{"$f":"IFERROR(ROUNDUP(K33*SUMIF('SUPUESTOS GASTOS'!$B$24:$B$28,'Anexo 5 Planta y Equipo de trab'!$B33,'SUPUESTOS GASTOS'!$D$24:$D$28),-3),0)","v":0},{"$f":"IFERROR(IF($E33=\"PASANTE SENA\",0,ROUNDUP((K33*'SUPUESTOS GASTOS'!$D$31),-3)),0)","v":0},{"$f":"IFERROR(IF($E33=\"PASANTE SENA\",0,ROUNDUP((K33*'SUPUESTOS GASTOS'!$D$32),-3)),0)","v":0},{"$f":"IF($C33=\"E\",0,IF($E33=\"PASANTE SENA\",0,IF(K33>=('SUPUESTOS GASTOS'!$D$14*2),0,ROUNDUP('SUPUESTOS GASTOS'!$D$15,-3))))","v":0},{"$f":"IFERROR(IF($E33=\"PASANTE SENA\",0,ROUNDUP((K33*'SUPUESTOS GASTOS'!$D$33),-3)),0)","v":0},{"$f":"ROUNDUP((K33/'SUPUESTOS GASTOS'!$D$13)*H33,-3)","v":0},{"$f":"IFERROR(IF($E33=\"PASANTE SENA\",ROUNDUP((S33*'SUPUESTOS GASTOS'!$D$20),-3),ROUNDUP((S33*'SUPUESTOS GASTOS'!$D$19),-3)),0)","v":0},{"$f":"IFERROR(IF($E33=\"PASANTE SENA\",0,ROUNDUP((S33*'SUPUESTOS GASTOS'!$D$18),-3)),0)","v":0},{"$f":"IFERROR(ROUNDUP(S33*SUMIF('SUPUESTOS GASTOS'!$B$24:$B$28,'Anexo 5 Planta y Equipo de trab'!$B33,'SUPUESTOS GASTOS'!$D$24:$D$28),-3),0)","v":0},{"$f":"IFERROR(IF($E33=\"PASANTE SENA\",0,ROUNDUP(((S33+AD33)*'SUPUESTOS GASTOS'!$D$31),-3)),0)","v":0},{"$f":"IFERROR(IF($E33=\"PASANTE SENA\",0,ROUNDUP(((S33+AD33)*'SUPUESTOS GASTOS'!$D$32),-3)),0)","v":0},{"$f":"IF($C33=\"E\",0,IF($E33=\"PASANTE SENA\",0,IF(K33>=('SUPUESTOS GASTOS'!$D$14*2),0,ROUNDUP(('SUPUESTOS GASTOS'!$D$15/'SUPUESTOS GASTOS'!$D$13)*$H33,-3))))","v":0},{"$f":"IFERROR(IF($E33=\"PASANTE SENA\",0,ROUNDUP(((S33+AD33)*'SUPUESTOS GASTOS'!$D$33),-3)),0)","v":0},{"$f":"IF($E33=\"PASANTE SENA\",0,ROUNDUP(((K33+Q33)*H33)/'SUPUESTOS GASTOS'!$D$12,-3))","v":0},{"$f":"IF($E33=\"PASANTE SENA\",0,ROUNDUP((((AA33)/'SUPUESTOS GASTOS'!$D$12)*H33)*'SUPUESTOS GASTOS'!$D$21,-3))","v":0},{"$f":"IF($E33=\"PASANTE SENA\",0,ROUNDUP(((K33+Q33)*H33)/'SUPUESTOS GASTOS'!$D$12,-3))","v":0},{"$f":"IF($E33=\"PASANTE SENA\",0,ROUNDUP((K33*H33)/('SUPUESTOS GASTOS'!$D$12*2),-3))","v":0},null,0]
[6,3,"E",null,"ASESOR DE RECAUDO ZONA 8","2025-01-02","2025-12-31",359,{"$f":"IF(C34=\"C\",'SUPUESTOS GASTOS'!$D$6*SUMIF('SUPUESTOS GASTOS'!$B$38:$B$47,'Anexo 5 Planta y Equipo de trab'!$A34,'SUPUESTOS GASTOS'!$D$38:$D$47),IF($C34=\"N\",0,IF(C34=\"E\",'SUPUESTOS GASTOS'!$D$6*SUMIF('SUPUESTOS GASTOS'!$B$38:$B$47,'Anexo 5 Planta y Equipo de trab'!$A34,'SUPUESTOS GASTOS'!$D$38:$D$47),\"\")))","v":3120000},{"$f":"+'SUPUESTOS GASTOS'!$D$10","v":0.06},{"$f":"IF($C34=\"C\",ROUNDUP((I34*J34)+I34,-3),IF($C34=\"N\",ROUNDUP(('SUPUESTOS GASTOS'!$D$6*SUMIF('SUPUESTOS GASTOS'!$B$38:$B$47,'Anexo 5 Planta y Equipo de trab'!$A34,'SUPUESTOS GASTOS'!$D$38:$D$47)*$J34)+'SUPUESTOS GASTOS'!$D$6*SUMIF('SUPUESTOS GASTOS'!$B$38:$B$47,'Anexo 5 Planta y Equipo de trab'!$A34,'SUPUESTOS GASTOS'!$D$38:$D$47),-3),IF($C34=\"E\",0)))","v":0},{"$f":"IFERROR(IF($E34=\"PASANTE SENA\",ROUNDUP((K34*'SUPUESTOS GASTOS'!$D$20),-3),ROUNDUP((K34*'SUPUESTOS GASTOS'!$D$19),-3)),0)","v":0},{"$f":"IFERROR(IF($E34=\"PASANTE SENA\",0,ROUNDUP((K34*'SUPUESTOS GASTOS'!$D$18),-3)),0)","v":0},{"$f":"IFERROR(ROUNDUP(K34*SUMIF('SUPUESTOS GASTOS'!$B$24:$B$28,'Anexo 5 Planta y Equipo de trab'!$B34,'SUPUESTOS GASTOS'!$D$24:$D$28),-3),0)","v":0},{"$f":"IFERROR(IF($E34=\"PASANTE SENA\",0,ROUNDUP((K34*'SUPUESTOS GASTOS'!$D$31),-3)),0)","v":0},{"$f":"IFERROR(IF($E34=\"PASANTE SENA\",0,ROUNDUP((K34*'SUPUESTOS GASTOS'!$D$32),-3)),0)","v":0},{"$f":"IF($C34=\"E\",0,IF($E34=\"PASANTE SENA\",0,IF(K34>=('SUPUESTOS GASTOS'!$D$14*2),0,ROUNDUP('SUPUESTOS GASTOS'!$D$15,-3))))","v":0},{"$f":"IFERROR(IF($E34=\"PASANTE SENA\",0,ROUNDUP((K34*'SUPUESTOS GASTOS'!$D$33),-3)),0)","v":0},{"$f":"ROUNDUP((K34/'SUPUESTOS GASTOS'!$D$13)*H34,-3)","v":0},{"$f":"IFERROR(IF($E34=\"PASANTE SENA\",ROUNDUP((S34*'SUPUESTOS GASTOS'!$D$20),-3),ROUNDUP((S34*'SUPUESTOS GASTOS'!$D$19),-3)),0)","v":0},{"$f":"IFERROR(IF($E34=\"PASANTE SENA\",0,ROUNDUP((S34*'SUPUESTOS GASTOS'!$D$18),-3)),0)","v":0},{"$f":"IFERROR(ROUNDUP(S34*SUMIF('SUPUESTOS GASTOS'!$B$24:$B$28,'Anexo 5 Planta y Equipo de trab'!$B34,'SUPUESTOS GASTOS'!$D$24:$D$28),-3),0)","v":0},{"$f":"IFERROR(IF($E34=\"PASANTE SENA\",0,ROUNDUP(((S34+AD34)*'SUPUESTOS GASTOS'!$D$31),-3)),0)","v":0},{"$f":"IFERROR(IF($E34=\"PASANTE SENA\",0,ROUNDUP(((S34+AD34)*'SUPUESTOS GASTOS'!$D$32),-3)),0)","v":0},{"$f":"IF($C34=\"E\",0,IF($E34=\"PASANTE SENA\",0,IF(K34>=('SUPUESTOS GASTOS'!$D$14*2),0,ROUNDUP(('SUPUESTOS GASTOS'!$D$15/'SUPUESTOS GASTOS'!$D$13)*$H34,-3))))","v":0},{"$f":"IFERROR(IF($E34=\"PASANTE SENA\",0,ROUNDUP(((S34+AD34)*'SUPUESTOS GASTOS'!$D$33),-3)),0)","v":0},{"$f":"IF($E34=\"PASANTE SENA\",0,ROUNDUP(((K34+Q34)*H34)/'SUPUESTOS GASTOS'!$D$12,-3))","v":0},{"$f":"IF($E34=\"PASANTE SENA\",0,ROUNDUP((((AA34)/'SUPUESTOS GASTOS'!$D$12)*H34)*'SUPUESTOS GASTOS'!$D$21,-3))","v":0},{"$f":"IF($E34=\"PASANTE SENA\",0,ROUNDUP(((K34+Q34)*H34)/'SUPUESTOS GASTOS'!$D$12,-3))","v":0},{"$f":"IF($E34=\"PASANTE SENA\",0,ROUNDUP((K34*H34)/('SUPUESTOS GASTOS'!$D$12*2),-3))","v":0},null,0]
[6,3,"E",null,"ASESOR DE RECAUDO ZONA 9","2025-01-02","2025-12-31",359,{"$f":"IF(C35=\"C\",'SUPUESTOS GASTOS'!$D$6*SUMIF('SUPUESTOS GASTOS'!$B$38:$B$47,'Anexo 5 Planta y Equipo de trab'!$A35,'SUPUESTOS GASTOS'!$D$38:$D$47),IF($C35=\"N\",0,IF(C35=\"E\",'SUPUESTOS GASTOS'!$D$6*SUMIF('SUPUESTOS GASTOS'!$B$38:$B$47,'Anexo 5 Planta y Equipo de trab'!$A35,'SUPUESTOS GASTOS'!$D$38:$D$47),\"\")))","v":3120000},{"$f":"+'SUPUESTOS GASTOS'!$D$10","v":0.06},{"$f":"IF($C35=\"C\",ROUNDUP((I35*J35)+I35,-3),IF($C35=\"N\",ROUNDUP(('SUPUESTOS GASTOS'!$D$6*SUMIF('SUPUESTOS GASTOS'!$B$38:$B$47,'Anexo 5 Planta y Equipo de trab'!$A35,'SUPUESTOS GASTOS'!$D$38:$D$47)*$J35)+'SUPUESTOS GASTOS'!$D$6*SUMIF('SUPUESTOS GASTOS'!$B$38:$B$47,'Anexo 5 Planta y Equipo de trab'!$A35,'SUPUESTOS GASTOS'!$D$38:$D$47),-3),IF($C35=\"E\",0)))","v":0},{"$f":"IFERROR(IF($E35=\"PASANTE SENA\",ROUNDUP((K35*'SUPUESTOS GASTOS'!$D$20),-3),ROUNDUP((K35*'SUPUESTOS GASTOS'!$D$19),-3)),0)","v":0},{"$f":"IFERROR(IF($E35=\"PASANTE SENA\",0,ROUNDUP((K35*'SUPUESTOS GASTOS'!$D$18),-3)),0)","v":0},{"$f":"IFERROR(ROUNDUP(K35*SUMIF('SUPUESTOS GASTOS'!$B$24:$B$28,'Anexo 5 Planta y Equipo de trab'!$B35,'SUPUESTOS GASTOS'!$D$24:$D$28),-3),0)","v":0},{"$f":"IFERROR(IF($E35=\"PASANTE SENA\",0,ROUNDUP((K35*'SUPUESTOS GASTOS'!$D$31),-3)),0)","v":0},{"$f":"IFERROR(IF($E35=\"PASANTE SENA\",0,ROUNDUP((K35*'SUPUESTOS GASTOS'!$D$32),-3)),0)","v":0},{"$f":"IF($C35=\"E\",0,IF($E35=\"PASANTE SENA\",0,IF(K35>=('SUPUESTOS GASTOS'!$D$14*2),0,ROUNDUP('SUPUESTOS GASTOS'!$D$15,-3))))","v":0},{"$f":"IFERROR(IF($E35=\"PASANTE SENA\",0,ROUNDUP((K35*'SUPUESTOS GASTOS'!$D$33),-3)),0)","v":0},{"$f":"ROUNDUP((K35/'SUPUESTOS GASTOS'!$D$13)*H35,-3)","v":0},{"$f":"IFERROR(IF($E35=\"PASANTE SENA\",ROUNDUP((S35*'SUPUESTOS GASTOS'!$D$20),-3),ROUNDUP((S35*'SUPUESTOS GASTOS'!$D$19),-3)),0)","v":0},{"$f":"IFERROR(IF($E35=\"PASANTE SENA\",0,ROUNDUP((S35*'SUPUESTOS GASTOS'!$D$18),-3)),0)","v":0},{"$f":"IFERROR(ROUNDUP(S35*SUMIF('SUPUESTOS GASTOS'!$B$24:$B$28,'Anexo 5 Planta y Equipo de trab'!$B35,'SUPUESTOS GASTOS'!$D$24:$D$28),-3),0)","v":0},{"$f":"IFERROR(IF($E35=\"PASANTE SENA\",0,ROUNDUP(((S35+AD35)*'SUPUESTOS GASTOS'!$D$31),-3)),0)","v":0},{"$f":"IFERROR(IF($E35=\"PASANTE SENA\",0,ROUNDUP(((S35+AD35)*'SUPUESTOS GASTOS'!$D$32),-3)),0)","v":0},{"$f":"IF($C35=\"E\",0,IF($E35=\"PASANTE SENA\",0,IF(K35>=('SUPUESTOS GASTOS'!$D$14*2),0,ROUNDUP(('SUPUESTOS GASTOS'!$D$15/'SUPUESTOS GASTOS'!$D$13)*$H35,-3))))","v":0},{"$f":"IFERROR(IF($E35=\"PASANTE SENA\",0,ROUNDUP(((S35+AD35)*'SUPUESTOS GASTOS'!$D$33),-3)),0)","v":0},{"$f":"IF($E35=\"PASANTE SENA\",0,ROUNDUP(((K35+Q35)*H35)/'SUPUESTOS GASTOS'!$D$12,-3))","v":0},{"$f":"IF($E35=\"PASANTE SENA\",0,ROUNDUP((((AA35)/'SUPUESTOS GASTOS'!$D$12)*H35)*'SUPUESTOS GASTOS'!$D$21,-3))","v":0},{"$f":"IF($E35=\"PASANTE SENA\",0,ROUNDUP(((K35+Q35)*H35)/'SUPUESTOS GASTOS'!$D$12,-3))","v":0},{"$f":"IF($E35=\"PASANTE SENA\",0,ROUNDUP((K35*H35)/('SUPUESTOS GASTOS'!$D$12*2),-3))","v":0},null,0]
[6,3,"E",null,"ASESOR DE RECAUDO ZONA 10","2025-01-02","2025-12-31",359,{"$f":"IF(C36=\"C\",'SUPUESTOS GASTOS'!$D$6*SUMIF('SUPUESTOS GASTOS'!$B$38:$B$47,'Anexo 5 Planta y Equipo de trab'!$A36,'SUPUESTOS GASTOS'!$D$38:$D$47),IF($C36=\"N\",0,IF(C36=\"E\",'SUPUESTOS GASTOS'!$D$6*SUMIF('SUPUESTOS GASTOS'!$B$38:$B$47,'Anexo 5 Planta y Equipo de trab'!$A36,'SUPUESTOS GASTOS'!$D$38:$D$47),\"\")))","v":3120000},{"$f":"+'SUPUESTOS GASTOS'!$D$10","v":0.06},{"$f":"IF($C36=\"C\",ROUNDUP((I36*J36)+I36,-3),IF($C36=\"N\",ROUNDUP(('SUPUESTOS GASTOS'!$D$6*SUMIF('SUPUESTOS GASTOS'!$B$38:$B$47,'Anexo 5 Planta y Equipo de trab'!$A36,'SUPUESTOS GASTOS'!$D$38:$D$47)*$J36)+'SUPUESTOS GASTOS'!$D$6*SUMIF('SUPUESTOS GASTOS'!$B$38:$B$47,'Anexo 5 Planta y Equipo de trab'!$A36,'SUPUESTOS GASTOS'!$D$38:$D$47),-3),IF($C36=\"E\",0)))","v":0},{"$f":"IFERROR(IF($E36=\"PASANTE SENA\",ROUNDUP((K36*'SUPUESTOS GASTOS'!$D$20),-3),ROUNDUP((K36*'SUPUESTOS GASTOS'!$D$19),-3)),0)","v":0},{"$f":"IFERROR(IF($E36=\"PASANTE SENA\",0,ROUNDUP((K36*'SUPUESTOS GASTOS'!$D$18),-3)),0)","v":0},{"$f":"IFERROR(ROUNDUP(K36*SUMIF('SUPUESTOS GASTOS'!$B$24:$B$28,'Anexo 5 Planta y Equipo de trab'!$B36,'SUPUESTOS GASTOS'!$D$24:$D$28),-3),0)","v":0},{"$f":"IFERROR(IF($E36=\"PASANTE SENA\",0,ROUNDUP((K36*'SUPUESTOS GASTOS'!$D$31),-3)),0)","v":0},{"$f":"IFERROR(IF($E36=\"PASANTE SENA\",0,ROUNDUP((K36*'SUPUESTOS GASTOS'!$D$32),-3)),0)","v":0},{"$f":"IF($C36=\"E\",0,IF($E36=\"PASANTE SENA\",0,IF(K36>=('SUPUESTOS GASTOS'!$D$14*2),0,ROUNDUP('SUPUESTOS GASTOS'!$D$15,-3))))","v":0},{"$f":"IFERROR(IF($E36=\"PASANTE SENA\",0,ROUNDUP((K36*'SUPUESTOS GASTOS'!$D$33),-3)),0)","v":0},{"$f":"ROUNDUP((K36/'SUPUESTOS GASTOS'!$D$13)*H36,-3)","v":0},{"$f":"IFERROR(IF($E36=\"PASANTE SENA\",ROUNDUP((S36*'SUPUESTOS GASTOS'!$D$20),-3),ROUNDUP((S36*'SUPUESTOS GASTOS'!$D$19),-3)),0)","v":0},{"$f":"IFERROR(IF($E36=\"PASANTE SENA\",0,ROUNDUP((S36*'SUPUESTOS GASTOS'!$D$18),-3)),0)","v":0},{"$f":"IFERROR(ROUNDUP(S36*SUMIF('SUPUESTOS GASTOS'!$B$24:$B$28,'Anexo 5 Planta y Equipo de trab'!$B36,'SUPUESTOS GASTOS'!$D$24:$D$28),-3),0)","v":0},{"$f":"IFERROR(IF($E36=\"PASANTE SENA\",0,ROUNDUP(((S36+AD36)*'SUPUESTOS GASTOS'!$D$31),-3)),0)","v":0},{"$f":"IFERROR(IF($E36=\"PASANTE SENA\",0,ROUNDUP(((S36+AD36)*'SUPUESTOS GASTOS'!$D$32),-3)),0)","v":0},{"$f":"IF($C36=\"E\",0,IF($E36=\"PASANTE SENA\",0,IF(K36>=('SUPUESTOS GASTOS'!$D$14*2),0,ROUNDUP(('SUPUESTOS GASTOS'!$D$15/'SUPUESTOS GASTOS'!$D$13)*$H36,-3))))","v":0},{"$f":"IFERROR(IF($E36=\"PASANTE SENA\",0,ROUNDUP(((S36+AD36)*'SUPUESTOS GASTOS'!$D$33),-3)),0)","v":0},{"$f":"IF($E36=\"PASANTE SENA\",0,ROUNDUP(((K36+Q36)*H36)/'SUPUESTOS GASTOS'!$D$12,-3))","v":0},{"$f":"IF($E36=\"PASANTE SENA\",0,ROUNDUP((((AA36)/'SUPUESTOS GASTOS'!$D$12)*H36)*'SUPUESTOS GASTOS'!$D$21,-3))","v":0},{"$f":"IF($E36=\"PASANTE SENA\",0,ROUNDUP(((K36+Q36)*H36)/'SUPUESTOS GASTOS'!$D$12,-3))","v":0},{"$f":"IF($E36=\"PASANTE SENA\",0,ROUNDUP((K36*H36)/('SUPUESTOS GASTOS'!$D$12*2),-3))","v":0},null,0]
[5,5,"C",null,"PROFESIONAL DE CONTROL Y SEGUIMIENTO A RECAUDO","2025-01-01","2025-12-31",360,{"$f":"IF(C37=\"C\",'SUPUESTOS GASTOS'!$D$6*SUMIF('SUPUESTOS GASTOS'!$B$38:$B$47,'Anexo 5 Planta y Equipo de trab'!$A37,'SUPUESTOS GASTOS'!$D$38:$D$47),IF($C37=\"N\",0,IF(C37=\"E\",'SUPUESTOS GASTOS'!$D$6*SUMIF('SUPUESTOS GASTOS'!$B$38:$B$47,'Anexo 5 Planta y Equipo de trab'!$A37,'SUPUESTOS GASTOS'!$D$38:$D$47),\"\")))","v":3380000},{"$f":"+'SUPUESTOS GASTOS'!$D$10","v":0.06},{"$f":"IF($C37=\"C\",ROUNDUP((I37*J37)+I37,-3),IF($C37=\"N\",ROUNDUP(('SUPUESTOS GASTOS'!$D$6*SUMIF('SUPUESTOS GASTOS'!$B$38:$B$47,'Anexo 5 Planta y Equipo de trab'!$A37,'SUPUESTOS GASTOS'!$D$38:$D$47)*$J37)+'SUPUESTOS GASTOS'!$D$6*SUMIF('SUPUESTOS GASTOS'!$B$38:$B$47,'Anexo 5 Planta y Equipo de trab'!$A37,'SUPUESTOS GASTOS'!$D$38:$D$47),-3),IF($C37=\"E\",0)))","v":3583000},{"$f":"IFERROR(IF($E37=\"PASANTE SENA\",ROUNDUP((K37*'SUPUESTOS GASTOS'!$D$20),-3),ROUNDUP((K37*'SUPUESTOS GASTOS'!$D$19),-3)),0)","v":305000},{"$f":"IFERROR(IF($E37=\"PASANTE SENA\",0,ROUNDUP((K37*'SUPUESTOS GASTOS'!$D$18),-3)),0)","v":430000},{"$f":"IFERROR(ROUNDUP(K37*SUMIF('SUPUESTOS GASTOS'!$B$24:$B$28,'Anexo 5 Planta y Equipo de trab'!$B37,'SUPUESTOS GASTOS'!$D$24:$D$28),-3),0)","v":38000},{"$f":"IFERROR(IF($E37=\"PASANTE SENA\",0,ROUNDUP((K37*'SUPUESTOS GASTOS'!$D$31),-3)),0)","v":144000},{"$f":"IFERROR(IF($E37=\"PASANTE SENA\",0,ROUNDUP((K37*'SUPUESTOS GASTOS'!$D$32),-3)),0)","v":72000},{"$f":"IF($C37=\"E\",0,IF($E37=\"PASANTE SENA\",0,IF(K37>=('SUPUESTOS GASTOS'!$D$14*2),0,ROUNDUP('SUPUESTOS GASTOS'!$D$15,-3))))","v":0},{"$f":"IFERROR(IF($E37=\"PASANTE SENA\",0,ROUNDUP((K37*'SUPUESTOS GASTOS'!$D$33),-3)),0)","v":108000},{"$f":"ROUNDUP((K37/'SUPUESTOS GASTOS'!$D$13)*H37,-3)","v":42996000},{"$f":"IFERROR(IF($E37=\"PASANTE SENA\",ROUNDUP((S37*'SUPUESTOS GASTOS'!$D$20),-3),ROUNDUP((S37*'SUPUESTOS GASTOS'!$D$19),-3)),0)","v":3655000},{"$f":"IFERROR(IF($E37=\"PASANTE SENA\",0,ROUNDUP((S37*'SUPUESTOS GASTOS'!$D$18),-3)),0)","v":5160000},{"$f":"IFERROR(ROUNDUP(S37*SUMIF('SUPUESTOS GASTOS'!$B$24:$B$28,'Anexo 5 Planta y Equipo de trab'!$B37,'SUPUESTOS GASTOS'!$D$24:$D$28),-3),0)","v":449000},{"$f":"IFERROR(IF($E37=\"PASANTE SENA\",0,ROUNDUP(((S37+AD37)*'SUPUESTOS GASTOS'!$D$31),-3)),0)","v":1792000},{"$f":"IFERROR(IF($E37=\"PASANTE SENA\",0,ROUNDUP(((S37+AD37)*'SUPUESTOS GASTOS'!$D$32),-3)),0)","v":896000},{"$f":"IF($C37=\"E\",0,IF($E37=\"PASANTE SENA\",0,IF(K37>=('SUPUESTOS GASTOS'!$D$14*2),0,ROUNDUP(('SUPUESTOS GASTOS'!$D$15/'SUPUESTOS GASTOS'!$D$13)*$H37,-3))))","v":0},{"$f":"IFERROR(IF($E37=\"PASANTE SENA\",0,ROUNDUP(((S37+AD37)*'SUPUESTOS GASTOS'!$D$33),-3)),0)","v":1344000},{"$f":"IF($E37=\"PASANTE SENA\",0,ROUNDUP(((K37+Q37)*H37)/'SUPUESTOS GASTOS'!$D$12,-3))","v":3583000},{"$f":"IF($E37=\"PASANTE SENA\",0,ROUNDUP((((AA37)/'SUPUESTOS GASTOS'!$D$12)*H37)*'SUPUESTOS GASTOS'!$D$21,-3))","v":430000},{"$f":"IF($E37=\"PASANTE SENA\",0,ROUNDUP(((K37+Q37)*H37)/'SUPUESTOS GASTOS'!$D$12,-3))","v":3583000},{"$f":"IF($E37=\"PASANTE SENA\",0,ROUNDUP((K37*H37)/('SUPUESTOS GASTOS'!$D$12*2),-3))","v":1792000},null,65680000]
[5,5,"C",null,"PROFESIONAL DE CONTROL Y SEGUIMIENTO A RECAUDO","2025-01-02","2025-12-31",359,{"$f":"IF(C38=\"C\",'SUPUESTOS GASTOS'!$D$6*SUMIF('SUPUESTOS GASTOS'!$B$38:$B$47,'Anexo 5 Planta y Equipo de trab'!$A38,'SUPUESTOS GASTOS'!$D$38:$D$47),IF($C38=\"N\",0,IF(C38=\"E\",'SUPUESTOS GASTOS'!$D$6*SUMIF('SUPUESTOS GASTOS'!$B$38:$B$47,'Anexo 5 Planta y Equipo de trab'!$A38,'SUPUESTOS GASTOS'!$D$38:$D$47),\"\")))","v":3380000},{"$f":"+'SUPUESTOS GASTOS'!$D$10","v":0.06},{"$f":"IF($C38=\"C\",ROUNDUP((I38*J38)+I38,-3),IF($C38=\"N\",ROUNDUP(('SUPUESTOS GASTOS'!$D$6*SUMIF('SUPUESTOS GASTOS'!$B$38:$B$47,'Anexo 5 Planta y Equipo de trab'!$A38,'SUPUESTOS GASTOS'!$D$38:$D$47)*$J38)+'SUPUESTOS GASTOS'!$D$6*SUMIF('SUPUESTOS GASTOS'!$B$38:$B$47,'Anexo 5 Planta y Equipo de trab'!$A38,'SUPUESTOS GASTOS'!$D$38:$D$47),-3),IF($C38=\"E\",0)))","v":3583000},{"$f":"IFERROR(IF($E38=\"PASANTE SENA\",ROUNDUP((K38*'SUPUESTOS GASTOS'!$D$20),-3),ROUNDUP((K38*'SUPUESTOS GASTOS'!$D$19),-3)),0)","v":305000},{"$f":"IFERROR(IF($E38=\"PASANTE SENA\",0,ROUNDUP((K38*'SUPUESTOS GASTOS'!$D$18),-3)),0)","v":430000},{"$f":"IFERROR(ROUNDUP(K38*SUMIF('SUPUESTOS GASTOS'!$B$24:$B$28,'Anexo 5 Planta y Equipo de trab'!$B38,'SUPUESTOS GASTOS'!$D$24:$D$28),-3),0)","v":38000},{"$f":"IFERROR(IF($E38=\"PASANTE SENA\",0,ROUNDUP((K38*'SUPUESTOS GASTOS'!$D$31),-3)),0)","v":144000},{"$f":"IFERROR(IF($E38=\"PASANTE SENA\",0,ROUNDUP((K38*'SUPUESTOS GASTOS'!$D$32),-3)),0)","v":72000},{"$f":"IF($C38=\"E\",0,IF($E38=\"PASANTE SENA\",0,IF(K38>=('SUPUESTOS GASTOS'!$D$14*2),0,ROUNDUP('SUPUESTOS GASTOS'!$D$15,-3))))","v":0},{"$f":"IFERROR(IF($E38=\"PASANTE SENA\",0,ROUNDUP((K38*'SUPUESTOS GASTOS'!$D$33),-3)),0)","v":108000},{"$f":"ROUNDUP((K38/'SUPUESTOS GASTOS'!$D$13)*H38,-3)","v":42877000},{"$f":"IFERROR(IF($E38=\"PASANTE SENA\",ROUNDUP((S38*'SUPUESTOS GASTOS'!$D$20),-3),ROUNDUP((S38*'SUPUESTOS GASTOS'!$D$19),-3)),0)","v":3645000},{"$f":"IFERROR(IF($E38=\"PASANTE SENA\",0,ROUNDUP((S38*'SUPUESTOS GASTOS'!$D$18),-3)),0)","v":5146000},{"$f":"IFERROR(ROUNDUP(S38*SUMIF('SUPUESTOS GASTOS'!$B$24:$B$28,'Anexo 5 Planta y Equipo de trab'!$B38,'SUPUESTOS GASTOS'!$D$24:$D$28),-3),0)","v":448000},{"$f":"IFERROR(IF($E38=\"PASANTE SENA\",0,ROUNDUP(((S38+AD38)*'SUPUESTOS GASTOS'!$D$31),-3)),0)","v":1787000},{"$f":"IFERROR(IF($E38=\"PASANTE SENA\",0,ROUNDUP(((S38+AD38)*'SUPUESTOS GASTOS'!$D$32),-3)),0)","v":894000},{"$f":"IF($C38=\"E\",0,IF($E38=\"PASANTE SENA\",0,IF(K38>=('SUPUESTOS GASTOS'!$D$14*2),0,ROUNDUP(('SUPUESTOS GASTOS'!$D$15/'SUPUESTOS GASTOS'!$D$13)*$H38,-3))))","v":0},{"$f":"IFERROR(IF($E38=\"PASANTE SENA\",0,ROUNDUP(((S38+AD38)*'SUPUESTOS GASTOS'!$D$33),-3)),0)","v":1340000},{"$f":"IF($E38=\"PASANTE SENA\",0,ROUNDUP(((K38+Q38)*H38)/'SUPUESTOS GASTOS'!$D$12,-3))","v":3574000},{"$f":"IF($E38=\"PASANTE SENA\",0,ROUNDUP((((AA38)/'SUPUESTOS GASTOS'!$D$12)*H38)*'SUPUESTOS GASTOS'!$D$21,-3))","v":428000},{"$f":"IF($E38=\"PASANTE SENA\",0,ROUNDUP(((K38+Q38)*H38)/'SUPUESTOS GASTOS'!$D$12,-3))","v":3574000},{"$f":"IF($E38=\"PASANTE SENA\",0,ROUNDUP((K38*H38)/('SUPUESTOS GASTOS'!$D$12*2),-3))","v":1787000},null,65500000]
[5,5,"E",null,"PROFESIONAL DE PROCESOS Y RECAUDO","2025-01-02","2025-12-31",359,{"$f":"IF(C39=\"C\",'SUPUESTOS GASTOS'!$D$6*SUMIF('SUPUESTOS GASTOS'!$B$38:$B$47,'Anexo 5 Planta y Equipo de trab'!$A39,'SUPUESTOS GASTOS'!$D$38:$D$47),IF($C39=\"N\",0,IF(C39=\"E\",'SUPUESTOS GASTOS'!$D$6*SUMIF('SUPUESTOS GASTOS'!$B$38:$B$47,'Anexo 5 Planta y Equipo de trab'!$A39,'SUPUESTOS GASTOS'!$D$38:$D$47),\"\")))","v":3380000},{"$f":"+'SUPUESTOS GASTOS'!$D$10","v":0.06},{"$f":"IF($C39=\"C\",ROUNDUP((I39*J39)+I39,-3),IF($C39=\"N\",ROUNDUP(('SUPUESTOS GASTOS'!$D$6*SUMIF('SUPUESTOS GASTOS'!$B$38:$B$47,'Anexo 5 Planta y Equipo de trab'!$A39,'SUPUESTOS GASTOS'!$D$38:$D$47)*$J39)+'SUPUESTOS GASTOS'!$D$6*SUMIF('SUPUESTOS GASTOS'!$B$38:$B$47,'Anexo 5 Planta y Equipo de trab'!$A39,'SUPUESTOS GASTOS'!$D$38:$D$47),-3),IF($C39=\"E\",0)))","v":0},{"$f":"IFERROR(IF($E39=\"PASANTE SENA\",ROUNDUP((K39*'SUPUESTOS GASTOS'!$D$20),-3),ROUNDUP((K39*'SUPUESTOS GASTOS'!$D$19),-3)),0)","v":0},{"$f":"IFERROR(IF($E39=\"PASANTE SENA\",0,ROUNDUP((K39*'SUPUESTOS GASTOS'!$D$18),-3)),0)","v":0},{"$f":"IFERROR(ROUNDUP(K39*SUMIF('SUPUESTOS GASTOS'!$B$24:$B$28,'Anexo 5 Planta y Equipo de trab'!$B39,'SUPUESTOS GASTOS'!$D$24:$D$28),-3),0)","v":0},{"$f":"IFERROR(IF($E39=\"PASANTE SENA\",0,ROUNDUP((K39*'SUPUESTOS GASTOS'!$D$31),-3)),0)","v":0},{"$f":"IFERROR(IF($E39=\"PASANTE SENA\",0,ROUNDUP((K39*'SUPUESTOS GASTOS'!$D$32),-3)),0)","v":0},{"$f":"IF($C39=\"E\",0,IF($E39=\"PASANTE SENA\",0,IF(K39>=('SUPUESTOS GASTOS'!$D$14*2),0,ROUNDUP('SUPUESTOS GASTOS'!$D$15,-3))))","v":0},{"$f":"IFERROR(IF($E39=\"PASANTE SENA\",0,ROUNDUP((K39*'SUPUESTOS GASTOS'!$D$33),-3)),0)","v":0},{"$f":"ROUNDUP((K39/'SUPUESTOS GASTOS'!$D$13)*H39,-3)","v":0},{"$f":"IFERROR(IF($E39=\"PASANTE SENA\",ROUNDUP((S39*'SUPUESTOS GASTOS'!$D$20),-3),ROUNDUP((S39*'SUPUESTOS GASTOS'!$D$19),-3)),0)","v":0},{"$f":"IFERROR(IF($E39=\"PASANTE SENA\",0,ROUNDUP((S39*'SUPUESTOS GASTOS'!$D$18),-3)),0)","v":0},{"$f":"IFERROR(ROUNDUP(S39*SUMIF('SUPUESTOS GASTOS'!$B$24:$B$28,'Anexo 5 Planta y Equipo de trab'!$B39,'SUPUESTOS GASTOS'!$D$24:$D$28),-3),0)","v":0},{"$f":"IFERROR(IF($E39=\"PASANTE SENA\",0,ROUNDUP(((S39+AD39)*'SUPUESTOS GASTOS'!$D$31),-3)),0)","v":0},{"$f":"IFERROR(IF($E39=\"PASANTE SENA\",0,ROUNDUP(((S39+AD39)*'SUPUESTOS GASTOS'!$D$32),-3)),0)","v":0},{"$f":"IF($C39=\"E\",0,IF($E39=\"PASANTE SENA\",0,IF(K39>=('SUPUESTOS GASTOS'!$D$14*2),0,ROUNDUP(('SUPUESTOS GASTOS'!$D$15/'SUPUESTOS GASTOS'!$D$13)*$H39,-3))))","v":0},{"$f":"IFERROR(IF($E39=\"PASANTE SENA\",0,ROUNDUP(((S39+AD39)*'SUPUESTOS GASTOS'!$D$33),-3)),0)","v":0},{"$f":"IF($E39=\"PASANTE SENA\",0,ROUNDUP(((K39+Q39)*H39)/'SUPUESTOS GASTOS'!$D$12,-3))","v":0},{"$f":"IF($E39=\"PASANTE SENA\",0,ROUNDUP((((AA39)/'SUPUESTOS GASTOS'!$D$12)*H39)*'SUPUESTOS GASTOS'!$D$21,-3))","v":0},{"$f":"IF($E39=\"PASANTE SENA\",0,ROUNDUP(((K39+Q39)*H39)/'SUPUESTOS GASTOS'!$D$12,-3))","v":0},{"$f":"IF($E39=\"PASANTE SENA\",0,ROUNDUP((K39*H39)/('SUPUESTOS GASTOS'!$D$12*2),-3))","v":0},null,0]
[5,4,"C",null,"PROFESIONAL CONTABLE Y RECAUDO 1","2025-01-02","2025-12-31",359,{"$f":"IF(C40=\"C\",'SUPUESTOS GASTOS'!$D$6*SUMIF('SUPUESTOS GASTOS'!$B$38:$B$47,'Anexo 5 Planta y Equipo de trab'!$A40,'SUPUESTOS GASTOS'!$D$38:$D$47),IF($C40=\"N\",0,IF(C40=\"E\",'SUPUESTOS GASTOS'!$D$6*SUMIF('SUPUESTOS GASTOS'!$B$38:$B$47,'Anexo 5 Planta y Equipo de trab'!$A40,'SUPUESTOS GASTOS'!$D$38:$D$47),\"\")))","v":3380000},{"$f":"+'SUPUESTOS GASTOS'!$D$10","v":0.06},{"$f":"IF($C40=\"C\",ROUNDUP((I40*J40)+I40,-3),IF($C40=\"N\",ROUNDUP(('SUPUESTOS GASTOS'!$D$6*SUMIF('SUPUESTOS GASTOS'!$B$38:$B$47,'Anexo 5 Planta y Equipo de trab'!$A40,'SUPUESTOS GASTOS'!$D$38:$D$47)*$J40)+'SUPUESTOS GASTOS'!$D$6*SUMIF('SUPUESTOS GASTOS'!$B$38:$B$47,'Anexo 5 Planta y Equipo de trab'!$A40,'SUPUESTOS GASTOS'!$D$38:$D$47),-3),IF($C40=\"E\",0)))","v":3583000},{"$f":"IFERROR(IF($E40=\"PASANTE SENA\",ROUNDUP((K40*'SUPUESTOS GASTOS'!$D$20),-3),ROUNDUP((K40*'SUPUESTOS GASTOS'!$D$19),-3)),0)","v":305000},{"$f":"IFERROR(IF($E40=\"PASANTE SENA\",0,ROUNDUP((K40*'SUPUESTOS GASTOS'!$D$18),-3)),0)","v":430000},{"$f":"IFERROR(ROUNDUP(K40*SUMIF('SUPUESTOS GASTOS'!$B$24:$B$28,'Anexo 5 Planta y Equipo de trab'!$B40,'SUPUESTOS GASTOS'!$D$24:$D$28),-3),0)","v":156000},{"$f":"IFERROR(IF($E40=\"PASANTE SENA\",0,ROUNDUP((K40*'SUPUESTOS GASTOS'!$D$31),-3)),0)","v":144000},{"$f":"IFERROR(IF($E40=\"PASANTE SENA\",0,ROUNDUP((K40*'SUPUESTOS GASTOS'!$D$32),-3)),0)","v":72000},{"$f":"IF($C40=\"E\",0,IF($E40=\"PASANTE SENA\",0,IF(K40>=('SUPUESTOS GASTOS'!$D$14*2),0,ROUNDUP('SUPUESTOS GASTOS'!$D$15,-3))))","v":0},{"$f":"IFERROR(IF($E40=\"PASANTE SENA\",0,ROUNDUP((K40*'SUPUESTOS GASTOS'!$D$33),-3)),0)","v":108000},{"$f":"ROUNDUP((K40/'SUPUESTOS GASTOS'!$D$13)*H40,-3)","v":42877000},{"$f":"IFERROR(IF($E40=\"PASANTE SENA\",ROUNDUP((S40*'SUPUESTOS GASTOS'!$D$20),-3),ROUNDUP((S40*'SUPUESTOS GASTOS'!$D$19),-3)),0)","v":3645000},{"$f":"IFERROR(IF($E40=\"PASANTE SENA\",0,ROUNDUP((S40*'SUPUESTOS GASTOS'!$D$18),-3)),0)","v":5146000},{"$f":"IFERROR(ROUNDUP(S40*SUMIF('SUPUESTOS GASTOS'!$B$24:$B$28,'Anexo 5 Planta y Equipo de trab'!$B40,'SUPUESTOS GASTOS'!$D$24:$D$28),-3),0)","v":1866000},{"$f":"IFERROR(IF($E40=\"PASANTE SENA\",0,ROUNDUP(((S40+AD40)*'SUPUESTOS GASTOS'!$D$31),-3)),0)","v":1787000},{"$f":"IFERROR(IF($E40=\"PASANTE SENA\",0,ROUNDUP(((S40+AD40)*'SUPUESTOS GASTOS'!$D$32),-3)),0)","v":894000},{"$f":"IF($C40=\"E\",0,IF($E40=\"PASANTE SENA\",0,IF(K40>=('SUPUESTOS GASTOS'!$D$14*2),0,ROUNDUP(('SUPUESTOS GASTOS'!$D$15/'SUPUESTOS GASTOS'!$D$13)*$H40,-3))))","v":0},{"$f":"IFERROR(IF($E40=\"PASANTE SENA\",0,ROUNDUP(((S40+AD40)*'SUPUESTOS GASTOS'!$D$33),-3)),0)","v":1340000},{"$f":"IF($E40=\"PASANTE SENA\",0,ROUNDUP(((K40+Q40)*H40)/'SUPUESTOS GASTOS'!$D$12,-3))","v":3574000},{"$f":"IF($E40=\"PASANTE SENA\",0,ROUNDUP((((AA40)/'SUPUESTOS GASTOS'!$D$12)*H40)*'SUPUESTOS GASTOS'!$D$21,-3))","v":428000},{"$f":"IF($E40=\"PASANTE SENA\",0,ROUNDUP(((K40+Q40)*H40)/'SUPUESTOS GASTOS'!$D$12,-3))","v":3574000},{"$f":"IF($E40=\"PASANTE SENA\",0,ROUNDUP((K40*H40)/('SUPUESTOS GASTOS'!$D$12*2),-3))","v":1787000},null,66918000]
[5,4,"C",null,"PROFESIONAL CONTABLE Y RECAUDO 2","2025-01-02","2025-12-31",359,{"$f":"IF(C41=\"C\",'SUPUESTOS GASTOS'!$D$6*SUMIF('SUPUESTOS GASTOS'!$B$38:$B$47,'Anexo 5 Planta y Equipo de trab'!$A41,'SUPUESTOS GASTOS'!$D$38:$D$47),IF($C41=\"N\",0,IF(C41=\"E\",'SUPUESTOS GASTOS'!$D$6*SUMIF('SUPUESTOS GASTOS'!$B$38:$B$47,'Anexo 5 Planta y Equipo de trab'!$A41,'SUPUESTOS GASTOS'!$D$38:$D$47),\"\")))","v":3380000},{"$f":"+'SUPUESTOS GASTOS'!$D$10","v":0.06},{"$f":"IF($C41=\"C\",ROUNDUP((I41*J41)+I41,-3),IF($C41=\"N\",ROUNDUP(('SUPUESTOS GASTOS'!$D$6*SUMIF('SUPUESTOS GASTOS'!$B$38:$B$47,'Anexo 5 Planta y Equipo de trab'!$A41,'SUPUESTOS GASTOS'!$D$38:$D$47)*$J41)+'SUPUESTOS GASTOS'!$D$6*SUMIF('SUPUESTOS GASTOS'!$B$38:$B$47,'Anexo 5 Planta y Equipo de trab'!$A41,'SUPUESTOS GASTOS'!$D$38:$D$47),-3),IF($C41=\"E\",0)))","v":3583000},{"$f":"IFERROR(IF($E41=\"PASANTE SENA\",ROUNDUP((K41*'SUPUESTOS GASTOS'!$D$20),-3),ROUNDUP((K41*'SUPUESTOS GASTOS'!$D$19),-3)),0)","v":305000},{"$f":"IFERROR(IF($E41=\"PASANTE SENA\",0,ROUNDUP((K41*'SUPUESTOS GASTOS'!$D$18),-3)),0)","v":430000},{"$f":"IFERROR(ROUNDUP(K41*SUMIF('SUPUESTOS GASTOS'!$B$24:$B$28,'Anexo 5 Planta y Equipo de trab'!$B41,'SUPUESTOS GASTOS'!$D$24:$D$28),-3),0)","v":156000},{"$f":"IFERROR(IF($E41=\"PASANTE SENA\",0,ROUNDUP((K41*'SUPUESTOS GASTOS'!$D$31),-3)),0)","v":144000},{"$f":"IFERROR(IF($E41=\"PASANTE SENA\",0,ROUNDUP((K41*'SUPUESTOS GASTOS'!$D$32),-3)),0)","v":72000},{"$f":"IF($C41=\"E\",0,IF($E41=\"PASANTE SENA\",0,IF(K41>=('SUPUESTOS GASTOS'!$D$14*2),0,ROUNDUP('SUPUESTOS GASTOS'!$D$15,-3))))","v":0},{"$f":"IFERROR(IF($E41=\"PASANTE SENA\",0,ROUNDUP((K41*'SUPUESTOS GASTOS'!$D$33),-3)),0)","v":108000},{"$f":"ROUNDUP((K41/'SUPUESTOS GASTOS'!$D$13)*H41,-3)","v":42877000},{"$f":"IFERROR(IF($E41=\"PASANTE SENA\",ROUNDUP((S41*'SUPUESTOS GASTOS'!$D$20),-3),ROUNDUP((S41*'SUPUESTOS GASTOS'!$D$19),-3)),0)","v":3645000},{"$f":"IFERROR(IF($E41=\"PASANTE SENA\",0,ROUNDUP((S41*'SUPUESTOS GASTOS'!$D$18),-3)),0)","v":5146000},{"$f":"IFERROR(ROUNDUP(S41*SUMIF('SUPUESTOS GASTOS'!$B$24:$B$28,'Anexo 5 Planta y Equipo de trab'!$B41,'SUPUESTOS GASTOS'!$D$24:$D$28),-3),0)","v":1866000},{"$f":"IFERROR(IF($E41=\"PASANTE SENA\",0,ROUNDUP(((S41+AD41)*'SUPUESTOS GASTOS'!$D$31),-3)),0)","v":1787000},{"$f":"IFERROR(IF($E41=\"PASANTE SENA\",0,ROUNDUP(((S41+AD41)*'SUPUESTOS GASTOS'!$D$32),-3)),0)","v":894000},{"$f":"IF($C41=\"E\",0,IF($E41=\"PASANTE SENA\",0,IF(K41>=('SUPUESTOS GASTOS'!$D$14*2),0,ROUNDUP(('SUPUESTOS GASTOS'!$D$15/'SUPUESTOS GASTOS'!$D$13)*$H41,-3))))","v":0},{"$f":"IFERROR(IF($E41=\"PASANTE SENA\",0,ROUNDUP(((S41+AD41)*'SUPUESTOS GASTOS'!$D$33),-3)),0)","v":1340000},{"$f":"IF($E41=\"PASANTE SENA\",0,ROUNDUP(((K41+Q41)*H41)/'SUPUESTOS GASTOS'!$D$12,-3))","v":3574000},{"$f":"IF($E41=\"PASANTE SENA\",0,ROUNDUP((((AA41)/'SUPUESTOS GASTOS'!$D$12)*H41)*'SUPUESTOS GASTOS'!$D$21,-3))","v":428000},{"$f":"IF($E41=\"PASANTE SENA\",0,ROUNDUP(((K41+Q41)*H41)/'SUPUESTOS GASTOS'!$D$12,-3))","v":3574000},{"$f":"IF($E41=\"PASANTE SENA\",0,ROUNDUP((K41*H41)/('SUPUESTOS GASTOS'!$D$12*2),-3))","v":1787000},null,66918000]
[5,4,"C",null,"PROFESIONAL CONTABLE Y RECAUDO 3","2025-01-02","2025-12-31",359,{"$f":"IF(C42=\"C\",'SUPUESTOS GASTOS'!$D$6*SUMIF('SUPUESTOS GASTOS'!$B$38:$B$47,'Anexo 5 Planta y Equipo de trab'!$A42,'SUPUESTOS GASTOS'!$D$38:$D$47),IF($C42=\"N\",0,IF(C42=\"E\",'SUPUESTOS GASTOS'!$D$6*SUMIF('SUPUESTOS GASTOS'!$B$38:$B$47,'Anexo 5 Planta y Equipo de trab'!$A42,'SUPUESTOS GASTOS'!$D$38:$D$47),\"\")))","v":3380000},{"$f":"+'SUPUESTOS GASTOS'!$D$10","v":0.06},{"$f":"IF($C42=\"C\",ROUNDUP((I42*J42)+I42,-3),IF($C42=\"N\",ROUNDUP(('SUPUESTOS GASTOS'!$D$6*SUMIF('SUPUESTOS GASTOS'!$B$38:$B$47,'Anexo 5 Planta y Equipo de trab'!$A42,'SUPUESTOS GASTOS'!$D$38:$D$47)*$J42)+'SUPUESTOS GASTOS'!$D$6*SUMIF('SUPUESTOS GASTOS'!$B$38:$B$47,'Anexo 5 Planta y Equipo de trab'!$A42,'SUPUESTOS GASTOS'!$D$38:$D$47),-3),IF($C42=\"E\",0)))","v":3583000},{"$f":"IFERROR(IF($E42=\"PASANTE SENA\",ROUNDUP((K42*'SUPUESTOS GASTOS'!$D$20),-3),ROUNDUP((K42*'SUPUESTOS GASTOS'!$D$19),-3)),0)","v":305000},{"$f":"IFERROR(IF($E42=\"PASANTE SENA\",0,ROUNDUP((K42*'SUPUESTOS GASTOS'!$D$18),-3)),0)","v":430000},{"$f":"IFERROR(ROUNDUP(K42*SUMIF('SUPUESTOS GASTOS'!$B$24:$B$28,'Anexo 5 Planta y Equipo de trab'!$B42,'SUPUESTOS GASTOS'!$D$24:$D$28),-3),0)","v":156000},{"$f":"IFERROR(IF($E42=\"PASANTE SENA\",0,ROUNDUP((K42*'SUPUESTOS GASTOS'!$D$31),-3)),0)","v":144000},{"$f":"IFERROR(IF($E42=\"PASANTE SENA\",0,ROUNDUP((K42*'SUPUESTOS GASTOS'!$D$32),-3)),0)","v":72000},{"$f":"IF($C42=\"E\",0,IF($E42=\"PASANTE SENA\",0,IF(K42>=('SUPUESTOS GASTOS'!$D$14*2),0,ROUNDUP('SUPUESTOS GASTOS'!$D$15,-3))))","v":0},{"$f":"IFERROR(IF($E42=\"PASANTE SENA\",0,ROUNDUP((K42*'SUPUESTOS GASTOS'!$D$33),-3)),0)","v":108000},{"$f":"ROUNDUP((K42/'SUPUESTOS GASTOS'!$D$13)*H42,-3)","v":42877000},{"$f":"IFERROR(IF($E42=\"PASANTE SENA\",ROUNDUP((S42*'SUPUESTOS GASTOS'!$D$20),-3),ROUNDUP((S42*'SUPUESTOS GASTOS'!$D$19),-3)),0)","v":3645000},{"$f":"IFERROR(IF($E42=\"PASANTE SENA\",0,ROUNDUP((S42*'SUPUESTOS GASTOS'!$D$18),-3)),0)","v":5146000},{"$f":"IFERROR(ROUNDUP(S42*SUMIF('SUPUESTOS GASTOS'!$B$24:$B$28,'Anexo 5 Planta y Equipo de trab'!$B42,'SUPUESTOS GASTOS'!$D$24:$D$28),-3),0)","v":1866000},{"$f":"IFERROR(IF($E42=\"PASANTE SENA\",0,ROUNDUP(((S42+AD42)*'SUPUESTOS GASTOS'!$D$31),-3)),0)","v":1787000},{"$f":"IFERROR(IF($E42=\"PASANTE SENA\",0,ROUNDUP(((S42+AD42)*'SUPUESTOS GASTOS'!$D$32),-3)),0)","v":894000},{"$f":"IF($C42=\"E\",0,IF($E42=\"PASANTE SENA\",0,IF(K42>=('SUPUESTOS GASTOS'!$D$14*2),0,ROUNDUP(('SUPUESTOS GASTOS'!$D$15/'SUPUESTOS GASTOS'!$D$13)*$H42,-3))))","v":0},{"$f":"IFERROR(IF($E42=\"PASANTE SENA\",0,ROUNDUP(((S42+AD42)*'SUPUESTOS GASTOS'!$D$33),-3)),0)","v":1340000},{"$f":"IF($E42=\"PASANTE SENA\",0,ROUNDUP(((K42+Q42)*H42)/'SUPUESTOS GASTOS'!$D$12,-3))","v":3574000},{"$f":"IF($E42=\"PASANTE SENA\",0,ROUNDUP((((AA42)/'SUPUESTOS GASTOS'!$D$12)*H42)*'SUPUESTOS GASTOS'!$D$21,-3))","v":428000},{"$f":"IF($E42=\"PASANTE SENA\",0,ROUNDUP(((K42+Q42)*H42)/'SUPUESTOS GASTOS'!$D$12,-3))","v":3574000},{"$f":"IF($E42=\"PASANTE SENA\",0,ROUNDUP((K42*H42)/('SUPUESTOS GASTOS'!$D$12*2),-3))","v":1787000},null,66918000]
[5,4,"C",null,"PROFESIONAL CONTABLE Y RECAUDO 4","2025-01-02","2025-12-31",359,{"$f":"IF(C43=\"C\",'SUPUESTOS GASTOS'!$D$6*SUMIF('SUPUESTOS GASTOS'!$B$38:$B$47,'Anexo 5 Planta y Equipo de trab'!$A43,'SUPUESTOS GASTOS'!$D$38:$D$47),IF($C43=\"N\",0,IF(C43=\"E\",'SUPUESTOS GASTOS'!$D$6*SUMIF('SUPUESTOS GASTOS'!$B$38:$B$47,'Anexo 5 Planta y Equipo de trab'!$A43,'SUPUESTOS GASTOS'!$D$38:$D$47),\"\")))","v":3380000},{"$f":"+'SUPUESTOS GASTOS'!$D$10","v":0.06},{"$f":"IF($C43=\"C\",ROUNDUP((I43*J43)+I43,-3),IF($C43=\"N\",ROUNDUP(('SUPUESTOS GASTOS'!$D$6*SUMIF('SUPUESTOS GASTOS'!$B$38:$B$47,'Anexo 5 Planta y Equipo de trab'!$A43,'SUPUESTOS GASTOS'!$D$38:$D$47)*$J43)+'SUPUESTOS GASTOS'!$D$6*SUMIF('SUPUESTOS GASTOS'!$B$38:$B$47,'Anexo 5 Planta y Equipo de trab'!$A43,'SUPUESTOS GASTOS'!$D$38:$D$47),-3),IF($C43=\"E\",0)))","v":3583000},{"$f":"IFERROR(IF($E43=\"PASANTE SENA\",ROUNDUP((K43*'SUPUESTOS GASTOS'!$D$20),-3),ROUNDUP((K43*'SUPUESTOS GASTOS'!$D$19),-3)),0)","v":305000},{"$f":"IFERROR(IF($E43=\"PASANTE SENA\",0,ROUNDUP((K43*'SUPUESTOS GASTOS'!$D$18),-3)),0)","v":430000},{"$f":"IFERROR(ROUNDUP(K43*SUMIF('SUPUESTOS GASTOS'!$B$24:$B$28,'Anexo 5 Planta y Equipo de trab'!$B43,'SUPUESTOS GASTOS'!$D$24:$D$28),-3),0)","v":156000},{"$f":"IFERROR(IF($E43=\"PASANTE SENA\",0,ROUNDUP((K43*'SUPUESTOS GASTOS'!$D$31),-3)),0)","v":144000},{"$f":"IFERROR(IF($E43=\"PASANTE SENA\",0,ROUNDUP((K43*'SUPUESTOS GASTOS'!$D$32),-3)),0)","v":72000},{"$f":"IF($C43=\"E\",0,IF($E43=\"PASANTE SENA\",0,IF(K43>=('SUPUESTOS GASTOS'!$D$14*2),0,ROUNDUP('SUPUESTOS GASTOS'!$D$15,-3))))","v":0},{"$f":"IFERROR(IF($E43=\"PASANTE SENA\",0,ROUNDUP((K43*'SUPUESTOS GASTOS'!$D$33),-3)),0)","v":108000},{"$f":"ROUNDUP((K43/'SUPUESTOS GASTOS'!$D$13)*H43,-3)","v":42877000},{"$f":"IFERROR(IF($E43=\"PASANTE SENA\",ROUNDUP((S43*'SUPUESTOS GASTOS'!$D$20),-3),ROUNDUP((S43*'SUPUESTOS GASTOS'!$D$19),-3)),0)","v":3645000},{"$f":"IFERROR(IF($E43=\"PASANTE SENA\",0,ROUNDUP((S43*'SUPUESTOS GASTOS'!$D$18),-3)),0)","v":5146000},{"$f":"IFERROR(ROUNDUP(S43*SUMIF('SUPUESTOS GASTOS'!$B$24:$B$28,'Anexo 5 Planta y Equipo de trab'!$B43,'SUPUESTOS GASTOS'!$D$24:$D$28),-3),0)","v":1866000},{"$f":"IFERROR(IF($E43=\"PASANTE SENA\",0,ROUNDUP(((S43+AD43)*'SUPUESTOS GASTOS'!$D$31),-3)),0)","v":1787000},{"$f":"IFERROR(IF($E43=\"PASANTE SENA\",0,ROUNDUP(((S43+AD43)*'SUPUESTOS GASTOS'!$D$32),-3)),0)","v":894000},{"$f":"IF($C43=\"E\",0,IF($E43=\"PASANTE SENA\",0,IF(K43>=('SUPUESTOS GASTOS'!$D$14*2),0,ROUNDUP(('SUPUESTOS GASTOS'!$D$15/'SUPUESTOS GASTOS'!$D$13)*$H43,-3))))","v":0},{"$f":"IFERROR(IF($E43=\"PASANTE SENA\",0,ROUNDUP(((S43+AD43)*'SUPUESTOS GASTOS'!$D$33),-3)),0)","v":1340000},{"$f":"IF($E43=\"PASANTE SENA\",0,ROUNDUP(((K43+Q43)*H43)/'SUPUESTOS GASTOS'!$D$12,-3))","v":3574000},{"$f":"IF($E43=\"PASANTE SENA\",0,ROUNDUP((((AA43)/'SUPUESTOS GASTOS'!$D$12)*H43)*'SUPUESTOS GASTOS'!$D$21,-3))","v":428000},{"$f":"IF($E43=\"PASANTE SENA\",0,ROUNDUP(((K43+Q43)*H43)/'SUPUESTOS GASTOS'!$D$12,-3))","v":3574000},{"$f":"IF($E43=\"PASANTE SENA\",0,ROUNDUP((K43*H43)/('SUPUESTOS GASTOS'!$D$12*2),-3))","v":1787000},null,66918000]
[5,4,"C",null,"PROFESIONAL CONTABLE Y RECAUDO 5","2025-01-02","2025-12-31",359,{"$f":"IF(C44=\"C\",'SUPUESTOS GASTOS'!$D$6*SUMIF('SUPUESTOS GASTOS'!$B$38:$B$47,'Anexo 5 Planta y Equipo de trab'!$A44,'SUPUESTOS GASTOS'!$D$38:$D$47),IF($C44=\"N\",0,IF(C44=\"E\",'SUPUESTOS GASTOS'!$D$6*SUMIF('SUPUESTOS GASTOS'!$B$38:$B$47,'Anexo 5 Planta y Equipo de trab'!$A44,'SUPUESTOS GASTOS'!$D$38:$D$47),\"\")))","v":3380000},{"$f":"+'SUPUESTOS GASTOS'!$D$10","v":0.06},{"$f":"IF($C44=\"C\",ROUNDUP((I44*J44)+I44,-3),IF($C44=\"N\",ROUNDUP(('SUPUESTOS GASTOS'!$D$6*SUMIF('SUPUESTOS GASTOS'!$B$38:$B$47,'Anexo 5 Planta y Equipo de trab'!$A44,'SUPUESTOS GASTOS'!$D$38:$D$47)*$J44)+'SUPUESTOS GASTOS'!$D$6*SUMIF('SUPUESTOS GASTOS'!$B$38:$B$47,'Anexo 5 Planta y Equipo de trab'!$A44,'SUPUESTOS GASTOS'!$D$38:$D$47),-3),IF($C44=\"E\",0)))","v":3583000},{"$f":"IFERROR(IF($E44=\"PASANTE SENA\",ROUNDUP((K44*'SUPUESTOS GASTOS'!$D$20),-3),ROUNDUP((K44*'SUPUESTOS GASTOS'!$D$19),-3)),0)","v":305000},{"$f":"IFERROR(IF($E44=\"PASANTE SENA\",0,ROUNDUP((K44*'SUPUESTOS GASTOS'!$D$18),-3)),0)","v":430000},{"$f":"IFERROR(ROUNDUP(K44*SUMIF('SUPUESTOS GASTOS'!$B$24:$B$28,'Anexo 5 Planta y Equipo de trab'!$B44,'SUPUESTOS GASTOS'!$D$24:$D$28),-3),0)","v":156000},{"$f":"IFERROR(IF($E44=\"PASANTE SENA\",0,ROUNDUP((K44*'SUPUESTOS GASTOS'!$D$31),-3)),0)","v":144000},{"$f":"IFERROR(IF($E44=\"PASANTE SENA\",0,ROUNDUP((K44*'SUPUESTOS GASTOS'!$D$32),-3)),0)","v":72000},{"$f":"IF($C44=\"E\",0,IF($E44=\"PASANTE SENA\",0,IF(K44>=('SUPUESTOS GASTOS'!$D$14*2),0,ROUNDUP('SUPUESTOS GASTOS'!$D$15,-3))))","v":0},{"$f":"IFERROR(IF($E44=\"PASANTE SENA\",0,ROUNDUP((K44*'SUPUESTOS GASTOS'!$D$33),-3)),0)","v":108000},{"$f":"ROUNDUP((K44/'SUPUESTOS GASTOS'!$D$13)*H44,-3)","v":42877000},{"$f":"IFERROR(IF($E44=\"PASANTE SENA\",ROUNDUP((S44*'SUPUESTOS GASTOS'!$D$20),-3),ROUNDUP((S44*'SUPUESTOS GASTOS'!$D$19),-3)),0)","v":3645000},{"$f":"IFERROR(IF($E44=\"PASANTE SENA\",0,ROUNDUP((S44*'SUPUESTOS GASTOS'!$D$18),-3)),0)","v":5146000},{"$f":"IFERROR(ROUNDUP(S44*SUMIF('SUPUESTOS GASTOS'!$B$24:$B$28,'Anexo 5 Planta y Equipo de trab'!$B44,'SUPUESTOS GASTOS'!$D$24:$D$28),-3),0)","v":1866000},{"$f":"IFERROR(IF($E44=\"PASANTE SENA\",0,ROUNDUP(((S44+AD44)*'SUPUESTOS GASTOS'!$D$31),-3)),0)","v":1787000},{"$f":"IFERROR(IF($E44=\"PASANTE SENA\",0,ROUNDUP(((S44+AD44)*'SUPUESTOS GASTOS'!$D$32),-3)),0)","v":894000},{"$f":"IF($C44=\"E\",0,IF($E44=\"PASANTE SENA\",0,IF(K44>=('SUPUESTOS GASTOS'!$D$14*2),0,ROUNDUP(('SUPUESTOS GASTOS'!$D$15/'SUPUESTOS GASTOS'!$D$13)*$H44,-3))))","v":0},{"$f":"IFERROR(IF($E44=\"PASANTE SENA\",0,ROUNDUP(((S44+AD44)*'SUPUESTOS GASTOS'!$D$33),-3)),0)","v":1340000},{"$f":"IF($E44=\"PASANTE SENA\",0,ROUNDUP(((K44+Q44)*H44)/'SUPUESTOS GASTOS'!$D$12,-3))","v":3574000},{"$f":"IF($E44=\"PASANTE SENA\",0,ROUNDUP((((AA44)/'SUPUESTOS GASTOS'!$D$12)*H44)*'SUPUESTOS GASTOS'!$D$21,-3))","v":428000},{"$f":"IF($E44=\"PASANTE SENA\",0,ROUNDUP(((K44+Q44)*H44)/'SUPUESTOS GASTOS'!$D$12,-3))","v":3574000},{"$f":"IF($E44=\"PASANTE SENA\",0,ROUNDUP((K44*H44)/('SUPUESTOS GASTOS'!$D$12*2),-3))","v":1787000},null,66918000]
[5,4,"C",null,"PROFESIONAL CONTABLE Y RECAUDO 6","2025-01-02","2025-12-31",359,{"$f":"IF(C45=\"C\",'SUPUESTOS GASTOS'!$D$6*SUMIF('SUPUESTOS GASTOS'!$B$38:$B$47,'Anexo 5 Planta y Equipo de trab'!$A45,'SUPUESTOS GASTOS'!$D$38:$D$47),IF($C45=\"N\",0,IF(C45=\"E\",'SUPUESTOS GASTOS'!$D$6*SUMIF('SUPUESTOS GASTOS'!$B$38:$B$47,'Anexo 5 Planta y Equipo de trab'!$A45,'SUPUESTOS GASTOS'!$D$38:$D$47),\"\")))","v":3380000},{"$f":"+'SUPUESTOS GASTOS'!$D$10","v":0.06},{"$f":"IF($C45=\"C\",ROUNDUP((I45*J45)+I45,-3),IF($C45=\"N\",ROUNDUP(('SUPUESTOS GASTOS'!$D$6*SUMIF('SUPUESTOS GASTOS'!$B$38:$B$47,'Anexo 5 Planta y Equipo de trab'!$A45,'SUPUESTOS GASTOS'!$D$38:$D$47)*$J45)+'SUPUESTOS GASTOS'!$D$6*SUMIF('SUPUESTOS GASTOS'!$B$38:$B$47,'Anexo 5 Planta y Equipo de trab'!$A45,'SUPUESTOS GASTOS'!$D$38:$D$47),-3),IF($C45=\"E\",0)))","v":3583000},{"$f":"IFERROR(IF($E45=\"PASANTE SENA\",ROUNDUP((K45*'SUPUESTOS GASTOS'!$D$20),-3),ROUNDUP((K45*'SUPUESTOS GASTOS'!$D$19),-3)),0)","v":305000},{"$f":"IFERROR(IF($E45=\"PASANTE SENA\",0,ROUNDUP((K45*'SUPUESTOS GASTOS'!$D$18),-3)),0)","v":430000},{"$f":"IFERROR(ROUNDUP(K45*SUMIF('SUPUESTOS GASTOS'!$B$24:$B$28,'Anexo 5 Planta y Equipo de trab'!$B45,'SUPUESTOS GASTOS'!$D$24:$D$28),-3),0)","v":156000},{"$f":"IFERROR(IF($E45=\"PASANTE SENA\",0,ROUNDUP((K45*'SUPUESTOS GASTOS'!$D$31),-3)),0)","v":144000},{"$f":"IFERROR(IF($E45=\"PASANTE SENA\",0,ROUNDUP((K45*'SUPUESTOS GASTOS'!$D$32),-3)),0)","v":72000},{"$f":"IF($C45=\"E\",0,IF($E45=\"PASANTE SENA\",0,IF(K45>=('SUPUESTOS GASTOS'!$D$14*2),0,ROUNDUP('SUPUESTOS GASTOS'!$D$15,-3))))","v":0},{"$f":"IFERROR(IF($E45=\"PASANTE SENA\",0,ROUNDUP((K45*'SUPUESTOS GASTOS'!$D$33),-3)),0)","v":108000},{"$f":"ROUNDUP((K45/'SUPUESTOS GASTOS'!$D$13)*H45,-3)","v":42877000},{"$f":"IFERROR(IF($E45=\"PASANTE SENA\",ROUNDUP((S45*'SUPUESTOS GASTOS'!$D$20),-3),ROUNDUP((S45*'SUPUESTOS GASTOS'!$D$19),-3)),0)","v":3645000},{"$f":"IFERROR(IF($E45=\"PASANTE SENA\",0,ROUNDUP((S45*'SUPUESTOS GASTOS'!$D$18),-3)),0)","v":5146000},{"$f":"IFERROR(ROUNDUP(S45*SUMIF('SUPUESTOS GASTOS'!$B$24:$B$28,'Anexo 5 Planta y Equipo de trab'!$B45,'SUPUESTOS GASTOS'!$D$24:$D$28),-3),0)","v":1866000},{"$f":"IFERROR(IF($E45=\"PASANTE SENA\",0,ROUNDUP(((S45+AD45)*'SUPUESTOS GASTOS'!$D$31),-3)),0)","v":1787000},{"$f":"IFERROR(IF($E45=\"PASANTE SENA\",0,ROUNDUP(((S45+AD45)*'SUPUESTOS GASTOS'!$D$32),-3)),0)","v":894000},{"$f":"IF($C45=\"E\",0,IF($E45=\"PASANTE SENA\",0,IF(K45>=('SUPUESTOS GASTOS'!$D$14*2),0,ROUNDUP(('SUPUESTOS GASTOS'!$D$15/'SUPUESTOS GASTOS'!$D$13)*$H45,-3))))","v":0},{"$f":"IFERROR(IF($E45=\"PASANTE SENA\",0,ROUNDUP(((S45+AD45)*'SUPUESTOS GASTOS'!$D$33),-3)),0)","v":1340000},{"$f":"IF($E45=\"PASANTE SENA\",0,ROUNDUP(((K45+Q45)*H45)/'SUPUESTOS GASTOS'!$D$12,-3))","v":3574000},{"$f":"IF($E45=\"PASANTE SENA\",0,ROUNDUP((((AA45)/'SUPUESTOS GASTOS'!$D$12)*H45)*'SUPUESTOS GASTOS'!$D$21,-3))","v":428000},{"$f":"IF($E45=\"PASANTE SENA\",0,ROUNDUP(((K45+Q45)*H45)/'SUPUESTOS GASTOS'!$D$12,-3))","v":3574000},{"$f":"IF($E45=\"PASANTE SENA\",0,ROUNDUP((K45*H45)/('SUPUESTOS GASTOS'!$D$12*2),-3))","v":1787000},null,66918000]
[5,4,"C",null,"PROFESIONAL CONTABLE Y RECAUDO 7","2025-01-02","2025-12-31",359,{"$f":"IF(C46=\"C\",'SUPUESTOS GASTOS'!$D$6*SUMIF('SUPUESTOS GASTOS'!$B$38:$B$47,'Anexo 5 Planta y Equipo de trab'!$A46,'SUPUESTOS GASTOS'!$D$38:$D$47),IF($C46=\"N\",0,IF(C46=\"E\",'SUPUESTOS GASTOS'!$D$6*SUMIF('SUPUESTOS GASTOS'!$B$38:$B$47,'Anexo 5 Planta y Equipo de trab'!$A46,'SUPUESTOS GASTOS'!$D$38:$D$47),\"\")))","v":3380000},{"$f":"+'SUPUESTOS GASTOS'!$D$10","v":0.06},{"$f":"IF($C46=\"C\",ROUNDUP((I46*J46)+I46,-3),IF($C46=\"N\",ROUNDUP(('SUPUESTOS GASTOS'!$D$6*SUMIF('SUPUESTOS GASTOS'!$B$38:$B$47,'Anexo 5 Planta y Equipo de trab'!$A46,'SUPUESTOS GASTOS'!$D$38:$D$47)*$J46)+'SUPUESTOS GASTOS'!$D$6*SUMIF('SUPUESTOS GASTOS'!$B$38:$B$47,'Anexo 5 Planta y Equipo de trab'!$A46,'SUPUESTOS GASTOS'!$D$38:$D$47),-3),IF($C46=\"E\",0)))","v":3583000},{"$f":"IFERROR(IF($E46=\"PASANTE SENA\",ROUNDUP((K46*'SUPUESTOS GASTOS'!$D$20),-3),ROUNDUP((K46*'SUPUESTOS GASTOS'!$D$19),-3)),0)","v":305000},{"$f":"IFERROR(IF($E46=\"PASANTE SENA\",0,ROUNDUP((K46*'SUPUESTOS GASTOS'!$D$18),-3)),0)","v":430000},{"$f":"IFERROR(ROUNDUP(K46*SUMIF('SUPUESTOS GASTOS'!$B$24:$B$28,'Anexo 5 Planta y Equipo de trab'!$B46,'SUPUESTOS GASTOS'!$D$24:$D$28),-3),0)","v":156000},{"$f":"IFERROR(IF($E46=\"PASANTE SENA\",0,ROUNDUP((K46*'SUPUESTOS GASTOS'!$D$31),-3)),0)","v":144000},{"$f":"IFERROR(IF($E46=\"PASANTE SENA\",0,ROUNDUP((K46*'SUPUESTOS GASTOS'!$D$32),-3)),0)","v":72000},{"$f":"IF($C46=\"E\",0,IF($E46=\"PASANTE SENA\",0,IF(K46>=('SUPUESTOS GASTOS'!$D$14*2),0,ROUNDUP('SUPUESTOS GASTOS'!$D$15,-3))))","v":0},{"$f":"IFERROR(IF($E46=\"PASANTE SENA\",0,ROUNDUP((K46*'SUPUESTOS GASTOS'!$D$33),-3)),0)","v":108000},{"$f":"ROUNDUP((K46/'SUPUESTOS GASTOS'!$D$13)*H46,-3)","v":42877000},{"$f":"IFERROR(IF($E46=\"PASANTE SENA\",ROUNDUP((S46*'SUPUESTOS GASTOS'!$D$20),-3),ROUNDUP((S46*'SUPUESTOS GASTOS'!$D$19),-3)),0)","v":3645000},{"$f":"IFERROR(IF($E46=\"PASANTE SENA\",0,ROUNDUP((S46*'SUPUESTOS GASTOS'!$D$18),-3)),0)","v":5146000},{"$f":"IFERROR(ROUNDUP(S46*SUMIF('SUPUESTOS GASTOS'!$B$24:$B$28,'Anexo 5 Planta y Equipo de trab'!$B46,'SUPUESTOS GASTOS'!$D$24:$D$28),-3),0)","v":1866000},{"$f":"IFERROR(IF($E46=\"PASANTE SENA\",0,ROUNDUP(((S46+AD46)*'SUPUESTOS GASTOS'!$D$31),-3)),0)","v":1787000},{"$f":"IFERROR(IF($E46=\"PASANTE SENA\",0,ROUNDUP(((S46+AD46)*'SUPUESTOS GASTOS'!$D$32),-3)),0)","v":894000},{"$f":"IF($C46=\"E\",0,IF($E46=\"PASANTE SENA\",0,IF(K46>=('SUPUESTOS GASTOS'!$D$14*2),0,ROUNDUP(('SUPUESTOS GASTOS'!$D$15/'SUPUESTOS GASTOS'!$D$13)*$H46,-3))))","v":0},{"$f":"IFERROR(IF($E46=\"PASANTE SENA\",0,ROUNDUP(((S46+AD46)*'SUPUESTOS GASTOS'!$D$33),-3)),0)","v":1340000},{"$f":"IF($E46=\"PASANTE SENA\",0,ROUNDUP(((K46+Q46)*H46)/'SUPUESTOS GASTOS'!$D$12,-3))","v":3574000},{"$f":"IF($E46=\"PASANTE SENA\",0,ROUNDUP((((AA46)/'SUPUESTOS GASTOS'!$D$12)*H46)*'SUPUESTOS GASTOS'!$D$21,-3))","v":428000},{"$f":"IF($E46=\"PASANTE SENA\",0,ROUNDUP(((K46+Q46)*H46)/'SUPUESTOS GASTOS'!$D$12,-3))","v":3574000},{"$f":"IF($E46=\"PASANTE SENA\",0,ROUNDUP((K46*H46)/('SUPUESTOS GASTOS'!$D$12*2),-3))","v":1787000},null,66918000]
[5,4,"C",null,"PROFESIONAL CONTABLE Y RECAUDO 8","2025-01-02","2025-12-31",359,{"$f":"IF(C47=\"C\",'SUPUESTOS GASTOS'!$D$6*SUMIF('SUPUESTOS GASTOS'!$B$38:$B$47,'Anexo 5 Planta y Equipo de trab'!$A47,'SUPUESTOS GASTOS'!$D$38:$D$47),IF($C47=\"N\",0,IF(C47=\"E\",'SUPUESTOS GASTOS'!$D$6*SUMIF('SUPUESTOS GASTOS'!$B$38:$B$47,'Anexo 5 Planta y Equipo de trab'!$A47,'SUPUESTOS GASTOS'!$D$38:$D$47),\"\")))","v":3380000},{"$f":"+'SUPUESTOS GASTOS'!$D$10","v":0.06},{"$f":"IF($C47=\"C\",ROUNDUP((I47*J47)+I47,-3),IF($C47=\"N\",ROUNDUP(('SUPUESTOS GASTOS'!$D$6*SUMIF('SUPUESTOS GASTOS'!$B$38:$B$47,'Anexo 5 Planta y Equipo de trab'!$A47,'SUPUESTOS GASTOS'!$D$38:$D$47)*$J47)+'SUPUESTOS GASTOS'!$D$6*SUMIF('SUPUESTOS GASTOS'!$B$38:$B$47,'Anexo 5 Planta y Equipo de trab'!$A47,'SUPUESTOS GASTOS'!$D$38:$D$47),-3),IF($C47=\"E\",0)))","v":3583000},{"$f":"IFERROR(IF($E47=\"PASANTE SENA\",ROUNDUP((K47*'SUPUESTOS GASTOS'!$D$20),-3),ROUNDUP((K47*'SUPUESTOS GASTOS'!$D$19),-3)),0)","v":305000},{"$f":"IFERROR(IF($E47=\"PASANTE SENA\",0,ROUNDUP((K47*'SUPUESTOS GASTOS'!$D$18),-3)),0)","v":430000},{"$f":"IFERROR(ROUNDUP(K47*SUMIF('SUPUESTOS GASTOS'!$B$24:$B$28,'Anexo 5 Planta y Equipo de trab'!$B47,'SUPUESTOS GASTOS'!$D$24:$D$28),-3),0)","v":156000},{"$f":"IFERROR(IF($E47=\"PASANTE SENA\",0,ROUNDUP((K47*'SUPUESTOS GASTOS'!$D$31),-3)),0)","v":144000},{"$f":"IFERROR(IF($E47=\"PASANTE SENA\",0,ROUNDUP((K47*'SUPUESTOS GASTOS'!$D$32),-3)),0)","v":72000},{"$f":"IF($C47=\"E\",0,IF($E47=\"PASANTE SENA\",0,IF(K47>=('SUPUESTOS GASTOS'!$D$14*2),0,ROUNDUP('SUPUESTOS GASTOS'!$D$15,-3))))","v":0},{"$f":"IFERROR(IF($E47=\"PASANTE SENA\",0,ROUNDUP((K47*'SUPUESTOS GASTOS'!$D$33),-3)),0)","v":108000},{"$f":"ROUNDUP((K47/'SUPUESTOS GASTOS'!$D$13)*H47,-3)","v":42877000},{"$f":"IFERROR(IF($E47=\"PASANTE SENA\",ROUNDUP((S47*'SUPUESTOS GASTOS'!$D$20),-3),ROUNDUP((S47*'SUPUESTOS GASTOS'!$D$19),-3)),0)","v":3645000},{"$f":"IFERROR(IF($E47=\"PASANTE SENA\",0,ROUNDUP((S47*'SUPUESTOS GASTOS'!$D$18),-3)),0)","v":5146000},{"$f":"IFERROR(ROUNDUP(S47*SUMIF('SUPUESTOS GASTOS'!$B$24:$B$28,'Anexo 5 Planta y Equipo de trab'!$B47,'SUPUESTOS GASTOS'!$D$24:$D$28),-3),0)","v":1866000},{"$f":"IFERROR(IF($E47=\"PASANTE SENA\",0,ROUNDUP(((S47+AD47)*'SUPUESTOS GASTOS'!$D$31),-3)),0)","v":1787000},{"$f":"IFERROR(IF($E47=\"PASANTE SENA\",0,ROUNDUP(((S47+AD47)*'SUPUESTOS GASTOS'!$D$32),-3)),0)","v":894000},{"$f":"IF($C47=\"E\",0,IF($E47=\"PASANTE SENA\",0,IF(K47>=('SUPUESTOS GASTOS'!$D$14*2),0,ROUNDUP(('SUPUESTOS GASTOS'!$D$15/'SUPUESTOS GASTOS'!$D$13)*$H47,-3))))","v":0},{"$f":"IFERROR(IF($E47=\"PASANTE SENA\",0,ROUNDUP(((S47+AD47)*'SUPUESTOS GASTOS'!$D$33),-3)),0)","v":1340000},{"$f":"IF($E47=\"PASANTE SENA\",0,ROUNDUP(((K47+Q47)*H47)/'SUPUESTOS GASTOS'!$D$12,-3))","v":3574000},{"$f":"IF($E47=\"PASANTE SENA\",0,ROUNDUP((((AA47)/'SUPUESTOS GASTOS'!$D$12)*H47)*'SUPUESTOS GASTOS'!$D$21,-3))","v":428000},{"$f":"IF($E47=\"PASANTE SENA\",0,ROUNDUP(((K47+Q47)*H47)/'SUPUESTOS GASTOS'!$D$12,-3))","v":3574000},{"$f":"IF($E47=\"PASANTE SENA\",0,ROUNDUP((K47*H47)/('SUPUESTOS GASTOS'!$D$12*2),-3))","v":1787000},null,66918000]
[5,4,"C",null,"PROFESIONAL CONTABLE Y RECAUDO 9","2025-01-02","2025-12-31",{"$f":"DAYS360(F48,G48)","v":359},{"$f":"IF(C48=\"C\",'SUPUESTOS GASTOS'!$D$6*SUMIF('SUPUESTOS GASTOS'!$B$38:$B$47,'Anexo 5 Planta y Equipo de trab'!$A48,'SUPUESTOS GASTOS'!$D$38:$D$47),IF($C48=\"N\",0,IF(C48=\"E\",'SUPUESTOS GASTOS'!$D$6*SUMIF('SUPUESTOS GASTOS'!$B$38:$B$47,'Anexo 5 Planta y Equipo de trab'!$A48,'SUPUESTOS GASTOS'!$D$38:$D$47),\"\")))","v":3380000},{"$f":"+'SUPUESTOS GASTOS'!$D$10","v":0.06},{"$f":"IF($C48=\"C\",ROUNDUP((I48*J48)+I48,-3),IF($C48=\"N\",ROUNDUP(('SUPUESTOS GASTOS'!$D$6*SUMIF('SUPUESTOS GASTOS'!$B$38:$B$47,'Anexo 5 Planta y Equipo de trab'!$A48,'SUPUESTOS GASTOS'!$D$38:$D$47)*$J48)+'SUPUESTOS GASTOS'!$D$6*SUMIF('SUPUESTOS GASTOS'!$B$38:$B$47,'Anexo 5 Planta y Equipo de trab'!$A48,'SUPUESTOS GASTOS'!$D$38:$D$47),-3),IF($C48=\"E\",0)))","v":3583000},{"$f":"IFERROR(IF($E48=\"PASANTE SENA\",ROUNDUP((K48*'SUPUESTOS GASTOS'!$D$20),-3),ROUNDUP((K48*'SUPUESTOS GASTOS'!$D$19),-3)),0)","v":305000},{"$f":"IFERROR(IF($E48=\"PASANTE SENA\",0,ROUNDUP((K48*'SUPUESTOS GASTOS'!$D$18),-3)),0)","v":430000},{"$f":"IFERROR(ROUNDUP(K48*SUMIF('SUPUESTOS GASTOS'!$B$24:$B$28,'Anexo 5 Planta y Equipo de trab'!$B48,'SUPUESTOS GASTOS'!$D$24:$D$28),-3),0)","v":156000},{"$f":"IFERROR(IF($E48=\"PASANTE SENA\",0,ROUNDUP((K48*'SUPUESTOS GASTOS'!$D$31),-3)),0)","v":144000},{"$f":"IFERROR(IF($E48=\"PASANTE SENA\",0,ROUNDUP((K48*'SUPUESTOS GASTOS'!$D$32),-3)),0)","v":72000},{"$f":"IF($C48=\"E\",0,IF($E48=\"PASANTE SENA\",0,IF(K48>=('SUPUESTOS GASTOS'!$D$14*2),0,ROUNDUP('SUPUESTOS GASTOS'!$D$15,-3))))","v":0},{"$f":"IFERROR(IF($E48=\"PASANTE SENA\",0,ROUNDUP((K48*'SUPUESTOS GASTOS'!$D$33),-3)),0)","v":108000},{"$f":"ROUNDUP((K48/'SUPUESTOS GASTOS'!$D$13)*H48,-3)","v":42877000},{"$f":"IFERROR(IF($E48=\"PASANTE SENA\",ROUNDUP((S48*'SUPUESTOS GASTOS'!$D$20),-3),ROUNDUP((S48*'SUPUESTOS GASTOS'!$D$19),-3)),0)","v":3645000},{"$f":"IFERROR(IF($E48=\"PASANTE SENA\",0,ROUNDUP((S48*'SUPUESTOS GASTOS'!$D$18),-3)),0)","v":5146000},{"$f":"IFERROR(ROUNDUP(S48*SUMIF('SUPUESTOS GASTOS'!$B$24:$B$28,'Anexo 5 Planta y Equipo de trab'!$B48,'SUPUESTOS GASTOS'!$D$24:$D$28),-3),0)","v":1866000},{"$f":"IFERROR(IF($E48=\"PASANTE SENA\",0,ROUNDUP(((S48+AD48)*'SUPUESTOS GASTOS'!$D$31),-3)),0)","v":1787000},{"$f":"IFERROR(IF($E48=\"PASANTE SENA\",0,ROUNDUP(((S48+AD48)*'SUPUESTOS GASTOS'!$D$32),-3)),0)","v":894000},{"$f":"IF($C48=\"E\",0,IF($E48=\"PASANTE SENA\",0,IF(K48>=('SUPUESTOS GASTOS'!$D$14*2),0,ROUNDUP(('SUPUESTOS GASTOS'!$D$15/'SUPUESTOS GASTOS'!$D$13)*$H48,-3))))","v":0},{"$f":"IFERROR(IF($E48=\"PASANTE SENA\",0,ROUNDUP(((S48+AD48)*'SUPUESTOS GASTOS'!$D$33),-3)),0)","v":1340000},{"$f":"IF($E48=\"PASANTE SENA\",0,ROUNDUP(((K48+Q48)*H48)/'SUPUESTOS GASTOS'!$D$12,-3))","v":3574000},{"$f":"IF($E48=\"PASANTE SENA\",0,ROUNDUP((((AA48)/'SUPUESTOS GASTOS'!$D$12)*H48)*'SUPUESTOS GASTOS'!$D$21,-3))","v":428000},{"$f":"IF($E48=\"PASANTE SENA\",0,ROUNDUP(((K48+Q48)*H48)/'SUPUESTOS GASTOS'!$D$12,-3))","v":3574000},{"$f":"IF($E48=\"PASANTE SENA\",0,ROUNDUP((K48*H48)/('SUPUESTOS GASTOS'!$D$12*2),-3))","v":1787000},null,66918000]
[5,4,"C",null,"PROFESIONAL CONTABLE Y RECAUDO 10","2025-01-02","2025-12-31",{"$f":"DAYS360(F49,G49)","v":359},{"$f":"IF(C49=\"C\",'SUPUESTOS GASTOS'!$D$6*SUMIF('SUPUESTOS GASTOS'!$B$38:$B$47,'Anexo 5 Planta y Equipo de trab'!$A49,'SUPUESTOS GASTOS'!$D$38:$D$47),IF($C49=\"N\",0,IF(C49=\"E\",'SUPUESTOS GASTOS'!$D$6*SUMIF('SUPUESTOS GASTOS'!$B$38:$B$47,'Anexo 5 Planta y Equipo de trab'!$A49,'SUPUESTOS GASTOS'!$D$38:$D$47),\"\")))","v":3380000},{"$f":"+'SUPUESTOS GASTOS'!$D$10","v":0.06},{"$f":"IF($C49=\"C\",ROUNDUP((I49*J49)+I49,-3),IF($C49=\"N\",ROUNDUP(('SUPUESTOS GASTOS'!$D$6*SUMIF('SUPUESTOS GASTOS'!$B$38:$B$47,'Anexo 5 Planta y Equipo de trab'!$A49,'SUPUESTOS GASTOS'!$D$38:$D$47)*$J49)+'SUPUESTOS GASTOS'!$D$6*SUMIF('SUPUESTOS GASTOS'!$B$38:$B$47,'Anexo 5 Planta y Equipo de trab'!$A49,'SUPUESTOS GASTOS'!$D$38:$D$47),-3),IF($C49=\"E\",0)))","v":3583000},{"$f":"IFERROR(IF($E49=\"PASANTE SENA\",ROUNDUP((K49*'SUPUESTOS GASTOS'!$D$20),-3),ROUNDUP((K49*'SUPUESTOS GASTOS'!$D$19),-3)),0)","v":305000},{"$f":"IFERROR(IF($E49=\"PASANTE SENA\",0,ROUNDUP((K49*'SUPUESTOS GASTOS'!$D$18),-3)),0)","v":430000},{"$f":"IFERROR(ROUNDUP(K49*SUMIF('SUPUESTOS GASTOS'!$B$24:$B$28,'Anexo 5 Planta y Equipo de trab'!$B49,'SUPUESTOS GASTOS'!$D$24:$D$28),-3),0)","v":156000},{"$f":"IFERROR(IF($E49=\"PASANTE SENA\",0,ROUNDUP((K49*'SUPUESTOS GASTOS'!$D$31),-3)),0)","v":144000},{"$f":"IFERROR(IF($E49=\"PASANTE SENA\",0,ROUNDUP((K49*'SUPUESTOS GASTOS'!$D$32),-3)),0)","v":72000},{"$f":"IF($C49=\"E\",0,IF($E49=\"PASANTE SENA\",0,IF(K49>=('SUPUESTOS GASTOS'!$D$14*2),0,ROUNDUP('SUPUESTOS GASTOS'!$D$15,-3))))","v":0},{"$f":"IFERROR(IF($E49=\"PASANTE SENA\",0,ROUNDUP((K49*'SUPUESTOS GASTOS'!$D$33),-3)),0)","v":108000},{"$f":"ROUNDUP((K49/'SUPUESTOS GASTOS'!$D$13)*H49,-3)","v":42877000},{"$f":"IFERROR(IF($E49=\"PASANTE SENA\",ROUNDUP((S49*'SUPUESTOS GASTOS'!$D$20),-3),ROUNDUP((S49*'SUPUESTOS GASTOS'!$D$19),-3)),0)","v":3645000},{"$f":"IFERROR(IF($E49=\"PASANTE SENA\",0,ROUNDUP((S49*'SUPUESTOS GASTOS'!$D$18),-3)),0)","v":5146000},{"$f":"IFERROR(ROUNDUP(S49*SUMIF('SUPUESTOS GASTOS'!$B$24:$B$28,'Anexo 5 Planta y Equipo de trab'!$B49,'SUPUESTOS GASTOS'!$D$24:$D$28),-3),0)","v":1866000},{"$f":"IFERROR(IF($E49=\"PASANTE SENA\",0,ROUNDUP(((S49+AD49)*'SUPUESTOS GASTOS'!$D$31),-3)),0)","v":1787000},{"$f":"IFERROR(IF($E49=\"PASANTE SENA\",0,ROUNDUP(((S49+AD49)*'SUPUESTOS GASTOS'!$D$32),-3)),0)","v":894000},{"$f":"IF($C49=\"E\",0,IF($E49=\"PASANTE SENA\",0,IF(K49>=('SUPUESTOS GASTOS'!$D$14*2),0,ROUNDUP(('SUPUESTOS GASTOS'!$D$15/'SUPUESTOS GASTOS'!$D$13)*$H49,-3))))","v":0},{"$f":"IFERROR(IF($E49=\"PASANTE SENA\",0,ROUNDUP(((S49+AD49)*'SUPUESTOS GASTOS'!$D$33),-3)),0)","v":1340000},{"$f":"IF($E49=\"PASANTE SENA\",0,ROUNDUP(((K49+Q49)*H49)/'SUPUESTOS GASTOS'!$D$12,-3))","v":3574000},{"$f":"IF($E49=\"PASANTE SENA\",0,ROUNDUP((((AA49)/'SUPUESTOS GASTOS'!$D$12)*H49)*'SUPUESTOS GASTOS'!$D$21,-3))","v":428000},{"$f":"IF($E49=\"PASANTE SENA\",0,ROUNDUP(((K49+Q49)*H49)/'SUPUESTOS GASTOS'!$D$12,-3))","v":3574000},{"$f":"IF($E49=\"PASANTE SENA\",0,ROUNDUP((K49*H49)/('SUPUESTOS GASTOS'!$D$12*2),-3))","v":1787000},null,66918000]
[7,5,"C",null,"ANALISTA DE RECAUDO","2025-01-02","2025-12-31",{"$f":"DAYS360(F50,G50)","v":359},{"$f":"IF(C50=\"C\",'SUPUESTOS GASTOS'!$D$6*SUMIF('SUPUESTOS GASTOS'!$B$38:$B$47,'Anexo 5 Planta y Equipo de trab'!$A50,'SUPUESTOS GASTOS'!$D$38:$D$47),IF($C50=\"N\",0,IF(C50=\"E\",'SUPUESTOS GASTOS'!$D$6*SUMIF('SUPUESTOS GASTOS'!$B$38:$B$47,'Anexo 5 Planta y Equipo de trab'!$A50,'SUPUESTOS GASTOS'!$D$38:$D$47),\"\")))","v":1950000},{"$f":"+'SUPUESTOS GASTOS'!$D$10","v":0.06},{"$f":"IF($C50=\"C\",ROUNDUP((I50*J50)+I50,-3),IF($C50=\"N\",ROUNDUP(('SUPUESTOS GASTOS'!$D$6*SUMIF('SUPUESTOS GASTOS'!$B$38:$B$47,'Anexo 5 Planta y Equipo de trab'!$A50,'SUPUESTOS GASTOS'!$D$38:$D$47)*$J50)+'SUPUESTOS GASTOS'!$D$6*SUMIF('SUPUESTOS GASTOS'!$B$38:$B$47,'Anexo 5 Planta y Equipo de trab'!$A50,'SUPUESTOS GASTOS'!$D$38:$D$47),-3),IF($C50=\"E\",0)))","v":2067000},{"$f":"IFERROR(IF($E50=\"PASANTE SENA\",ROUNDUP((K50*'SUPUESTOS GASTOS'!$D$20),-3),ROUNDUP((K50*'SUPUESTOS GASTOS'!$D$19),-3)),0)","v":176000},{"$f":"IFERROR(IF($E50=\"PASANTE SENA\",0,ROUNDUP((K50*'SUPUESTOS GASTOS'!$D$18),-3)),0)","v":249000},{"$f":"IFERROR(ROUNDUP(K50*SUMIF('SUPUESTOS GASTOS'!$B$24:$B$28,'Anexo 5 Planta y Equipo de trab'!$B50,'SUPUESTOS GASTOS'!$D$24:$D$28),-3),0)","v":22000},{"$f":"IFERROR(IF($E50=\"PASANTE SENA\",0,ROUNDUP((K50*'SUPUESTOS GASTOS'!$D$31),-3)),0)","v":83000},{"$f":"IFERROR(IF($E50=\"PASANTE SENA\",0,ROUNDUP((K50*'SUPUESTOS GASTOS'!$D$32),-3)),0)","v":42000},{"$f":"IF($C50=\"E\",0,IF($E50=\"PASANTE SENA\",0,IF(K50>=('SUPUESTOS GASTOS'!$D$14*2),0,ROUNDUP('SUPUESTOS GASTOS'!$D$15,-3))))","v":172000},{"$f":"IFERROR(IF($E50=\"PASANTE SENA\",0,ROUNDUP((K50*'SUPUESTOS GASTOS'!$D$33),-3)),0)","v":63000},{"$f":"ROUNDUP((K50/'SUPUESTOS GASTOS'!$D$13)*H50,-3)","v":24736000},{"$f":"IFERROR(IF($E50=\"PASANTE SENA\",ROUNDUP((S50*'SUPUESTOS GASTOS'!$D$20),-3),ROUNDUP((S50*'SUPUESTOS GASTOS'!$D$19),-3)),0)","v":2103000},{"$f":"IFERROR(IF($E50=\"PASANTE SENA\",0,ROUNDUP((S50*'SUPUESTOS GASTOS'!$D$18),-3)),0)","v":2969000},{"$f":"IFERROR(ROUNDUP(S50*SUMIF('SUPUESTOS GASTOS'!$B$24:$B$28,'Anexo 5 Planta y Equipo de trab'!$B50,'SUPUESTOS GASTOS'!$D$24:$D$28),-3),0)","v":259000},{"$f":"IFERROR(IF($E50=\"PASANTE SENA\",0,ROUNDUP(((S50+AD50)*'SUPUESTOS GASTOS'!$D$31),-3)),0)","v":1031000},{"$f":"IFERROR(IF($E50=\"PASANTE SENA\",0,ROUNDUP(((S50+AD50)*'SUPUESTOS GASTOS'!$D$32),-3)),0)","v":516000},{"$f":"IF($C50=\"E\",0,IF($E50=\"PASANTE SENA\",0,IF(K50>=('SUPUESTOS GASTOS'!$D$14*2),0,ROUNDUP(('SUPUESTOS GASTOS'!$D$15/'SUPUESTOS GASTOS'!$D$13)*$H50,-3))))","v":2055000},{"$f":"IFERROR(IF($E50=\"PASANTE SENA\",0,ROUNDUP(((S50+AD50)*'SUPUESTOS GASTOS'!$D$33),-3)),0)","v":774000},{"$f":"IF($E50=\"PASANTE SENA\",0,ROUNDUP(((K50+Q50)*H50)/'SUPUESTOS GASTOS'!$D$12,-3))","v":2233000},{"$f":"IF($E50=\"PASANTE SENA\",0,ROUNDUP((((AA50)/'SUPUESTOS GASTOS'!$D$12)*H50)*'SUPUESTOS GASTOS'!$D$21,-3))","v":268000},{"$f":"IF($E50=\"PASANTE SENA\",0,ROUNDUP(((K50+Q50)*H50)/'SUPUESTOS GASTOS'!$D$12,-3))","v":2233000},{"$f":"IF($E50=\"PASANTE SENA\",0,ROUNDUP((K50*H50)/('SUPUESTOS GASTOS'!$D$12*2),-3))","v":1031000},null,40208000]
[7,5,"N",null,"ANALISTA DE RECAUDO","2025-01-02","2025-12-31",359,{"$f":"IF(C51=\"C\",'SUPUESTOS GASTOS'!$D$6*SUMIF('SUPUESTOS GASTOS'!$B$38:$B$47,'Anexo 5 Planta y Equipo de trab'!$A51,'SUPUESTOS GASTOS'!$D$38:$D$47),IF($C51=\"N\",0,IF(C51=\"E\",'SUPUESTOS GASTOS'!$D$6*SUMIF('SUPUESTOS GASTOS'!$B$38:$B$47,'Anexo 5 Planta y Equipo de trab'!$A51,'SUPUESTOS GASTOS'!$D$38:$D$47),\"\")))","v":0},{"$f":"+'SUPUESTOS GASTOS'!$D$10","v":0.06},{"$f":"IF($C51=\"C\",ROUNDUP((I51*J51)+I51,-3),IF($C51=\"N\",ROUNDUP(('SUPUESTOS GASTOS'!$D$6*SUMIF('SUPUESTOS GASTOS'!$B$38:$B$47,'Anexo 5 Planta y Equipo de trab'!$A51,'SUPUESTOS GASTOS'!$D$38:$D$47)*$J51)+'SUPUESTOS GASTOS'!$D$6*SUMIF('SUPUESTOS GASTOS'!$B$38:$B$47,'Anexo 5 Planta y Equipo de trab'!$A51,'SUPUESTOS GASTOS'!$D$38:$D$47),-3),IF($C51=\"E\",0)))","v":2067000},{"$f":"IFERROR(IF($E51=\"PASANTE SENA\",ROUNDUP((K51*'SUPUESTOS GASTOS'!$D$20),-3),ROUNDUP((K51*'SUPUESTOS GASTOS'!$D$19),-3)),0)","v":176000},{"$f":"IFERROR(IF($E51=\"PASANTE SENA\",0,ROUNDUP((K51*'SUPUESTOS GASTOS'!$D$18),-3)),0)","v":249000},{"$f":"IFERROR(ROUNDUP(K51*SUMIF('SUPUESTOS GASTOS'!$B$24:$B$28,'Anexo 5 Planta y Equipo de trab'!$B51,'SUPUESTOS GASTOS'!$D$24:$D$28),-3),0)","v":22000},{"$f":"IFERROR(IF($E51=\"PASANTE SENA\",0,ROUNDUP((K51*'SUPUESTOS GASTOS'!$D$31),-3)),0)","v":83000},{"$f":"IFERROR(IF($E51=\"PASANTE SENA\",0,ROUNDUP((K51*'SUPUESTOS GASTOS'!$D$32),-3)),0)","v":42000},{"$f":"IF($C51=\"E\",0,IF($E51=\"PASANTE SENA\",0,IF(K51>=('SUPUESTOS GASTOS'!$D$14*2),0,ROUNDUP('SUPUESTOS GASTOS'!$D$15,-3))))","v":172000},{"$f":"IFERROR(IF($E51=\"PASANTE SENA\",0,ROUNDUP((K51*'SUPUESTOS GASTOS'!$D$33),-3)),0)","v":63000},{"$f":"ROUNDUP((K51/'SUPUESTOS GASTOS'!$D$13)*H51,-3)","v":24736000},{"$f":"IFERROR(IF($E51=\"PASANTE SENA\",ROUNDUP((S51*'SUPUESTOS GASTOS'!$D$20),-3),ROUNDUP((S51*'SUPUESTOS GASTOS'!$D$19),-3)),0)","v":2103000},{"$f":"IFERROR(IF($E51=\"PASANTE SENA\",0,ROUNDUP((S51*'SUPUESTOS GASTOS'!$D$18),-3)),0)","v":2969000},{"$f":"IFERROR(ROUNDUP(S51*SUMIF('SUPUESTOS GASTOS'!$B$24:$B$28,'Anexo 5 Planta y Equipo de trab'!$B51,'SUPUESTOS GASTOS'!$D$24:$D$28),-3),0)","v":259000},{"$f":"IFERROR(IF($E51=\"PASANTE SENA\",0,ROUNDUP(((S51+AD51)*'SUPUESTOS GASTOS'!$D$31),-3)),0)","v":1031000},{"$f":"IFERROR(IF($E51=\"PASANTE SENA\",0,ROUNDUP(((S51+AD51)*'SUPUESTOS GASTOS'!$D$32),-3)),0)","v":516000},{"$f":"IF($C51=\"E\",0,IF($E51=\"PASANTE SENA\",0,IF(K51>=('SUPUESTOS GASTOS'!$D$14*2),0,ROUNDUP(('SUPUESTOS GASTOS'!$D$15/'SUPUESTOS GASTOS'!$D$13)*$H51,-3))))","v":2055000},{"$f":"IFERROR(IF($E51=\"PASANTE SENA\",0,ROUNDUP(((S51+AD51)*'SUPUESTOS GASTOS'!$D$33),-3)),0)","v":774000},{"$f":"IF($E51=\"PASANTE SENA\",0,ROUNDUP(((K51+Q51)*H51)/'SUPUESTOS GASTOS'!$D$12,-3))","v":2233000},{"$f":"IF($E51=\"PASANTE SENA\",0,ROUNDUP((((AA51)/'SUPUESTOS GASTOS'!$D$12)*H51)*'SUPUESTOS GASTOS'!$D$21,-3))","v":268000},{"$f":"IF($E51=\"PASANTE SENA\",0,ROUNDUP(((K51+Q51)*H51)/'SUPUESTOS GASTOS'!$D$12,-3))","v":2233000},{"$f":"IF($E51=\"PASANTE SENA\",0,ROUNDUP((K51*H51)/('SUPUESTOS GASTOS'!$D$12*2),-3))","v":1031000},null,40208000]
[8,1,"E",null,"ASISTENTE DE RECAUDO","2025-01-02","2025-12-31",359,{"$f":"IF(C52=\"C\",'SUPUESTOS GASTOS'!$D$6*SUMIF('SUPUESTOS GASTOS'!$B$38:$B$47,'Anexo 5 Planta y Equipo de trab'!$A52,'SUPUESTOS GASTOS'!$D$38:$D$47),IF($C52=\"N\",0,IF(C52=\"E\",'SUPUESTOS GASTOS'!$D$6*SUMIF('SUPUESTOS GASTOS'!$B$38:$B$47,'Anexo 5 Planta y Equipo de trab'!$A52,'SUPUESTOS GASTOS'!$D$38:$D$47),\"\")))","v":1690000},{"$f":"+'SUPUESTOS GASTOS'!$D$10","v":0.06},{"$f":"IF($C52=\"C\",ROUNDUP((I52*J52)+I52,-3),IF($C52=\"N\",ROUNDUP(('SUPUESTOS GASTOS'!$D$6*SUMIF('SUPUESTOS GASTOS'!$B$38:$B$47,'Anexo 5 Planta y Equipo de trab'!$A52,'SUPUESTOS GASTOS'!$D$38:$D$47)*$J52)+'SUPUESTOS GASTOS'!$D$6*SUMIF('SUPUESTOS GASTOS'!$B$38:$B$47,'Anexo 5 Planta y Equipo de trab'!$A52,'SUPUESTOS GASTOS'!$D$38:$D$47),-3),IF($C52=\"E\",0)))","v":0},{"$f":"IFERROR(IF($E52=\"PASANTE SENA\",ROUNDUP((K52*'SUPUESTOS GASTOS'!$D$20),-3),ROUNDUP((K52*'SUPUESTOS GASTOS'!$D$19),-3)),0)","v":0},{"$f":"IFERROR(IF($E52=\"PASANTE SENA\",0,ROUNDUP((K52*'SUPUESTOS GASTOS'!$D$18),-3)),0)","v":0},{"$f":"IFERROR(ROUNDUP(K52*SUMIF('SUPUESTOS GASTOS'!$B$24:$B$28,'Anexo 5 Planta y Equipo de trab'!$B52,'SUPUESTOS GASTOS'!$D$24:$D$28),-3),0)","v":0},{"$f":"IFERROR(IF($E52=\"PASANTE SENA\",0,ROUNDUP((K52*'SUPUESTOS GASTOS'!$D$31),-3)),0)","v":0},{"$f":"IFERROR(IF($E52=\"PASANTE SENA\",0,ROUNDUP((K52*'SUPUESTOS GASTOS'!$D$32),-3)),0)","v":0},{"$f":"IF($C52=\"E\",0,IF($E52=\"PASANTE SENA\",0,IF(K52>=('SUPUESTOS GASTOS'!$D$14*2),0,ROUNDUP('SUPUESTOS GASTOS'!$D$15,-3))))","v":0},{"$f":"IFERROR(IF($E52=\"PASANTE SENA\",0,ROUNDUP((K52*'SUPUESTOS GASTOS'!$D$33),-3)),0)","v":0},{"$f":"ROUNDUP((K52/'SUPUESTOS GASTOS'!$D$13)*H52,-3)","v":0},{"$f":"IFERROR(IF($E52=\"PASANTE SENA\",ROUNDUP((S52*'SUPUESTOS GASTOS'!$D$20),-3),ROUNDUP((S52*'SUPUESTOS GASTOS'!$D$19),-3)),0)","v":0},{"$f":"IFERROR(IF($E52=\"PASANTE SENA\",0,ROUNDUP((S52*'SUPUESTOS GASTOS'!$D$18),-3)),0)","v":0},{"$f":"IFERROR(ROUNDUP(S52*SUMIF('SUPUESTOS GASTOS'!$B$24:$B$28,'Anexo 5 Planta y Equipo de trab'!$B52,'SUPUESTOS GASTOS'!$D$24:$D$28),-3),0)","v":0},{"$f":"IFERROR(IF($E52=\"PASANTE SENA\",0,ROUNDUP(((S52+AD52)*'SUPUESTOS GASTOS'!$D$31),-3)),0)","v":0},{"$f":"IFERROR(IF($E52=\"PASANTE SENA\",0,ROUNDUP(((S52+AD52)*'SUPUESTOS GASTOS'!$D$32),-3)),0)","v":0},{"$f":"IF($C52=\"E\",0,IF($E52=\"PASANTE SENA\",0,IF(K52>=('SUPUESTOS GASTOS'!$D$14*2),0,ROUNDUP(('SUPUESTOS GASTOS'!$D$15/'SUPUESTOS GASTOS'!$D$13)*$H52,-3))))","v":0},{"$f":"IFERROR(IF($E52=\"PASANTE SENA\",0,ROUNDUP(((S52+AD52)*'SUPUESTOS GASTOS'!$D$33),-3)),0)","v":0},{"$f":"IF($E52=\"PASANTE SENA\",0,ROUNDUP(((K52+Q52)*H52)/'SUPUESTOS GASTOS'!$D$12,-3))","v":0},{"$f":"IF($E52=\"PASANTE SENA\",0,ROUNDUP((((AA52)/'SUPUESTOS GASTOS'!$D$12)*H52)*'SUPUESTOS GASTOS'!$D$21,-3))","v":0},{"$f":"IF($E52=\"PASANTE SENA\",0,ROUNDUP(((K52+Q52)*H52)/'SUPUESTOS GASTOS'!$D$12,-3))","v":0},{"$f":"IF($E52=\"PASANTE SENA\",0,ROUNDUP((K52*H52)/('SUPUESTOS GASTOS'!$D$12*2),-3))","v":0},null,0]
[null,null,null,null,"SUB TOTAL GASTOS DE FUNCIONAMIENTO - RECAUDO",null,null,null,null,null,{"$f":"SUM(K25:K52)","v":72322000},6155000,8683000,2229000,2903000,1454000,344000,2180000,865581000,73582000,103882000,26625000,36074000,18045000,4110000,27055000,72486000,8682000,72486000,36074000,0,1344682000]
[null,null,null,null,"TOTAL GASTOS DE FUNCIONAMIENTO",null,null,null,null,null,{"$f":"+K23+K53","v":99773000},8491000,11979000,2660000,4004000,2005000,516000,3006000,1193782000,101482000,143270000,31755000,49752000,24886000,6137000,37313000,100009000,11974000,100009000,49752000,0,1850121000]
[]
[null,null,null,null,"CARGO","FECHA INICIO","FECHA TERMINACION","DIAS LAB","AÑO ANTERIOR",null,"INFORMACION MENSUAL PARAFISCALES SEGUN LOS PORCENTAJES ESTABLECIDOS POR LA LEY",null,null,null,null,null,null,null,"INFORMACION ANUAL PARAFISCALES",null,null,null,null,null,null,null,"PRESTACIONES SOCIALES SEGUN LO ESTABLECIDO POR LA LEY",null,null,null,null,"TOTAL AÑO VIGENCIA SOLICITADA"]
[null,null,null,null,null,null,null,null,"SALARIO AÑO ANTERIOR","% DE INCREMENTOS SALARIO","SALARIO MENSUAL VIGENCIA SOLICITADA","SALUD MENSUAL","PENSION MENSUAL","ARL \nMENSUAL","CAJA COMPENSACION MENSUAL","SENA MENSUAL","AUXILIO DE TRANSPORTE ","ICBF \nMENSUAL","SALARIO \nANUAL","SALUD \nANUAL","PENSION \nANUAL","ARL \nANUAL","CAJA COMPENSACION  ANUAL","SENA \nANUAL","AUXILIO DE TRANSPORTE  ANUAL","ICBF \nANUAL","CESANTIAS \nANUAL","INTERESES DE CESANTIAS ANUAL","PRIMA \nANUAL","VACACIONES \nANUAL","VARIACIÓN DE VACACIONES"]
[null,null,null,null,"GASTOS DE INVERSIÓN"]
[null,null,null,null,"ITPA"]
[1,2,"C",null,"DIRECTOR INVESTIGACIÓN Y TRANSFERENCIA DE TECNOLOGÍA","2025-01-02","2025-12-31",{"$f":"DAYS360(F60,G60)","v":359},{"$f":"IF(C60=\"C\",'SUPUESTOS GASTOS'!$D$6*SUMIF('SUPUESTOS GASTOS'!$B$38:$B$47,'Anexo 5 Planta y Equipo de trab'!$A60,'SUPUESTOS GASTOS'!$D$38:$D$47),IF($C60=\"N\",0,IF(C60=\"E\",'SUPUESTOS GASTOS'!$D$6*SUMIF('SUPUESTOS GASTOS'!$B$38:$B$47,'Anexo 5 Planta y Equipo de trab'!$A60,'SUPUESTOS GASTOS'!$D$38:$D$47),\"\")))","v":8866000},{"$f":"+'SUPUESTOS GASTOS'!$D$10","v":0.06},{"$f":"IF($C60=\"C\",ROUNDUP((I60*J60)+I60,-3),IF($C60=\"N\",ROUNDUP(('SUPUESTOS GASTOS'!$D$6*SUMIF('SUPUESTOS GASTOS'!$B$38:$B$47,'Anexo 5 Planta y Equipo de trab'!$A60,'SUPUESTOS GASTOS'!$D$38:$D$47)*$J60)+'SUPUESTOS GASTOS'!$D$6*SUMIF('SUPUESTOS GASTOS'!$B$38:$B$47,'Anexo 5 Planta y Equipo de trab'!$A60,'SUPUESTOS GASTOS'!$D$38:$D$47),-3),IF($C60=\"E\",0)))","v":9398000},{"$f":"IFERROR(IF($E60=\"PASANTE SENA\",ROUNDUP((K60*'SUPUESTOS GASTOS'!$D$20),-3),ROUNDUP((K60*'SUPUESTOS GASTOS'!$D$19),-3)),0)","v":799000},{"$f":"IFERROR(IF($E60=\"PASANTE SENA\",0,ROUNDUP((K60*'SUPUESTOS GASTOS'!$D$18),-3)),0)","v":1128000},{"$f":"IFERROR(ROUNDUP(K60*SUMIF('SUPUESTOS GASTOS'!$B$24:$B$28,'Anexo 5 Planta y Equipo de trab'!$B60,'SUPUESTOS GASTOS'!$D$24:$D$28),-3),0)","v":229000},{"$f":"IFERROR(IF($E60=\"PASANTE SENA\",0,ROUNDUP((K60*'SUPUESTOS GASTOS'!$D$31),-3)),0)","v":376000},{"$f":"IFERROR(IF($E60=\"PASANTE SENA\",0,ROUNDUP((K60*'SUPUESTOS GASTOS'!$D$32),-3)),0)","v":188000},{"$f":"IF($C60=\"E\",0,IF($E60=\"PASANTE SENA\",0,IF(K60>=('SUPUESTOS GASTOS'!$D$14*2),0,ROUNDUP('SUPUESTOS GASTOS'!$D$15,-3))))","v":0},{"$f":"IFERROR(IF($E60=\"PASANTE SENA\",0,ROUNDUP((K60*'SUPUESTOS GASTOS'!$D$33),-3)),0)","v":282000},{"$f":"ROUNDUP((K60/'SUPUESTOS GASTOS'!$D$13)*H60,-3)","v":112463000},{"$f":"IFERROR(IF($E60=\"PASANTE SENA\",ROUNDUP((S60*'SUPUESTOS GASTOS'!$D$20),-3),ROUNDUP((S60*'SUPUESTOS GASTOS'!$D$19),-3)),0)","v":9560000},{"$f":"IFERROR(IF($E60=\"PASANTE SENA\",0,ROUNDUP((S60*'SUPUESTOS GASTOS'!$D$18),-3)),0)","v":13496000},{"$f":"IFERROR(ROUNDUP(S60*SUMIF('SUPUESTOS GASTOS'!$B$24:$B$28,'Anexo 5 Planta y Equipo de trab'!$B60,'SUPUESTOS GASTOS'!$D$24:$D$28),-3),0)","v":2740000},{"$f":"IFERROR(IF($E60=\"PASANTE SENA\",0,ROUNDUP(((S60+AD60)*'SUPUESTOS GASTOS'!$D$31),-3)),0)","v":4686000},{"$f":"IFERROR(IF($E60=\"PASANTE SENA\",0,ROUNDUP(((S60+AD60)*'SUPUESTOS GASTOS'!$D$32),-3)),0)","v":2343000},{"$f":"IF($C60=\"E\",0,IF($E60=\"PASANTE SENA\",0,IF(K60>=('SUPUESTOS GASTOS'!$D$14*2),0,ROUNDUP(('SUPUESTOS GASTOS'!$D$15/'SUPUESTOS GASTOS'!$D$13)*$H60,-3))))","v":0},{"$f":"IFERROR(IF($E60=\"PASANTE SENA\",0,ROUNDUP(((S60+AD60)*'SUPUESTOS GASTOS'!$D$33),-3)),0)","v":3515000},{"$f":"IF($E60=\"PASANTE SENA\",0,ROUNDUP(((K60+Q60)*H60)/'SUPUESTOS GASTOS'!$D$12,-3))","v":9372000},{"$f":"IF($E60=\"PASANTE SENA\",0,ROUNDUP((((AA60)/'SUPUESTOS GASTOS'!$D$12)*H60)*'SUPUESTOS GASTOS'!$D$21,-3))","v":1122000},{"$f":"IF($E60=\"PASANTE SENA\",0,ROUNDUP(((K60+Q60)*H60)/'SUPUESTOS GASTOS'!$D$12,-3))","v":9372000},{"$f":"IF($E60=\"PASANTE SENA\",0,ROUNDUP((K60*H60)/('SUPUESTOS GASTOS'!$D$12*2),-3))","v":4686000},null,{"$f":"ROUNDUP(SUM(S60:AD60),-3)","v":173355000}]
[3,2,"C",null,"COORDINADOR INVESTIGACION Y SIG","2025-01-02","2025-12-31",{"$f":"DAYS360(F61,G61)","v":359},{"$f":"IF(C61=\"C\",'SUPUESTOS GASTOS'!$D$6*SUMIF('SUPUESTOS GASTOS'!$B$38:$B$47,'Anexo 5 Planta y Equipo de trab'!$A61,'SUPUESTOS GASTOS'!$D$38:$D$47),IF($C61=\"N\",0,IF(C61=\"E\",'SUPUESTOS GASTOS'!$D$6*SUMIF('SUPUESTOS GASTOS'!$B$38:$B$47,'Anexo 5 Planta y Equipo de trab'!$A61,'SUPUESTOS GASTOS'!$D$38:$D$47),\"\")))","v":5200000},{"$f":"+'SUPUESTOS GASTOS'!$D$10","v":0.06},{"$f":"IF($C61=\"C\",ROUNDUP((I61*J61)+I61,-3),IF($C61=\"N\",ROUNDUP(('SUPUESTOS GASTOS'!$D$6*SUMIF('SUPUESTOS GASTOS'!$B$38:$B$47,'Anexo 5 Planta y Equipo de trab'!$A61,'SUPUESTOS GASTOS'!$D$38:$D$47)*$J61)+'SUPUESTOS GASTOS'!$D$6*SUMIF('SUPUESTOS GASTOS'!$B$38:$B$47,'Anexo 5 Planta y Equipo de trab'!$A61,'SUPUESTOS GASTOS'!$D$38:$D$47),-3),IF($C61=\"E\",0)))","v":5512000},{"$f":"IFERROR(IF($E61=\"PASANTE SENA\",ROUNDUP((K61*'SUPUESTOS GASTOS'!$D$20),-3),ROUNDUP((K61*'SUPUESTOS GASTOS'!$D$19),-3)),0)","v":469000},{"$f":"IFERROR(IF($E61=\"PASANTE SENA\",0,ROUNDUP((K61*'SUPUESTOS GASTOS'!$D$18),-3)),0)","v":662000},{"$f":"IFERROR(ROUNDUP(K61*SUMIF('SUPUESTOS GASTOS'!$B$24:$B$28,'Anexo 5 Planta y Equipo de trab'!$B61,'SUPUESTOS GASTOS'!$D$24:$D$28),-3),0)","v":135000},{"$f":"IFERROR(IF($E61=\"PASANTE SENA\",0,ROUNDUP((K61*'SUPUESTOS GASTOS'!$D$31),-3)),0)","v":221000},{"$f":"IFERROR(IF($E61=\"PASANTE SENA\",0,ROUNDUP((K61*'SUPUESTOS GASTOS'!$D$32),-3)),0)","v":111000},{"$f":"IF($C61=\"E\",0,IF($E61=\"PASANTE SENA\",0,IF(K61>=('SUPUESTOS GASTOS'!$D$14*2),0,ROUNDUP('SUPUESTOS GASTOS'!$D$15,-3))))","v":0},{"$f":"IFERROR(IF($E61=\"PASANTE SENA\",0,ROUNDUP((K61*'SUPUESTOS GASTOS'!$D$33),-3)),0)","v":166000},{"$f":"ROUNDUP((K61/'SUPUESTOS GASTOS'!$D$13)*H61,-3)","v":65961000},{"$f":"IFERROR(IF($E61=\"PASANTE SENA\",ROUNDUP((S61*'SUPUESTOS GASTOS'!$D$20),-3),ROUNDUP((S61*'SUPUESTOS GASTOS'!$D$19),-3)),0)","v":5607000},{"$f":"IFERROR(IF($E61=\"PASANTE SENA\",0,ROUNDUP((S61*'SUPUESTOS GASTOS'!$D$18),-3)),0)","v":7916000},{"$f":"IFERROR(ROUNDUP(S61*SUMIF('SUPUESTOS GASTOS'!$B$24:$B$28,'Anexo 5 Planta y Equipo de trab'!$B61,'SUPUESTOS GASTOS'!$D$24:$D$28),-3),0)","v":1607000},{"$f":"IFERROR(IF($E61=\"PASANTE SENA\",0,ROUNDUP(((S61+AD61)*'SUPUESTOS GASTOS'!$D$31),-3)),0)","v":2749000},{"$f":"IFERROR(IF($E61=\"PASANTE SENA\",0,ROUNDUP(((S61+AD61)*'SUPUESTOS GASTOS'!$D$32),-3)),0)","v":1375000},{"$f":"IF($C61=\"E\",0,IF($E61=\"PASANTE SENA\",0,IF(K61>=('SUPUESTOS GASTOS'!$D$14*2),0,ROUNDUP(('SUPUESTOS GASTOS'!$D$15/'SUPUESTOS GASTOS'!$D$13)*$H61,-3))))","v":0},{"$f":"IFERROR(IF($E61=\"PASANTE SENA\",0,ROUNDUP(((S61+AD61)*'SUPUESTOS GASTOS'!$D$33),-3)),0)","v":2062000},{"$f":"IF($E61=\"PASANTE SENA\",0,ROUNDUP(((K61+Q61)*H61)/'SUPUESTOS GASTOS'!$D$12,-3))","v":5497000},{"$f":"IF($E61=\"PASANTE SENA\",0,ROUNDUP((((AA61)/'SUPUESTOS GASTOS'!$D$12)*H61)*'SUPUESTOS GASTOS'!$D$21,-3))","v":658000},{"$f":"IF($E61=\"PASANTE SENA\",0,ROUNDUP(((K61+Q61)*H61)/'SUPUESTOS GASTOS'!$D$12,-3))","v":5497000},{"$f":"IF($E61=\"PASANTE SENA\",0,ROUNDUP((K61*H61)/('SUPUESTOS GASTOS'!$D$12*2),-3))","v":2749000},null,101678000]
[3,2,"N",null,"COORDINADOR ITPA","2025-01-07","2025-12-31",{"$f":"DAYS360(F62,G62)","v":354},{"$f":"IF(C62=\"C\",'SUPUESTOS GASTOS'!$D$6*SUMIF('SUPUESTOS GASTOS'!$B$38:$B$47,'Anexo 5 Planta y Equipo de trab'!$A62,'SUPUESTOS GASTOS'!$D$38:$D$47),IF($C62=\"N\",0,IF(C62=\"E\",'SUPUESTOS GASTOS'!$D$6*SUMIF('SUPUESTOS GASTOS'!$B$38:$B$47,'Anexo 5 Planta y Equipo de trab'!$A62,'SUPUESTOS GASTOS'!$D$38:$D$47),\"\")))","v":0},{"$f":"+'SUPUESTOS GASTOS'!$D$10","v":0.06},{"$f":"IF($C62=\"C\",ROUNDUP((I62*J62)+I62,-3),IF($C62=\"N\",ROUNDUP(('SUPUESTOS GASTOS'!$D$6*SUMIF('SUPUESTOS GASTOS'!$B$38:$B$47,'Anexo 5 Planta y Equipo de trab'!$A62,'SUPUESTOS GASTOS'!$D$38:$D$47)*$J62)+'SUPUESTOS GASTOS'!$D$6*SUMIF('SUPUESTOS GASTOS'!$B$38:$B$47,'Anexo 5 Planta y Equipo de trab'!$A62,'SUPUESTOS GASTOS'!$D$38:$D$47),-3),IF($C62=\"E\",0)))","v":5512000},{"$f":"IFERROR(IF($E62=\"PASANTE SENA\",ROUNDUP((K62*'SUPUESTOS GASTOS'!$D$20),-3),ROUNDUP((K62*'SUPUESTOS GASTOS'!$D$19),-3)),0)","v":469000},{"$f":"IFERROR(IF($E62=\"PASANTE SENA\",0,ROUNDUP((K62*'SUPUESTOS GASTOS'!$D$18),-3)),0)","v":662000},{"$f":"IFERROR(ROUNDUP(K62*SUMIF('SUPUESTOS GASTOS'!$B$24:$B$28,'Anexo 5 Planta y Equipo de trab'!$B62,'SUPUESTOS GASTOS'!$D$24:$D$28),-3),0)","v":135000},{"$f":"IFERROR(IF($E62=\"PASANTE SENA\",0,ROUNDUP((K62*'SUPUESTOS GASTOS'!$D$31),-3)),0)","v":221000},{"$f":"IFERROR(IF($E62=\"PASANTE SENA\",0,ROUNDUP((K62*'SUPUESTOS GASTOS'!$D$32),-3)),0)","v":111000},{"$f":"IF($C62=\"E\",0,IF($E62=\"PASANTE SENA\",0,IF(K62>=('SUPUESTOS GASTOS'!$D$14*2),0,ROUNDUP('SUPUESTOS GASTOS'!$D$15,-3))))","v":0},{"$f":"IFERROR(IF($E62=\"PASANTE SENA\",0,ROUNDUP((K62*'SUPUESTOS GASTOS'!$D$33),-3)),0)","v":166000},{"$f":"ROUNDUP((K62/'SUPUESTOS GASTOS'!$D$13)*H62,-3)","v":65042000},{"$f":"IFERROR(IF($E62=\"PASANTE SENA\",ROUNDUP((S62*'SUPUESTOS GASTOS'!$D$20),-3),ROUNDUP((S62*'SUPUESTOS GASTOS'!$D$19),-3)),0)","v":5529000},{"$f":"IFERROR(IF($E62=\"PASANTE SENA\",0,ROUNDUP((S62*'SUPUESTOS GASTOS'!$D$18),-3)),0)","v":7806000},{"$f":"IFERROR(ROUNDUP(S62*SUMIF('SUPUESTOS GASTOS'!$B$24:$B$28,'Anexo 5 Planta y Equipo de trab'!$B62,'SUPUESTOS GASTOS'!$D$24:$D$28),-3),0)","v":1585000},{"$f":"IFERROR(IF($E62=\"PASANTE SENA\",0,ROUNDUP(((S62+AD62)*'SUPUESTOS GASTOS'!$D$31),-3)),0)","v":2711000},{"$f":"IFERROR(IF($E62=\"PASANTE SENA\",0,ROUNDUP(((S62+AD62)*'SUPUESTOS GASTOS'!$D$32),-3)),0)","v":1356000},{"$f":"IF($C62=\"E\",0,IF($E62=\"PASANTE SENA\",0,IF(K62>=('SUPUESTOS GASTOS'!$D$14*2),0,ROUNDUP(('SUPUESTOS GASTOS'!$D$15/'SUPUESTOS GASTOS'!$D$13)*$H62,-3))))","v":0},{"$f":"IFERROR(IF($E62=\"PASANTE SENA\",0,ROUNDUP(((S62+AD62)*'SUPUESTOS GASTOS'!$D$33),-3)),0)","v":2033000},{"$f":"IF($E62=\"PASANTE SENA\",0,ROUNDUP(((K62+Q62)*H62)/'SUPUESTOS GASTOS'!$D$12,-3))","v":5421000},{"$f":"IF($E62=\"PASANTE SENA\",0,ROUNDUP((((AA62)/'SUPUESTOS GASTOS'!$D$12)*H62)*'SUPUESTOS GASTOS'!$D$21,-3))","v":640000},{"$f":"IF($E62=\"PASANTE SENA\",0,ROUNDUP(((K62+Q62)*H62)/'SUPUESTOS GASTOS'!$D$12,-3))","v":5421000},{"$f":"IF($E62=\"PASANTE SENA\",0,ROUNDUP((K62*H62)/('SUPUESTOS GASTOS'!$D$12*2),-3))","v":2711000},null,100255000]
[4,3,"C",null,"SUPERVISOR ZONAL CUNDINAMARCA","2025-01-13","2025-12-31",348,{"$f":"IF(C63=\"C\",'SUPUESTOS GASTOS'!$D$6*SUMIF('SUPUESTOS GASTOS'!$B$38:$B$47,'Anexo 5 Planta y Equipo de trab'!$A63,'SUPUESTOS GASTOS'!$D$38:$D$47),IF($C63=\"N\",0,IF(C63=\"E\",'SUPUESTOS GASTOS'!$D$6*SUMIF('SUPUESTOS GASTOS'!$B$38:$B$47,'Anexo 5 Planta y Equipo de trab'!$A63,'SUPUESTOS GASTOS'!$D$38:$D$47),\"\")))","v":3900000},{"$f":"+'SUPUESTOS GASTOS'!$D$10","v":0.06},{"$f":"IF($C63=\"C\",ROUNDUP((I63*J63)+I63,-3),IF($C63=\"N\",ROUNDUP(('SUPUESTOS GASTOS'!$D$6*SUMIF('SUPUESTOS GASTOS'!$B$38:$B$47,'Anexo 5 Planta y Equipo de trab'!$A63,'SUPUESTOS GASTOS'!$D$38:$D$47)*$J63)+'SUPUESTOS GASTOS'!$D$6*SUMIF('SUPUESTOS GASTOS'!$B$38:$B$47,'Anexo 5 Planta y Equipo de trab'!$A63,'SUPUESTOS GASTOS'!$D$38:$D$47),-3),IF($C63=\"E\",0)))","v":4134000},{"$f":"IFERROR(IF($E63=\"PASANTE SENA\",ROUNDUP((K63*'SUPUESTOS GASTOS'!$D$20),-3),ROUNDUP((K63*'SUPUESTOS GASTOS'!$D$19),-3)),0)","v":352000},{"$f":"IFERROR(IF($E63=\"PASANTE SENA\",0,ROUNDUP((K63*'SUPUESTOS GASTOS'!$D$18),-3)),0)","v":497000},{"$f":"IFERROR(ROUNDUP(K63*SUMIF('SUPUESTOS GASTOS'!$B$24:$B$28,'Anexo 5 Planta y Equipo de trab'!$B63,'SUPUESTOS GASTOS'!$D$24:$D$28),-3),0)","v":180000},{"$f":"IFERROR(IF($E63=\"PASANTE SENA\",0,ROUNDUP((K63*'SUPUESTOS GASTOS'!$D$31),-3)),0)","v":166000},{"$f":"IFERROR(IF($E63=\"PASANTE SENA\",0,ROUNDUP((K63*'SUPUESTOS GASTOS'!$D$32),-3)),0)","v":83000},{"$f":"IF($C63=\"E\",0,IF($E63=\"PASANTE SENA\",0,IF(K63>=('SUPUESTOS GASTOS'!$D$14*2),0,ROUNDUP('SUPUESTOS GASTOS'!$D$15,-3))))","v":0},{"$f":"IFERROR(IF($E63=\"PASANTE SENA\",0,ROUNDUP((K63*'SUPUESTOS GASTOS'!$D$33),-3)),0)","v":125000},{"$f":"ROUNDUP((K63/'SUPUESTOS GASTOS'!$D$13)*H63,-3)","v":47955000},{"$f":"IFERROR(IF($E63=\"PASANTE SENA\",ROUNDUP((S63*'SUPUESTOS GASTOS'!$D$20),-3),ROUNDUP((S63*'SUPUESTOS GASTOS'!$D$19),-3)),0)","v":4077000},{"$f":"IFERROR(IF($E63=\"PASANTE SENA\",0,ROUNDUP((S63*'SUPUESTOS GASTOS'!$D$18),-3)),0)","v":5755000},{"$f":"IFERROR(ROUNDUP(S63*SUMIF('SUPUESTOS GASTOS'!$B$24:$B$28,'Anexo 5 Planta y Equipo de trab'!$B63,'SUPUESTOS GASTOS'!$D$24:$D$28),-3),0)","v":2087000},{"$f":"IFERROR(IF($E63=\"PASANTE SENA\",0,ROUNDUP(((S63+AD63)*'SUPUESTOS GASTOS'!$D$31),-3)),0)","v":1999000},{"$f":"IFERROR(IF($E63=\"PASANTE SENA\",0,ROUNDUP(((S63+AD63)*'SUPUESTOS GASTOS'!$D$32),-3)),0)","v":1000000},{"$f":"IF($C63=\"E\",0,IF($E63=\"PASANTE SENA\",0,IF(K63>=('SUPUESTOS GASTOS'!$D$14*2),0,ROUNDUP(('SUPUESTOS GASTOS'!$D$15/'SUPUESTOS GASTOS'!$D$13)*$H63,-3))))","v":0},{"$f":"IFERROR(IF($E63=\"PASANTE SENA\",0,ROUNDUP(((S63+AD63)*'SUPUESTOS GASTOS'!$D$33),-3)),0)","v":1499000},{"$f":"IF($E63=\"PASANTE SENA\",0,ROUNDUP(((K63+Q63)*H63)/'SUPUESTOS GASTOS'!$D$12,-3))","v":3997000},{"$f":"IF($E63=\"PASANTE SENA\",0,ROUNDUP((((AA63)/'SUPUESTOS GASTOS'!$D$12)*H63)*'SUPUESTOS GASTOS'!$D$21,-3))","v":464000},{"$f":"IF($E63=\"PASANTE SENA\",0,ROUNDUP(((K63+Q63)*H63)/'SUPUESTOS GASTOS'!$D$12,-3))","v":3997000},{"$f":"IF($E63=\"PASANTE SENA\",0,ROUNDUP((K63*H63)/('SUPUESTOS GASTOS'!$D$12*2),-3))","v":1999000},null,74829000]
[4,3,"C",null,"SUPERVISOR ZONAL BOYACÁ","2025-01-13","2025-12-31",348,{"$f":"IF(C64=\"C\",'SUPUESTOS GASTOS'!$D$6*SUMIF('SUPUESTOS GASTOS'!$B$38:$B$47,'Anexo 5 Planta y Equipo de trab'!$A64,'SUPUESTOS GASTOS'!$D$38:$D$47),IF($C64=\"N\",0,IF(C64=\"E\",'SUPUESTOS GASTOS'!$D$6*SUMIF('SUPUESTOS GASTOS'!$B$38:$B$47,'Anexo 5 Planta y Equipo de trab'!$A64,'SUPUESTOS GASTOS'!$D$38:$D$47),\"\")))","v":3900000},{"$f":"+'SUPUESTOS GASTOS'!$D$10","v":0.06},{"$f":"IF($C64=\"C\",ROUNDUP((I64*J64)+I64,-3),IF($C64=\"N\",ROUNDUP(('SUPUESTOS GASTOS'!$D$6*SUMIF('SUPUESTOS GASTOS'!$B$38:$B$47,'Anexo 5 Planta y Equipo de trab'!$A64,'SUPUESTOS GASTOS'!$D$38:$D$47)*$J64)+'SUPUESTOS GASTOS'!$D$6*SUMIF('SUPUESTOS GASTOS'!$B$38:$B$47,'Anexo 5 Planta y Equipo de trab'!$A64,'SUPUESTOS GASTOS'!$D$38:$D$47),-3),IF($C64=\"E\",0)))","v":4134000},{"$f":"IFERROR(IF($E64=\"PASANTE SENA\",ROUNDUP((K64*'SUPUESTOS GASTOS'!$D$20),-3),ROUNDUP((K64*'SUPUESTOS GASTOS'!$D$19),-3)),0)","v":352000},{"$f":"IFERROR(IF($E64=\"PASANTE SENA\",0,ROUNDUP((K64*'SUPUESTOS GASTOS'!$D$18),-3)),0)","v":497000},{"$f":"IFERROR(ROUNDUP(K64*SUMIF('SUPUESTOS GASTOS'!$B$24:$B$28,'Anexo 5 Planta y Equipo de trab'!$B64,'SUPUESTOS GASTOS'!$D$24:$D$28),-3),0)","v":180000},{"$f":"IFERROR(IF($E64=\"PASANTE SENA\",0,ROUNDUP((K64*'SUPUESTOS GASTOS'!$D$31),-3)),0)","v":166000},{"$f":"IFERROR(IF($E64=\"PASANTE SENA\",0,ROUNDUP((K64*'SUPUESTOS GASTOS'!$D$32),-3)),0)","v":83000},{"$f":"IF($C64=\"E\",0,IF($E64=\"PASANTE SENA\",0,IF(K64>=('SUPUESTOS GASTOS'!$D$14*2),0,ROUNDUP('SUPUESTOS GASTOS'!$D$15,-3))))","v":0},{"$f":"IFERROR(IF($E64=\"PASANTE SENA\",0,ROUNDUP((K64*'SUPUESTOS GASTOS'!$D$33),-3)),0)","v":125000},{"$f":"ROUNDUP((K64/'SUPUESTOS GASTOS'!$D$13)*H64,-3)","v":47955000},{"$f":"IFERROR(IF($E64=\"PASANTE SENA\",ROUNDUP((S64*'SUPUESTOS GASTOS'!$D$20),-3),ROUNDUP((S64*'SUPUESTOS GASTOS'!$D$19),-3)),0)","v":4077000},{"$f":"IFERROR(IF($E64=\"PASANTE SENA\",0,ROUNDUP((S64*'SUPUESTOS GASTOS'!$D$18),-3)),0)","v":5755000},{"$f":"IFERROR(ROUNDUP(S64*SUMIF('SUPUESTOS GASTOS'!$B$24:$B$28,'Anexo 5 Planta y Equipo de trab'!$B64,'SUPUESTOS GASTOS'!$D$24:$D$28),-3),0)","v":2087000},{"$f":"IFERROR(IF($E64=\"PASANTE SENA\",0,ROUNDUP(((S64+AD64)*'SUPUESTOS GASTOS'!$D$31),-3)),0)","v":1999000},{"$f":"IFERROR(IF($E64=\"PASANTE SENA\",0,ROUNDUP(((S64+AD64)*'SUPUESTOS GASTOS'!$D$32),-3)),0)","v":1000000},{"$f":"IF($C64=\"E\",0,IF($E64=\"PASANTE SENA\",0,IF(K64>=('SUPUESTOS GASTOS'!$D$14*2),0,ROUNDUP(('SUPUESTOS GASTOS'!$D$15/'SUPUESTOS GASTOS'!$D$13)*$H64,-3))))","v":0},{"$f":"IFERROR(IF($E64=\"PASANTE SENA\",0,ROUNDUP(((S64+AD64)*'SUPUESTOS GASTOS'!$D$33),-3)),0)","v":1499000},{"$f":"IF($E64=\"PASANTE SENA\",0,ROUNDUP(((K64+Q64)*H64)/'SUPUESTOS GASTOS'!$D$12,-3))","v":3997000},{"$f":"IF($E64=\"PASANTE SENA\",0,ROUNDUP((((AA64)/'SUPUESTOS GASTOS'!$D$12)*H64)*'SUPUESTOS GASTOS'!$D$21,-3))","v":464000},{"$f":"IF($E64=\"PASANTE SENA\",0,ROUNDUP(((K64+Q64)*H64)/'SUPUESTOS GASTOS'!$D$12,-3))","v":3997000},{"$f":"IF($E64=\"PASANTE SENA\",0,ROUNDUP((K64*H64)/('SUPUESTOS GASTOS'!$D$12*2),-3))","v":1999000},null,74829000]
[4,3,"C",null,"SUPERVISOR ZONAL NARIÑO","2025-01-13","2025-12-31",348,{"$f":"IF(C65=\"C\",'SUPUESTOS GASTOS'!$D$6*SUMIF('SUPUESTOS GASTOS'!$B$38:$B$47,'Anexo 5 Planta y Equipo de trab'!$A65,'SUPUESTOS GASTOS'!$D$38:$D$47),IF($C65=\"N\",0,IF(C65=\"E\",'SUPUESTOS GASTOS'!$D$6*SUMIF('SUPUESTOS GASTOS'!$B$38:$B$47,'Anexo 5 Planta y Equipo de trab'!$A65,'SUPUESTOS GASTOS'!$D$38:$D$47),\"\")))","v":3900000},{"$f":"+'SUPUESTOS GASTOS'!$D$10","v":0.06},{"$f":"IF($C65=\"C\",ROUNDUP((I65*J65)+I65,-3),IF($C65=\"N\",ROUNDUP(('SUPUESTOS GASTOS'!$D$6*SUMIF('SUPUESTOS GASTOS'!$B$38:$B$47,'Anexo 5 Planta y Equipo de trab'!$A65,'SUPUESTOS GASTOS'!$D$38:$D$47)*$J65)+'SUPUESTOS GASTOS'!$D$6*SUMIF('SUPUESTOS GASTOS'!$B$38:$B$47,'Anexo 5 Planta y Equipo de trab'!$A65,'SUPUESTOS GASTOS'!$D$38:$D$47),-3),IF($C65=\"E\",0)))","v":4134000},{"$f":"IFERROR(IF($E65=\"PASANTE SENA\",ROUNDUP((K65*'SUPUESTOS GASTOS'!$D$20),-3),ROUNDUP((K65*'SUPUESTOS GASTOS'!$D$19),-3)),0)","v":352000},{"$f":"IFERROR(IF($E65=\"PASANTE SENA\",0,ROUNDUP((K65*'SUPUESTOS GASTOS'!$D$18),-3)),0)","v":497000},{"$f":"IFERROR(ROUNDUP(K65*SUMIF('SUPUESTOS GASTOS'!$B$24:$B$28,'Anexo 5 Planta y Equipo de trab'!$B65,'SUPUESTOS GASTOS'!$D$24:$D$28),-3),0)","v":180000},{"$f":"IFERROR(IF($E65=\"PASANTE SENA\",0,ROUNDUP((K65*'SUPUESTOS GASTOS'!$D$31),-3)),0)","v":166000},{"$f":"IFERROR(IF($E65=\"PASANTE SENA\",0,ROUNDUP((K65*'SUPUESTOS GASTOS'!$D$32),-3)),0)","v":83000},{"$f":"IF($C65=\"E\",0,IF($E65=\"PASANTE SENA\",0,IF(K65>=('SUPUESTOS GASTOS'!$D$14*2),0,ROUNDUP('SUPUESTOS GASTOS'!$D$15,-3))))","v":0},{"$f":"IFERROR(IF($E65=\"PASANTE SENA\",0,ROUNDUP((K65*'SUPUESTOS GASTOS'!$D$33),-3)),0)","v":125000},{"$f":"ROUNDUP((K65/'SUPUESTOS GASTOS'!$D$13)*H65,-3)","v":47955000},{"$f":"IFERROR(IF($E65=\"PASANTE SENA\",ROUNDUP((S65*'SUPUESTOS GASTOS'!$D$20),-3),ROUNDUP((S65*'SUPUESTOS GASTOS'!$D$19),-3)),0)","v":4077000},{"$f":"IFERROR(IF($E65=\"PASANTE SENA\",0,ROUNDUP((S65*'SUPUESTOS GASTOS'!$D$18),-3)),0)","v":5755000},{"$f":"IFERROR(ROUNDUP(S65*SUMIF('SUPUESTOS GASTOS'!$B$24:$B$28,'Anexo 5 Planta y Equipo de trab'!$B65,'SUPUESTOS GASTOS'!$D$24:$D$28),-3),0)","v":2087000},{"$f":"IFERROR(IF($E65=\"PASANTE SENA\",0,ROUNDUP(((S65+AD65)*'SUPUESTOS GASTOS'!$D$31),-3)),0)","v":1999000},{"$f":"IFERROR(IF($E65=\"PASANTE SENA\",0,ROUNDUP(((S65+AD65)*'SUPUESTOS GASTOS'!$D$32),-3)),0)","v":1000000},{"$f":"IF($C65=\"E\",0,IF($E65=\"PASANTE SENA\",0,IF(K65>=('SUPUESTOS GASTOS'!$D$14*2),0,ROUNDUP(('SUPUESTOS GASTOS'!$D$15/'SUPUESTOS GASTOS'!$D$13)*$H65,-3))))","v":0},{"$f":"IFERROR(IF($E65=\"PASANTE SENA\",0,ROUNDUP(((S65+AD65)*'SUPUESTOS GASTOS'!$D$33),-3)),0)","v":1499000},{"$f":"IF($E65=\"PASANTE SENA\",0,ROUNDUP(((K65+Q65)*H65)/'SUPUESTOS GASTOS'!$D$12,-3))","v":3997000},{"$f":"IF($E65=\"PASANTE SENA\",0,ROUNDUP((((AA65)/'SUPUESTOS GASTOS'!$D$12)*H65)*'SUPUESTOS GASTOS'!$D$21,-3))","v":464000},{"$f":"IF($E65=\"PASANTE SENA\",0,ROUNDUP(((K65+Q65)*H65)/'SUPUESTOS GASTOS'!$D$12,-3))","v":3997000},{"$f":"IF($E65=\"PASANTE SENA\",0,ROUNDUP((K65*H65)/('SUPUESTOS GASTOS'!$D$12*2),-3))","v":1999000},null,74829000]
[5,3,"C",null,"EXTENSIONISTAS 1","2025-01-13","2025-12-31",348,{"$f":"IF(C66=\"C\",'SUPUESTOS GASTOS'!$D$6*SUMIF('SUPUESTOS GASTOS'!$B$38:$B$47,'Anexo 5 Planta y Equipo de trab'!$A66,'SUPUESTOS GASTOS'!$D$38:$D$47),IF($C66=\"N\",0,IF(C66=\"E\",'SUPUESTOS GASTOS'!$D$6*SUMIF('SUPUESTOS GASTOS'!$B$38:$B$47,'Anexo 5 Planta y Equipo de trab'!$A66,'SUPUESTOS GASTOS'!$D$38:$D$47),\"\")))","v":3380000},{"$f":"+'SUPUESTOS GASTOS'!$D$10","v":0.06},{"$f":"IF($C66=\"C\",ROUNDUP((I66*J66)+I66,-3),IF($C66=\"N\",ROUNDUP(('SUPUESTOS GASTOS'!$D$6*SUMIF('SUPUESTOS GASTOS'!$B$38:$B$47,'Anexo 5 Planta y Equipo de trab'!$A66,'SUPUESTOS GASTOS'!$D$38:$D$47)*$J66)+'SUPUESTOS GASTOS'!$D$6*SUMIF('SUPUESTOS GASTOS'!$B$38:$B$47,'Anexo 5 Planta y Equipo de trab'!$A66,'SUPUESTOS GASTOS'!$D$38:$D$47),-3),IF($C66=\"E\",0)))","v":3583000},{"$f":"IFERROR(IF($E66=\"PASANTE SENA\",ROUNDUP((K66*'SUPUESTOS GASTOS'!$D$20),-3),ROUNDUP((K66*'SUPUESTOS GASTOS'!$D$19),-3)),0)","v":305000},{"$f":"IFERROR(IF($E66=\"PASANTE SENA\",0,ROUNDUP((K66*'SUPUESTOS GASTOS'!$D$18),-3)),0)","v":430000},{"$f":"IFERROR(ROUNDUP(K66*SUMIF('SUPUESTOS GASTOS'!$B$24:$B$28,'Anexo 5 Planta y Equipo de trab'!$B66,'SUPUESTOS GASTOS'!$D$24:$D$28),-3),0)","v":156000},{"$f":"IFERROR(IF($E66=\"PASANTE SENA\",0,ROUNDUP((K66*'SUPUESTOS GASTOS'!$D$31),-3)),0)","v":144000},{"$f":"IFERROR(IF($E66=\"PASANTE SENA\",0,ROUNDUP((K66*'SUPUESTOS GASTOS'!$D$32),-3)),0)","v":72000},{"$f":"IF($C66=\"E\",0,IF($E66=\"PASANTE SENA\",0,IF(K66>=('SUPUESTOS GASTOS'!$D$14*2),0,ROUNDUP('SUPUESTOS GASTOS'!$D$15,-3))))","v":0},{"$f":"IFERROR(IF($E66=\"PASANTE SENA\",0,ROUNDUP((K66*'SUPUESTOS GASTOS'!$D$33),-3)),0)","v":108000},{"$f":"ROUNDUP((K66/'SUPUESTOS GASTOS'!$D$13)*H66,-3)","v":41563000},{"$f":"IFERROR(IF($E66=\"PASANTE SENA\",ROUNDUP((S66*'SUPUESTOS GASTOS'!$D$20),-3),ROUNDUP((S66*'SUPUESTOS GASTOS'!$D$19),-3)),0)","v":3533000},{"$f":"IFERROR(IF($E66=\"PASANTE SENA\",0,ROUNDUP((S66*'SUPUESTOS GASTOS'!$D$18),-3)),0)","v":4988000},{"$f":"IFERROR(ROUNDUP(S66*SUMIF('SUPUESTOS GASTOS'!$B$24:$B$28,'Anexo 5 Planta y Equipo de trab'!$B66,'SUPUESTOS GASTOS'!$D$24:$D$28),-3),0)","v":1808000},{"$f":"IFERROR(IF($E66=\"PASANTE SENA\",0,ROUNDUP(((S66+AD66)*'SUPUESTOS GASTOS'!$D$31),-3)),0)","v":1732000},{"$f":"IFERROR(IF($E66=\"PASANTE SENA\",0,ROUNDUP(((S66+AD66)*'SUPUESTOS GASTOS'!$D$32),-3)),0)","v":866000},{"$f":"IF($C66=\"E\",0,IF($E66=\"PASANTE SENA\",0,IF(K66>=('SUPUESTOS GASTOS'!$D$14*2),0,ROUNDUP(('SUPUESTOS GASTOS'!$D$15/'SUPUESTOS GASTOS'!$D$13)*$H66,-3))))","v":0},{"$f":"IFERROR(IF($E66=\"PASANTE SENA\",0,ROUNDUP(((S66+AD66)*'SUPUESTOS GASTOS'!$D$33),-3)),0)","v":1299000},{"$f":"IF($E66=\"PASANTE SENA\",0,ROUNDUP(((K66+Q66)*H66)/'SUPUESTOS GASTOS'!$D$12,-3))","v":3464000},{"$f":"IF($E66=\"PASANTE SENA\",0,ROUNDUP((((AA66)/'SUPUESTOS GASTOS'!$D$12)*H66)*'SUPUESTOS GASTOS'!$D$21,-3))","v":402000},{"$f":"IF($E66=\"PASANTE SENA\",0,ROUNDUP(((K66+Q66)*H66)/'SUPUESTOS GASTOS'!$D$12,-3))","v":3464000},{"$f":"IF($E66=\"PASANTE SENA\",0,ROUNDUP((K66*H66)/('SUPUESTOS GASTOS'!$D$12*2),-3))","v":1732000},null,64851000]
[5,3,"C",null,"EXTENSIONISTAS 2","2025-01-13","2025-12-31",348,{"$f":"IF(C67=\"C\",'SUPUESTOS GASTOS'!$D$6*SUMIF('SUPUESTOS GASTOS'!$B$38:$B$47,'Anexo 5 Planta y Equipo de trab'!$A67,'SUPUESTOS GASTOS'!$D$38:$D$47),IF($C67=\"N\",0,IF(C67=\"E\",'SUPUESTOS GASTOS'!$D$6*SUMIF('SUPUESTOS GASTOS'!$B$38:$B$47,'Anexo 5 Planta y Equipo de trab'!$A67,'SUPUESTOS GASTOS'!$D$38:$D$47),\"\")))","v":3380000},{"$f":"+'SUPUESTOS GASTOS'!$D$10","v":0.06},{"$f":"IF($C67=\"C\",ROUNDUP((I67*J67)+I67,-3),IF($C67=\"N\",ROUNDUP(('SUPUESTOS GASTOS'!$D$6*SUMIF('SUPUESTOS GASTOS'!$B$38:$B$47,'Anexo 5 Planta y Equipo de trab'!$A67,'SUPUESTOS GASTOS'!$D$38:$D$47)*$J67)+'SUPUESTOS GASTOS'!$D$6*SUMIF('SUPUESTOS GASTOS'!$B$38:$B$47,'Anexo 5 Planta y Equipo de trab'!$A67,'SUPUESTOS GASTOS'!$D$38:$D$47),-3),IF($C67=\"E\",0)))","v":3583000},{"$f":"IFERROR(IF($E67=\"PASANTE SENA\",ROUNDUP((K67*'SUPUESTOS GASTOS'!$D$20),-3),ROUNDUP((K67*'SUPUESTOS GASTOS'!$D$19),-3)),0)","v":305000},{"$f":"IFERROR(IF($E67=\"PASANTE SENA\",0,ROUNDUP((K67*'SUPUESTOS GASTOS'!$D$18),-3)),0)","v":430000},{"$f":"IFERROR(ROUNDUP(K67*SUMIF('SUPUESTOS GASTOS'!$B$24:$B$28,'Anexo 5 Planta y Equipo de trab'!$B67,'SUPUESTOS GASTOS'!$D$24:$D$28),-3),0)","v":156000},{"$f":"IFERROR(IF($E67=\"PASANTE SENA\",0,ROUNDUP((K67*'SUPUESTOS GASTOS'!$D$31),-3)),0)","v":144000},{"$f":"IFERROR(IF($E67=\"PASANTE SENA\",0,ROUNDUP((K67*'SUPUESTOS GASTOS'!$D$32),-3)),0)","v":72000},{"$f":"IF($C67=\"E\",0,IF($E67=\"PASANTE SENA\",0,IF(K67>=('SUPUESTOS GASTOS'!$D$14*2),0,ROUNDUP('SUPUESTOS GASTOS'!$D$15,-3))))","v":0},{"$f":"IFERROR(IF($E67=\"PASANTE SENA\",0,ROUNDUP((K67*'SUPUESTOS GASTOS'!$D$33),-3)),0)","v":108000},{"$f":"ROUNDUP((K67/'SUPUESTOS GASTOS'!$D$13)*H67,-3)","v":41563000},{"$f":"IFERROR(IF($E67=\"PASANTE SENA\",ROUNDUP((S67*'SUPUESTOS GASTOS'!$D$20),-3),ROUNDUP((S67*'SUPUESTOS GASTOS'!$D$19),-3)),0)","v":3533000},{"$f":"IFERROR(IF($E67=\"PASANTE SENA\",0,ROUNDUP((S67*'SUPUESTOS GASTOS'!$D$18),-3)),0)","v":4988000},{"$f":"IFERROR(ROUNDUP(S67*SUMIF('SUPUESTOS GASTOS'!$B$24:$B$28,'Anexo 5 Planta y Equipo de trab'!$B67,'SUPUESTOS GASTOS'!$D$24:$D$28),-3),0)","v":1808000},{"$f":"IFERROR(IF($E67=\"PASANTE SENA\",0,ROUNDUP(((S67+AD67)*'SUPUESTOS GASTOS'!$D$31),-3)),0)","v":1732000},{"$f":"IFERROR(IF($E67=\"PASANTE SENA\",0,ROUNDUP(((S67+AD67)*'SUPUESTOS GASTOS'!$D$32),-3)),0)","v":866000},{"$f":"IF($C67=\"E\",0,IF($E67=\"PASANTE SENA\",0,IF(K67>=('SUPUESTOS GASTOS'!$D$14*2),0,ROUNDUP(('SUPUESTOS GASTOS'!$D$15/'SUPUESTOS GASTOS'!$D$13)*$H67,-3))))","v":0},{"$f":"IFERROR(IF($E67=\"PASANTE SENA\",0,ROUNDUP(((S67+AD67)*'SUPUESTOS GASTOS'!$D$33),-3)),0)","v":1299000},{"$f":"IF($E67=\"PASANTE SENA\",0,ROUNDUP(((K67+Q67)*H67)/'SUPUESTOS GASTOS'!$D$12,-3))","v":3464000},{"$f":"IF($E67=\"PASANTE SENA\",0,ROUNDUP((((AA67)/'SUPUESTOS GASTOS'!$D$12)*H67)*'SUPUESTOS GASTOS'!$D$21,-3))","v":402000},{"$f":"IF($E67=\"PASANTE SENA\",0,ROUNDUP(((K67+Q67)*H67)/'SUPUESTOS GASTOS'!$D$12,-3))","v":3464000},{"$f":"IF($E67=\"PASANTE SENA\",0,ROUNDUP((K67*H67)/('SUPUESTOS GASTOS'!$D$12*2),-3))","v":1732000},null,64851000]
[5,3,"C",null,"EXTENSIONISTAS 3","2025-01-13","2025-12-31",348,{"$f":"IF(C68=\"C\",'SUPUESTOS GASTOS'!$D$6*SUMIF('SUPUESTOS GASTOS'!$B$38:$B$47,'Anexo 5 Planta y Equipo de trab'!$A68,'SUPUESTOS GASTOS'!$D$38:$D$47),IF($C68=\"N\",0,IF(C68=\"E\",'SUPUESTOS GASTOS'!$D$6*SUMIF('SUPUESTOS GASTOS'!$B$38:$B$47,'Anexo 5 Planta y Equipo de trab'!$A68,'SUPUESTOS GASTOS'!$D$38:$D$47),\"\")))","v":3380000},{"$f":"+'SUPUESTOS GASTOS'!$D$10","v":0.06},{"$f":"IF($C68=\"C\",ROUNDUP((I68*J68)+I68,-3),IF($C68=\"N\",ROUNDUP(('SUPUESTOS GASTOS'!$D$6*SUMIF('SUPUESTOS GASTOS'!$B$38:$B$47,'Anexo 5 Planta y Equipo de trab'!$A68,'SUPUESTOS GASTOS'!$D$38:$D$47)*$J68)+'SUPUESTOS GASTOS'!$D$6*SUMIF('SUPUESTOS GASTOS'!$B$38:$B$47,'Anexo 5 Planta y Equipo de trab'!$A68,'SUPUESTOS GASTOS'!$D$38:$D$47),-3),IF($C68=\"E\",0)))","v":3583000},{"$f":"IFERROR(IF($E68=\"PASANTE SENA\",ROUNDUP((K68*'SUPUESTOS GASTOS'!$D$20),-3),ROUNDUP((K68*'SUPUESTOS GASTOS'!$D$19),-3)),0)","v":305000},{"$f":"IFERROR(IF($E68=\"PASANTE SENA\",0,ROUNDUP((K68*'SUPUESTOS GASTOS'!$D$18),-3)),0)","v":430000},{"$f":"IFERROR(ROUNDUP(K68*SUMIF('SUPUESTOS GASTOS'!$B$24:$B$28,'Anexo 5 Planta y Equipo de trab'!$B68,'SUPUESTOS GASTOS'!$D$24:$D$28),-3),0)","v":156000},{"$f":"IFERROR(IF($E68=\"PASANTE SENA\",0,ROUNDUP((K68*'SUPUESTOS GASTOS'!$D$31),-3)),0)","v":144000},{"$f":"IFERROR(IF($E68=\"PASANTE SENA\",0,ROUNDUP((K68*'SUPUESTOS GASTOS'!$D$32),-3)),0)","v":72000},{"$f":"IF($C68=\"E\",0,IF($E68=\"PASANTE SENA\",0,IF(K68>=('SUPUESTOS GASTOS'!$D$14*2),0,ROUNDUP('SUPUESTOS GASTOS'!$D$15,-3))))","v":0},{"$f":"IFERROR(IF($E68=\"PASANTE SENA\",0,ROUNDUP((K68*'SUPUESTOS GASTOS'!$D$33),-3)),0)","v":108000},{"$f":"ROUNDUP((K68/'SUPUESTOS GASTOS'!$D$13)*H68,-3)","v":41563000},{"$f":"IFERROR(IF($E68=\"PASANTE SENA\",ROUNDUP((S68*'SUPUESTOS GASTOS'!$D$20),-3),ROUNDUP((S68*'SUPUESTOS GASTOS'!$D$19),-3)),0)","v":3533000},{"$f":"IFERROR(IF($E68=\"PASANTE SENA\",0,ROUNDUP((S68*'SUPUESTOS GASTOS'!$D$18),-3)),0)","v":4988000},{"$f":"IFERROR(ROUNDUP(S68*SUMIF('SUPUESTOS GASTOS'!$B$24:$B$28,'Anexo 5 Planta y Equipo de trab'!$B68,'SUPUESTOS GASTOS'!$D$24:$D$28),-3),0)","v":1808000},{"$f":"IFERROR(IF($E68=\"PASANTE SENA\",0,ROUNDUP(((S68+AD68)*'SUPUESTOS GASTOS'!$D$31),-3)),0)","v":1732000},{"$f":"IFERROR(IF($E68=\"PASANTE SENA\",0,ROUNDUP(((S68+AD68)*'SUPUESTOS GASTOS'!$D$32),-3)),0)","v":866000},{"$f":"IF($C68=\"E\",0,IF($E68=\"PASANTE SENA\",0,IF(K68>=('SUPUESTOS GASTOS'!$D$14*2),0,ROUNDUP(('SUPUESTOS GASTOS'!$D$15/'SUPUESTOS GASTOS'!$D$13)*$H68,-3))))","v":0},{"$f":"IFERROR(IF($E68=\"PASANTE SENA\",0,ROUNDUP(((S68+AD68)*'SUPUESTOS GASTOS'!$D$33),-3)),0)","v":1299000},{"$f":"IF($E68=\"PASANTE SENA\",0,ROUNDUP(((K68+Q68)*H68)/'SUPUESTOS GASTOS'!$D$12,-3))","v":3464000},{"$f":"IF($E68=\"PASANTE SENA\",0,ROUNDUP((((AA68)/'SUPUESTOS GASTOS'!$D$12)*H68)*'SUPUESTOS GASTOS'!$D$21,-3))","v":402000},{"$f":"IF($E68=\"PASANTE SENA\",0,ROUNDUP(((K68+Q68)*H68)/'SUPUESTOS GASTOS'!$D$12,-3))","v":3464000},{"$f":"IF($E68=\"PASANTE SENA\",0,ROUNDUP((K68*H68)/('SUPUESTOS GASTOS'!$D$12*2),-3))","v":1732000},null,64851000]
[5,3,"C",null,"EXTENSIONISTAS 4","2025-01-13","2025-12-31",348,{"$f":"IF(C69=\"C\",'SUPUESTOS GASTOS'!$D$6*SUMIF('SUPUESTOS GASTOS'!$B$38:$B$47,'Anexo 5 Planta y Equipo de trab'!$A69,'SUPUESTOS GASTOS'!$D$38:$D$47),IF($C69=\"N\",0,IF(C69=\"E\",'SUPUESTOS GASTOS'!$D$6*SUMIF('SUPUESTOS GASTOS'!$B$38:$B$47,'Anexo 5 Planta y Equipo de trab'!$A69,'SUPUESTOS GASTOS'!$D$38:$D$47),\"\")))","v":3380000},{"$f":"+'SUPUESTOS GASTOS'!$D$10","v":0.06},{"$f":"IF($C69=\"C\",ROUNDUP((I69*J69)+I69,-3),IF($C69=\"N\",ROUNDUP(('SUPUESTOS GASTOS'!$D$6*SUMIF('SUPUESTOS GASTOS'!$B$38:$B$47,'Anexo 5 Planta y Equipo de trab'!$A69,'SUPUESTOS GASTOS'!$D$38:$D$47)*$J69)+'SUPUESTOS GASTOS'!$D$6*SUMIF('SUPUESTOS GASTOS'!$B$38:$B$47,'Anexo 5 Planta y Equipo de trab'!$A69,'SUPUESTOS GASTOS'!$D$38:$D$47),-3),IF($C69=\"E\",0)))","v":3583000},{"$f":"IFERROR(IF($E69=\"PASANTE SENA\",ROUNDUP((K69*'SUPUESTOS GASTOS'!$D$20),-3),ROUNDUP((K69*'SUPUESTOS GASTOS'!$D$19),-3)),0)","v":305000},{"$f":"IFERROR(IF($E69=\"PASANTE SENA\",0,ROUNDUP((K69*'SUPUESTOS GASTOS'!$D$18),-3)),0)","v":430000},{"$f":"IFERROR(ROUNDUP(K69*SUMIF('SUPUESTOS GASTOS'!$B$24:$B$28,'Anexo 5 Planta y Equipo de trab'!$B69,'SUPUESTOS GASTOS'!$D$24:$D$28),-3),0)","v":156000},{"$f":"IFERROR(IF($E69=\"PASANTE SENA\",0,ROUNDUP((K69*'SUPUESTOS GASTOS'!$D$31),-3)),0)","v":144000},{"$f":"IFERROR(IF($E69=\"PASANTE SENA\",0,ROUNDUP((K69*'SUPUESTOS GASTOS'!$D$32),-3)),0)","v":72000},{"$f":"IF($C69=\"E\",0,IF($E69=\"PASANTE SENA\",0,IF(K69>=('SUPUESTOS GASTOS'!$D$14*2),0,ROUNDUP('SUPUESTOS GASTOS'!$D$15,-3))))","v":0},{"$f":"IFERROR(IF($E69=\"PASANTE SENA\",0,ROUNDUP((K69*'SUPUESTOS GASTOS'!$D$33),-3)),0)","v":108000},{"$f":"ROUNDUP((K69/'SUPUESTOS GASTOS'!$D$13)*H69,-3)","v":41563000},{"$f":"IFERROR(IF($E69=\"PASANTE SENA\",ROUNDUP((S69*'SUPUESTOS GASTOS'!$D$20),-3),ROUNDUP((S69*'SUPUESTOS GASTOS'!$D$19),-3)),0)","v":3533000},{"$f":"IFERROR(IF($E69=\"PASANTE SENA\",0,ROUNDUP((S69*'SUPUESTOS GASTOS'!$D$18),-3)),0)","v":4988000},{"$f":"IFERROR(ROUNDUP(S69*SUMIF('SUPUESTOS GASTOS'!$B$24:$B$28,'Anexo 5 Planta y Equipo de trab'!$B69,'SUPUESTOS GASTOS'!$D$24:$D$28),-3),0)","v":1808000},{"$f":"IFERROR(IF($E69=\"PASANTE SENA\",0,ROUNDUP(((S69+AD69)*'SUPUESTOS GASTOS'!$D$31),-3)),0)","v":1732000},{"$f":"IFERROR(IF($E69=\"PASANTE SENA\",0,ROUNDUP(((S69+AD69)*'SUPUESTOS GASTOS'!$D$32),-3)),0)","v":866000},{"$f":"IF($C69=\"E\",0,IF($E69=\"PASANTE SENA\",0,IF(K69>=('SUPUESTOS GASTOS'!$D$14*2),0,ROUNDUP(('SUPUESTOS GASTOS'!$D$15/'SUPUESTOS GASTOS'!$D$13)*$H69,-3))))","v":0},{"$f":"IFERROR(IF($E69=\"PASANTE SENA\",0,ROUNDUP(((S69+AD69)*'SUPUESTOS GASTOS'!$D$33),-3)),0)","v":1299000},{"$f":"IF($E69=\"PASANTE SENA\",0,ROUNDUP(((K69+Q69)*H69)/'SUPUESTOS GASTOS'!$D$12,-3))","v":3464000},{"$f":"IF($E69=\"PASANTE SENA\",0,ROUNDUP((((AA69)/'SUPUESTOS GASTOS'!$D$12)*H69)*'SUPUESTOS GASTOS'!$D$21,-3))","v":402000},{"$f":"IF($E69=\"PASANTE SENA\",0,ROUNDUP(((K69+Q69)*H69)/'SUPUESTOS GASTOS'!$D$12,-3))","v":3464000},{"$f":"IF($E69=\"PASANTE SENA\",0,ROUNDUP((K69*H69)/('SUPUESTOS GASTOS'!$D$12*2),-3))","v":1732000},null,64851000]
[5,3,"C",null,"EXTENSIONISTAS 5","2025-01-13","2025-12-31",348,{"$f":"IF(C70=\"C\",'SUPUESTOS GASTOS'!$D$6*SUMIF('SUPUESTOS GASTOS'!$B$38:$B$47,'Anexo 5 Planta y Equipo de trab'!$A70,'SUPUESTOS GASTOS'!$D$38:$D$47),IF($C70=\"N\",0,IF(C70=\"E\",'SUPUESTOS GASTOS'!$D$6*SUMIF('SUPUESTOS GASTOS'!$B$38:$B$47,'Anexo 5 Planta y Equipo de trab'!$A70,'SUPUESTOS GASTOS'!$D$38:$D$47),\"\")))","v":3380000},{"$f":"+'SUPUESTOS GASTOS'!$D$10","v":0.06},{"$f":"IF($C70=\"C\",ROUNDUP((I70*J70)+I70,-3),IF($C70=\"N\",ROUNDUP(('SUPUESTOS GASTOS'!$D$6*SUMIF('SUPUESTOS GASTOS'!$B$38:$B$47,'Anexo 5 Planta y Equipo de trab'!$A70,'SUPUESTOS GASTOS'!$D$38:$D$47)*$J70)+'SUPUESTOS GASTOS'!$D$6*SUMIF('SUPUESTOS GASTOS'!$B$38:$B$47,'Anexo 5 Planta y Equipo de trab'!$A70,'SUPUESTOS GASTOS'!$D$38:$D$47),-3),IF($C70=\"E\",0)))","v":3583000},{"$f":"IFERROR(IF($E70=\"PASANTE SENA\",ROUNDUP((K70*'SUPUESTOS GASTOS'!$D$20),-3),ROUNDUP((K70*'SUPUESTOS GASTOS'!$D$19),-3)),0)","v":305000},{"$f":"IFERROR(IF($E70=\"PASANTE SENA\",0,ROUNDUP((K70*'SUPUESTOS GASTOS'!$D$18),-3)),0)","v":430000},{"$f":"IFERROR(ROUNDUP(K70*SUMIF('SUPUESTOS GASTOS'!$B$24:$B$28,'Anexo 5 Planta y Equipo de trab'!$B70,'SUPUESTOS GASTOS'!$D$24:$D$28),-3),0)","v":156000},{"$f":"IFERROR(IF($E70=\"PASANTE SENA\",0,ROUNDUP((K70*'SUPUESTOS GASTOS'!$D$31),-3)),0)","v":144000},{"$f":"IFERROR(IF($E70=\"PASANTE SENA\",0,ROUNDUP((K70*'SUPUESTOS GASTOS'!$D$32),-3)),0)","v":72000},{"$f":"IF($C70=\"E\",0,IF($E70=\"PASANTE SENA\",0,IF(K70>=('SUPUESTOS GASTOS'!$D$14*2),0,ROUNDUP('SUPUESTOS GASTOS'!$D$15,-3))))","v":0},{"$f":"IFERROR(IF($E70=\"PASANTE SENA\",0,ROUNDUP((K70*'SUPUESTOS GASTOS'!$D$33),-3)),0)","v":108000},{"$f":"ROUNDUP((K70/'SUPUESTOS GASTOS'!$D$13)*H70,-3)","v":41563000},{"$f":"IFERROR(IF($E70=\"PASANTE SENA\",ROUNDUP((S70*'SUPUESTOS GASTOS'!$D$20),-3),ROUNDUP((S70*'SUPUESTOS GASTOS'!$D$19),-3)),0)","v":3533000},{"$f":"IFERROR(IF($E70=\"PASANTE SENA\",0,ROUNDUP((S70*'SUPUESTOS GASTOS'!$D$18),-3)),0)","v":4988000},{"$f":"IFERROR(ROUNDUP(S70*SUMIF('SUPUESTOS GASTOS'!$B$24:$B$28,'Anexo 5 Planta y Equipo de trab'!$B70,'SUPUESTOS GASTOS'!$D$24:$D$28),-3),0)","v":1808000},{"$f":"IFERROR(IF($E70=\"PASANTE SENA\",0,ROUNDUP(((S70+AD70)*'SUPUESTOS GASTOS'!$D$31),-3)),0)","v":1732000},{"$f":"IFERROR(IF($E70=\"PASANTE SENA\",0,ROUNDUP(((S70+AD70)*'SUPUESTOS GASTOS'!$D$32),-3)),0)","v":866000},{"$f":"IF($C70=\"E\",0,IF($E70=\"PASANTE SENA\",0,IF(K70>=('SUPUESTOS GASTOS'!$D$14*2),0,ROUNDUP(('SUPUESTOS GASTOS'!$D$15/'SUPUESTOS GASTOS'!$D$13)*$H70,-3))))","v":0},{"$f":"IFERROR(IF($E70=\"PASANTE SENA\",0,ROUNDUP(((S70+AD70)*'SUPUESTOS GASTOS'!$D$33),-3)),0)","v":1299000},{"$f":"IF($E70=\"PASANTE SENA\",0,ROUNDUP(((K70+Q70)*H70)/'SUPUESTOS GASTOS'!$D$12,-3))","v":3464000},{"$f":"IF($E70=\"PASANTE SENA\",0,ROUNDUP((((AA70)/'SUPUESTOS GASTOS'!$D$12)*H70)*'SUPUESTOS GASTOS'!$D$21,-3))","v":402000},{"$f":"IF($E70=\"PASANTE SENA\",0,ROUNDUP(((K70+Q70)*H70)/'SUPUESTOS GASTOS'!$D$12,-3))","v":3464000},{"$f":"IF($E70=\"PASANTE SENA\",0,ROUNDUP((K70*H70)/('SUPUESTOS GASTOS'!$D$12*2),-3))","v":1732000},null,64851000]
[5,3,"C",null,"EXTENSIONISTAS 6","2025-01-13","2025-12-31",348,{"$f":"IF(C71=\"C\",'SUPUESTOS GASTOS'!$D$6*SUMIF('SUPUESTOS GASTOS'!$B$38:$B$47,'Anexo 5 Planta y Equipo de trab'!$A71,'SUPUESTOS GASTOS'!$D$38:$D$47),IF($C71=\"N\",0,IF(C71=\"E\",'SUPUESTOS GASTOS'!$D$6*SUMIF('SUPUESTOS GASTOS'!$B$38:$B$47,'Anexo 5 Planta y Equipo de trab'!$A71,'SUPUESTOS GASTOS'!$D$38:$D$47),\"\")))","v":3380000},{"$f":"+'SUPUESTOS GASTOS'!$D$10","v":0.06},{"$f":"IF($C71=\"C\",ROUNDUP((I71*J71)+I71,-3),IF($C71=\"N\",ROUNDUP(('SUPUESTOS GASTOS'!$D$6*SUMIF('SUPUESTOS GASTOS'!$B$38:$B$47,'Anexo 5 Planta y Equipo de trab'!$A71,'SUPUESTOS GASTOS'!$D$38:$D$47)*$J71)+'SUPUESTOS GASTOS'!$D$6*SUMIF('SUPUESTOS GASTOS'!$B$38:$B$47,'Anexo 5 Planta y Equipo de trab'!$A71,'SUPUESTOS GASTOS'!$D$38:$D$47),-3),IF($C71=\"E\",0)))","v":3583000},{"$f":"IFERROR(IF($E71=\"PASANTE SENA\",ROUNDUP((K71*'SUPUESTOS GASTOS'!$D$20),-3),ROUNDUP((K71*'SUPUESTOS GASTOS'!$D$19),-3)),0)","v":305000},{"$f":"IFERROR(IF($E71=\"PASANTE SENA\",0,ROUNDUP((K71*'SUPUESTOS GASTOS'!$D$18),-3)),0)","v":430000},{"$f":"IFERROR(ROUNDUP(K71*SUMIF('SUPUESTOS GASTOS'!$B$24:$B$28,'Anexo 5 Planta y Equipo de trab'!$B71,'SUPUESTOS GASTOS'!$D$24:$D$28),-3),0)","v":156000},{"$f":"IFERROR(IF($E71=\"PASANTE SENA\",0,ROUNDUP((K71*'SUPUESTOS GASTOS'!$D$31),-3)),0)","v":144000},{"$f":"IFERROR(IF($E71=\"PASANTE SENA\",0,ROUNDUP((K71*'SUPUESTOS GASTOS'!$D$32),-3)),0)","v":72000},{"$f":"IF($C71=\"E\",0,IF($E71=\"PASANTE SENA\",0,IF(K71>=('SUPUESTOS GASTOS'!$D$14*2),0,ROUNDUP('SUPUESTOS GASTOS'!$D$15,-3))))","v":0},{"$f":"IFERROR(IF($E71=\"PASANTE SENA\",0,ROUNDUP((K71*'SUPUESTOS GASTOS'!$D$33),-3)),0)","v":108000},{"$f":"ROUNDUP((K71/'SUPUESTOS GASTOS'!$D$13)*H71,-3)","v":41563000},{"$f":"IFERROR(IF($E71=\"PASANTE SENA\",ROUNDUP((S71*'SUPUESTOS GASTOS'!$D$20),-3),ROUNDUP((S71*'SUPUESTOS GASTOS'!$D$19),-3)),0)","v":3533000},{"$f":"IFERROR(IF($E71=\"PASANTE SENA\",0,ROUNDUP((S71*'SUPUESTOS GASTOS'!$D$18),-3)),0)","v":4988000},{"$f":"IFERROR(ROUNDUP(S71*SUMIF('SUPUESTOS GASTOS'!$B$24:$B$28,'Anexo 5 Planta y Equipo de trab'!$B71,'SUPUESTOS GASTOS'!$D$24:$D$28),-3),0)","v":1808000},{"$f":"IFERROR(IF($E71=\"PASANTE SENA\",0,ROUNDUP(((S71+AD71)*'SUPUESTOS GASTOS'!$D$31),-3)),0)","v":1732000},{"$f":"IFERROR(IF($E71=\"PASANTE SENA\",0,ROUNDUP(((S71+AD71)*'SUPUESTOS GASTOS'!$D$32),-3)),0)","v":866000},{"$f":"IF($C71=\"E\",0,IF($E71=\"PASANTE SENA\",0,IF(K71>=('SUPUESTOS GASTOS'!$D$14*2),0,ROUNDUP(('SUPUESTOS GASTOS'!$D$15/'SUPUESTOS GASTOS'!$D$13)*$H71,-3))))","v":0},{"$f":"IFERROR(IF($E71=\"PASANTE SENA\",0,ROUNDUP(((S71+AD71)*'SUPUESTOS GASTOS'!$D$33),-3)),0)","v":1299000},{"$f":"IF($E71=\"PASANTE SENA\",0,ROUNDUP(((K71+Q71)*H71)/'SUPUESTOS GASTOS'!$D$12,-3))","v":3464000},{"$f":"IF($E71=\"PASANTE SENA\",0,ROUNDUP((((AA71)/'SUPUESTOS GASTOS'!$D$12)*H71)*'SUPUESTOS GASTOS'!$D$21,-3))","v":402000},{"$f":"IF($E71=\"PASANTE SENA\",0,ROUNDUP(((K71+Q71)*H71)/'SUPUESTOS GASTOS'!$D$12,-3))","v":3464000},{"$f":"IF($E71=\"PASANTE SENA\",0,ROUNDUP((K71*H71)/('SUPUESTOS GASTOS'!$D$12*2),-3))","v":1732000},null,64851000]
[5,3,"C",null,"EXTENSIONISTAS 7","2025-01-13","2025-12-31",348,{"$f":"IF(C72=\"C\",'SUPUESTOS GASTOS'!$D$6*SUMIF('SUPUESTOS GASTOS'!$B$38:$B$47,'Anexo 5 Planta y Equipo de trab'!$A72,'SUPUESTOS GASTOS'!$D$38:$D$47),IF($C72=\"N\",0,IF(C72=\"E\",'SUPUESTOS GASTOS'!$D$6*SUMIF('SUPUESTOS GASTOS'!$B$38:$B$47,'Anexo 5 Planta y Equipo de trab'!$A72,'SUPUESTOS GASTOS'!$D$38:$D$47),\"\")))","v":3380000},{"$f":"+'SUPUESTOS GASTOS'!$D$10","v":0.06},{"$f":"IF($C72=\"C\",ROUNDUP((I72*J72)+I72,-3),IF($C72=\"N\",ROUNDUP(('SUPUESTOS GASTOS'!$D$6*SUMIF('SUPUESTOS GASTOS'!$B$38:$B$47,'Anexo 5 Planta y Equipo de trab'!$A72,'SUPUESTOS GASTOS'!$D$38:$D$47)*$J72)+'SUPUESTOS GASTOS'!$D$6*SUMIF('SUPUESTOS GASTOS'!$B$38:$B$47,'Anexo 5 Planta y Equipo de trab'!$A72,'SUPUESTOS GASTOS'!$D$38:$D$47),-3),IF($C72=\"E\",0)))","v":3583000},{"$f":"IFERROR(IF($E72=\"PASANTE SENA\",ROUNDUP((K72*'SUPUESTOS GASTOS'!$D$20),-3),ROUNDUP((K72*'SUPUESTOS GASTOS'!$D$19),-3)),0)","v":305000},{"$f":"IFERROR(IF($E72=\"PASANTE SENA\",0,ROUNDUP((K72*'SUPUESTOS GASTOS'!$D$18),-3)),0)","v":430000},{"$f":"IFERROR(ROUNDUP(K72*SUMIF('SUPUESTOS GASTOS'!$B$24:$B$28,'Anexo 5 Planta y Equipo de trab'!$B72,'SUPUESTOS GASTOS'!$D$24:$D$28),-3),0)","v":156000},{"$f":"IFERROR(IF($E72=\"PASANTE SENA\",0,ROUNDUP((K72*'SUPUESTOS GASTOS'!$D$31),-3)),0)","v":144000},{"$f":"IFERROR(IF($E72=\"PASANTE SENA\",0,ROUNDUP((K72*'SUPUESTOS GASTOS'!$D$32),-3)),0)","v":72000},{"$f":"IF($C72=\"E\",0,IF($E72=\"PASANTE SENA\",0,IF(K72>=('SUPUESTOS GASTOS'!$D$14*2),0,ROUNDUP('SUPUESTOS GASTOS'!$D$15,-3))))","v":0},{"$f":"IFERROR(IF($E72=\"PASANTE SENA\",0,ROUNDUP((K72*'SUPUESTOS GASTOS'!$D$33),-3)),0)","v":108000},{"$f":"ROUNDUP((K72/'SUPUESTOS GASTOS'!$D$13)*H72,-3)","v":41563000},{"$f":"IFERROR(IF($E72=\"PASANTE SENA\",ROUNDUP((S72*'SUPUESTOS GASTOS'!$D$20),-3),ROUNDUP((S72*'SUPUESTOS GASTOS'!$D$19),-3)),0)","v":3533000},{"$f":"IFERROR(IF($E72=\"PASANTE SENA\",0,ROUNDUP((S72*'SUPUESTOS GASTOS'!$D$18),-3)),0)","v":4988000},{"$f":"IFERROR(ROUNDUP(S72*SUMIF('SUPUESTOS GASTOS'!$B$24:$B$28,'Anexo 5 Planta y Equipo de trab'!$B72,'SUPUESTOS GASTOS'!$D$24:$D$28),-3),0)","v":1808000},{"$f":"IFERROR(IF($E72=\"PASANTE SENA\",0,ROUNDUP(((S72+AD72)*'SUPUESTOS GASTOS'!$D$31),-3)),0)","v":1732000},{"$f":"IFERROR(IF($E72=\"PASANTE SENA\",0,ROUNDUP(((S72+AD72)*'SUPUESTOS GASTOS'!$D$32),-3)),0)","v":866000},{"$f":"IF($C72=\"E\",0,IF($E72=\"PASANTE SENA\",0,IF(K72>=('SUPUESTOS GASTOS'!$D$14*2),0,ROUNDUP(('SUPUESTOS GASTOS'!$D$15/'SUPUESTOS GASTOS'!$D$13)*$H72,-3))))","v":0},{"$f":"IFERROR(IF($E72=\"PASANTE SENA\",0,ROUNDUP(((S72+AD72)*'SUPUESTOS GASTOS'!$D$33),-3)),0)","v":1299000},{"$f":"IF($E72=\"PASANTE SENA\",0,ROUNDUP(((K72+Q72)*H72)/'SUPUESTOS GASTOS'!$D$12,-3))","v":3464000},{"$f":"IF($E72=\"PASANTE SENA\",0,ROUNDUP((((AA72)/'SUPUESTOS GASTOS'!$D$12)*H72)*'SUPUESTOS GASTOS'!$D$21,-3))","v":402000},{"$f":"IF($E72=\"PASANTE SENA\",0,ROUNDUP(((K72+Q72)*H72)/'SUPUESTOS GASTOS'!$D$12,-3))","v":3464000},{"$f":"IF($E72=\"PASANTE SENA\",0,ROUNDUP((K72*H72)/('SUPUESTOS GASTOS'!$D$12*2),-3))","v":1732000},null,64851000]
[5,3,"C",null,"EXTENSIONISTAS 8","2025-01-13","2025-12-31",348,{"$f":"IF(C73=\"C\",'SUPUESTOS GASTOS'!$D$6*SUMIF('SUPUESTOS GASTOS'!$B$38:$B$47,'Anexo 5 Planta y Equipo de trab'!$A73,'SUPUESTOS GASTOS'!$D$38:$D$47),IF($C73=\"N\",0,IF(C73=\"E\",'SUPUESTOS GASTOS'!$D$6*SUMIF('SUPUESTOS GASTOS'!$B$38:$B$47,'Anexo 5 Planta y Equipo de trab'!$A73,'SUPUESTOS GASTOS'!$D$38:$D$47),\"\")))","v":3380000},{"$f":"+'SUPUESTOS GASTOS'!$D$10","v":0.06},{"$f":"IF($C73=\"C\",ROUNDUP((I73*J73)+I73,-3),IF($C73=\"N\",ROUNDUP(('SUPUESTOS GASTOS'!$D$6*SUMIF('SUPUESTOS GASTOS'!$B$38:$B$47,'Anexo 5 Planta y Equipo de trab'!$A73,'SUPUESTOS GASTOS'!$D$38:$D$47)*$J73)+'SUPUESTOS GASTOS'!$D$6*SUMIF('SUPUESTOS GASTOS'!$B$38:$B$47,'Anexo 5 Planta y Equipo de trab'!$A73,'SUPUESTOS GASTOS'!$D$38:$D$47),-3),IF($C73=\"E\",0)))","v":3583000},{"$f":"IFERROR(IF($E73=\"PASANTE SENA\",ROUNDUP((K73*'SUPUESTOS GASTOS'!$D$20),-3),ROUNDUP((K73*'SUPUESTOS GASTOS'!$D$19),-3)),0)","v":305000},{"$f":"IFERROR(IF($E73=\"PASANTE SENA\",0,ROUNDUP((K73*'SUPUESTOS GASTOS'!$D$18),-3)),0)","v":430000},{"$f":"IFERROR(ROUNDUP(K73*SUMIF('SUPUESTOS GASTOS'!$B$24:$B$28,'Anexo 5 Planta y Equipo de trab'!$B73,'SUPUESTOS GASTOS'!$D$24:$D$28),-3),0)","v":156000},{"$f":"IFERROR(IF($E73=\"PASANTE SENA\",0,ROUNDUP((K73*'SUPUESTOS GASTOS'!$D$31),-3)),0)","v":144000},{"$f":"IFERROR(IF($E73=\"PASANTE SENA\",0,ROUNDUP((K73*'SUPUESTOS GASTOS'!$D$32),-3)),0)","v":72000},{"$f":"IF($C73=\"E\",0,IF($E73=\"PASANTE SENA\",0,IF(K73>=('SUPUESTOS GASTOS'!$D$14*2),0,ROUNDUP('SUPUESTOS GASTOS'!$D$15,-3))))","v":0},{"$f":"IFERROR(IF($E73=\"PASANTE SENA\",0,ROUNDUP((K73*'SUPUESTOS GASTOS'!$D$33),-3)),0)","v":108000},{"$f":"ROUNDUP((K73/'SUPUESTOS GASTOS'!$D$13)*H73,-3)","v":41563000},{"$f":"IFERROR(IF($E73=\"PASANTE SENA\",ROUNDUP((S73*'SUPUESTOS GASTOS'!$D$20),-3),ROUNDUP((S73*'SUPUESTOS GASTOS'!$D$19),-3)),0)","v":3533000},{"$f":"IFERROR(IF($E73=\"PASANTE SENA\",0,ROUNDUP((S73*'SUPUESTOS GASTOS'!$D$18),-3)),0)","v":4988000},{"$f":"IFERROR(ROUNDUP(S73*SUMIF('SUPUESTOS GASTOS'!$B$24:$B$28,'Anexo 5 Planta y Equipo de trab'!$B73,'SUPUESTOS GASTOS'!$D$24:$D$28),-3),0)","v":1808000},{"$f":"IFERROR(IF($E73=\"PASANTE SENA\",0,ROUNDUP(((S73+AD73)*'SUPUESTOS GASTOS'!$D$31),-3)),0)","v":1732000},{"$f":"IFERROR(IF($E73=\"PASANTE SENA\",0,ROUNDUP(((S73+AD73)*'SUPUESTOS GASTOS'!$D$32),-3)),0)","v":866000},{"$f":"IF($C73=\"E\",0,IF($E73=\"PASANTE SENA\",0,IF(K73>=('SUPUESTOS GASTOS'!$D$14*2),0,ROUNDUP(('SUPUESTOS GASTOS'!$D$15/'SUPUESTOS GASTOS'!$D$13)*$H73,-3))))","v":0},{"$f":"IFERROR(IF($E73=\"PASANTE SENA\",0,ROUNDUP(((S73+AD73)*'SUPUESTOS GASTOS'!$D$33),-3)),0)","v":1299000},{"$f":"IF($E73=\"PASANTE SENA\",0,ROUNDUP(((K73+Q73)*H73)/'SUPUESTOS GASTOS'!$D$12,-3))","v":3464000},{"$f":"IF($E73=\"PASANTE SENA\",0,ROUNDUP((((AA73)/'SUPUESTOS GASTOS'!$D$12)*H73)*'SUPUESTOS GASTOS'!$D$21,-3))","v":402000},{"$f":"IF($E73=\"PASANTE SENA\",0,ROUNDUP(((K73+Q73)*H73)/'SUPUESTOS GASTOS'!$D$12,-3))","v":3464000},{"$f":"IF($E73=\"PASANTE SENA\",0,ROUNDUP((K73*H73)/('SUPUESTOS GASTOS'!$D$12*2),-3))","v":1732000},null,64851000]
[5,3,"C",null,"EXTENSIONISTAS 9","2025-01-13","2025-12-31",348,{"$f":"IF(C74=\"C\",'SUPUESTOS GASTOS'!$D$6*SUMIF('SUPUESTOS GASTOS'!$B$38:$B$47,'Anexo 5 Planta y Equipo de trab'!$A74,'SUPUESTOS GASTOS'!$D$38:$D$47),IF($C74=\"N\",0,IF(C74=\"E\",'SUPUESTOS GASTOS'!$D$6*SUMIF('SUPUESTOS GASTOS'!$B$38:$B$47,'Anexo 5 Planta y Equipo de trab'!$A74,'SUPUESTOS GASTOS'!$D$38:$D$47),\"\")))","v":3380000},{"$f":"+'SUPUESTOS GASTOS'!$D$10","v":0.06},{"$f":"IF($C74=\"C\",ROUNDUP((I74*J74)+I74,-3),IF($C74=\"N\",ROUNDUP(('SUPUESTOS GASTOS'!$D$6*SUMIF('SUPUESTOS GASTOS'!$B$38:$B$47,'Anexo 5 Planta y Equipo de trab'!$A74,'SUPUESTOS GASTOS'!$D$38:$D$47)*$J74)+'SUPUESTOS GASTOS'!$D$6*SUMIF('SUPUESTOS GASTOS'!$B$38:$B$47,'Anexo 5 Planta y Equipo de trab'!$A74,'SUPUESTOS GASTOS'!$D$38:$D$47),-3),IF($C74=\"E\",0)))","v":3583000},{"$f":"IFERROR(IF($E74=\"PASANTE SENA\",ROUNDUP((K74*'SUPUESTOS GASTOS'!$D$20),-3),ROUNDUP((K74*'SUPUESTOS GASTOS'!$D$19),-3)),0)","v":305000},{"$f":"IFERROR(IF($E74=\"PASANTE SENA\",0,ROUNDUP((K74*'SUPUESTOS GASTOS'!$D$18),-3)),0)","v":430000},{"$f":"IFERROR(ROUNDUP(K74*SUMIF('SUPUESTOS GASTOS'!$B$24:$B$28,'Anexo 5 Planta y Equipo de trab'!$B74,'SUPUESTOS GASTOS'!$D$24:$D$28),-3),0)","v":156000},{"$f":"IFERROR(IF($E74=\"PASANTE SENA\",0,ROUNDUP((K74*'SUPUESTOS GASTOS'!$D$31),-3)),0)","v":144000},{"$f":"IFERROR(IF($E74=\"PASANTE SENA\",0,ROUNDUP((K74*'SUPUESTOS GASTOS'!$D$32),-3)),0)","v":72000},{"$f":"IF($C74=\"E\",0,IF($E74=\"PASANTE SENA\",0,IF(K74>=('SUPUESTOS GASTOS'!$D$14*2),0,ROUNDUP('SUPUESTOS GASTOS'!$D$15,-3))))","v":0},{"$f":"IFERROR(IF($E74=\"PASANTE SENA\",0,ROUNDUP((K74*'SUPUESTOS GASTOS'!$D$33),-3)),0)","v":108000},{"$f":"ROUNDUP((K74/'SUPUESTOS GASTOS'!$D$13)*H74,-3)","v":41563000},{"$f":"IFERROR(IF($E74=\"PASANTE SENA\",ROUNDUP((S74*'SUPUESTOS GASTOS'!$D$20),-3),ROUNDUP((S74*'SUPUESTOS GASTOS'!$D$19),-3)),0)","v":3533000},{"$f":"IFERROR(IF($E74=\"PASANTE SENA\",0,ROUNDUP((S74*'SUPUESTOS GASTOS'!$D$18),-3)),0)","v":4988000},{"$f":"IFERROR(ROUNDUP(S74*SUMIF('SUPUESTOS GASTOS'!$B$24:$B$28,'Anexo 5 Planta y Equipo de trab'!$B74,'SUPUESTOS GASTOS'!$D$24:$D$28),-3),0)","v":1808000},{"$f":"IFERROR(IF($E74=\"PASANTE SENA\",0,ROUNDUP(((S74+AD74)*'SUPUESTOS GASTOS'!$D$31),-3)),0)","v":1732000},{"$f":"IFERROR(IF($E74=\"PASANTE SENA\",0,ROUNDUP(((S74+AD74)*'SUPUESTOS GASTOS'!$D$32),-3)),0)","v":866000},{"$f":"IF($C74=\"E\",0,IF($E74=\"PASANTE SENA\",0,IF(K74>=('SUPUESTOS GASTOS'!$D$14*2),0,ROUNDUP(('SUPUESTOS GASTOS'!$D$15/'SUPUESTOS GASTOS'!$D$13)*$H74,-3))))","v":0},{"$f":"IFERROR(IF($E74=\"PASANTE SENA\",0,ROUNDUP(((S74+AD74)*'SUPUESTOS GASTOS'!$D$33),-3)),0)","v":1299000},{"$f":"IF($E74=\"PASANTE SENA\",0,ROUNDUP(((K74+Q74)*H74)/'SUPUESTOS GASTOS'!$D$12,-3))","v":3464000},{"$f":"IF($E74=\"PASANTE SENA\",0,ROUNDUP((((AA74)/'SUPUESTOS GASTOS'!$D$12)*H74)*'SUPUESTOS GASTOS'!$D$21,-3))","v":402000},{"$f":"IF($E74=\"PASANTE SENA\",0,ROUNDUP(((K74+Q74)*H74)/'SUPUESTOS GASTOS'!$D$12,-3))","v":3464000},{"$f":"IF($E74=\"PASANTE SENA\",0,ROUNDUP((K74*H74)/('SUPUESTOS GASTOS'!$D$12*2),-3))","v":1732000},null,64851000]
[5,3,"C",null,"EXTENSIONISTAS 10","2025-01-13","2025-12-31",348,{"$f":"IF(C75=\"C\",'SUPUESTOS GASTOS'!$D$6*SUMIF('SUPUESTOS GASTOS'!$B$38:$B$47,'Anexo 5 Planta y Equipo de trab'!$A75,'SUPUESTOS GASTOS'!$D$38:$D$47),IF($C75=\"N\",0,IF(C75=\"E\",'SUPUESTOS GASTOS'!$D$6*SUMIF('SUPUESTOS GASTOS'!$B$38:$B$47,'Anexo 5 Planta y Equipo de trab'!$A75,'SUPUESTOS GASTOS'!$D$38:$D$47),\"\")))","v":3380000},{"$f":"+'SUPUESTOS GASTOS'!$D$10","v":0.06},{"$f":"IF($C75=\"C\",ROUNDUP((I75*J75)+I75,-3),IF($C75=\"N\",ROUNDUP(('SUPUESTOS GASTOS'!$D$6*SUMIF('SUPUESTOS GASTOS'!$B$38:$B$47,'Anexo 5 Planta y Equipo de trab'!$A75,'SUPUESTOS GASTOS'!$D$38:$D$47)*$J75)+'SUPUESTOS GASTOS'!$D$6*SUMIF('SUPUESTOS GASTOS'!$B$38:$B$47,'Anexo 5 Planta y Equipo de trab'!$A75,'SUPUESTOS GASTOS'!$D$38:$D$47),-3),IF($C75=\"E\",0)))","v":3583000},{"$f":"IFERROR(IF($E75=\"PASANTE SENA\",ROUNDUP((K75*'SUPUESTOS GASTOS'!$D$20),-3),ROUNDUP((K75*'SUPUESTOS GASTOS'!$D$19),-3)),0)","v":305000},{"$f":"IFERROR(IF($E75=\"PASANTE SENA\",0,ROUNDUP((K75*'SUPUESTOS GASTOS'!$D$18),-3)),0)","v":430000},{"$f":"IFERROR(ROUNDUP(K75*SUMIF('SUPUESTOS GASTOS'!$B$24:$B$28,'Anexo 5 Planta y Equipo de trab'!$B75,'SUPUESTOS GASTOS'!$D$24:$D$28),-3),0)","v":156000},{"$f":"IFERROR(IF($E75=\"PASANTE SENA\",0,ROUNDUP((K75*'SUPUESTOS GASTOS'!$D$31),-3)),0)","v":144000},{"$f":"IFERROR(IF($E75=\"PASANTE SENA\",0,ROUNDUP((K75*'SUPUESTOS GASTOS'!$D$32),-3)),0)","v":72000},{"$f":"IF($C75=\"E\",0,IF($E75=\"PASANTE SENA\",0,IF(K75>=('SUPUESTOS GASTOS'!$D$14*2),0,ROUNDUP('SUPUESTOS GASTOS'!$D$15,-3))))","v":0},{"$f":"IFERROR(IF($E75=\"PASANTE SENA\",0,ROUNDUP((K75*'SUPUESTOS GASTOS'!$D$33),-3)),0)","v":108000},{"$f":"ROUNDUP((K75/'SUPUESTOS GASTOS'!$D$13)*H75,-3)","v":41563000},{"$f":"IFERROR(IF($E75=\"PASANTE SENA\",ROUNDUP((S75*'SUPUESTOS GASTOS'!$D$20),-3),ROUNDUP((S75*'SUPUESTOS GASTOS'!$D$19),-3)),0)","v":3533000},{"$f":"IFERROR(IF($E75=\"PASANTE SENA\",0,ROUNDUP((S75*'SUPUESTOS GASTOS'!$D$18),-3)),0)","v":4988000},{"$f":"IFERROR(ROUNDUP(S75*SUMIF('SUPUESTOS GASTOS'!$B$24:$B$28,'Anexo 5 Planta y Equipo de trab'!$B75,'SUPUESTOS GASTOS'!$D$24:$D$28),-3),0)","v":1808000},{"$f":"IFERROR(IF($E75=\"PASANTE SENA\",0,ROUNDUP(((S75+AD75)*'SUPUESTOS GASTOS'!$D$31),-3)),0)","v":1732000},{"$f":"IFERROR(IF($E75=\"PASANTE SENA\",0,ROUNDUP(((S75+AD75)*'SUPUESTOS GASTOS'!$D$32),-3)),0)","v":866000},{"$f":"IF($C75=\"E\",0,IF($E75=\"PASANTE SENA\",0,IF(K75>=('SUPUESTOS GASTOS'!$D$14*2),0,ROUNDUP(('SUPUESTOS GASTOS'!$D$15/'SUPUESTOS GASTOS'!$D$13)*$H75,-3))))","v":0},{"$f":"IFERROR(IF($E75=\"PASANTE SENA\",0,ROUNDUP(((S75+AD75)*'SUPUESTOS GASTOS'!$D$33),-3)),0)","v":1299000},{"$f":"IF($E75=\"PASANTE SENA\",0,ROUNDUP(((K75+Q75)*H75)/'SUPUESTOS GASTOS'!$D$12,-3))","v":3464000},{"$f":"IF($E75=\"PASANTE SENA\",0,ROUNDUP((((AA75)/'SUPUESTOS GASTOS'!$D$12)*H75)*'SUPUESTOS GASTOS'!$D$21,-3))","v":402000},{"$f":"IF($E75=\"PASANTE SENA\",0,ROUNDUP(((K75+Q75)*H75)/'SUPUESTOS GASTOS'!$D$12,-3))","v":3464000},{"$f":"IF($E75=\"PASANTE SENA\",0,ROUNDUP((K75*H75)/('SUPUESTOS GASTOS'!$D$12*2),-3))","v":1732000},null,64851000]
[5,3,"C",null,"EXTENSIONISTAS 11","2025-01-13","2025-12-31",348,{"$f":"IF(C76=\"C\",'SUPUESTOS GASTOS'!$D$6*SUMIF('SUPUESTOS GASTOS'!$B$38:$B$47,'Anexo 5 Planta y Equipo de trab'!$A76,'SUPUESTOS GASTOS'!$D$38:$D$47),IF($C76=\"N\",0,IF(C76=\"E\",'SUPUESTOS GASTOS'!$D$6*SUMIF('SUPUESTOS GASTOS'!$B$38:$B$47,'Anexo 5 Planta y Equipo de trab'!$A76,'SUPUESTOS GASTOS'!$D$38:$D$47),\"\")))","v":3380000},{"$f":"+'SUPUESTOS GASTOS'!$D$10","v":0.06},{"$f":"IF($C76=\"C\",ROUNDUP((I76*J76)+I76,-3),IF($C76=\"N\",ROUNDUP(('SUPUESTOS GASTOS'!$D$6*SUMIF('SUPUESTOS GASTOS'!$B$38:$B$47,'Anexo 5 Planta y Equipo de trab'!$A76,'SUPUESTOS GASTOS'!$D$38:$D$47)*$J76)+'SUPUESTOS GASTOS'!$D$6*SUMIF('SUPUESTOS GASTOS'!$B$38:$B$47,'Anexo 5 Planta y Equipo de trab'!$A76,'SUPUESTOS GASTOS'!$D$38:$D$47),-3),IF($C76=\"E\",0)))","v":3583000},{"$f":"IFERROR(IF($E76=\"PASANTE SENA\",ROUNDUP((K76*'SUPUESTOS GASTOS'!$D$20),-3),ROUNDUP((K76*'SUPUESTOS GASTOS'!$D$19),-3)),0)","v":305000},{"$f":"IFERROR(IF($E76=\"PASANTE SENA\",0,ROUNDUP((K76*'SUPUESTOS GASTOS'!$D$18),-3)),0)","v":430000},{"$f":"IFERROR(ROUNDUP(K76*SUMIF('SUPUESTOS GASTOS'!$B$24:$B$28,'Anexo 5 Planta y Equipo de trab'!$B76,'SUPUESTOS GASTOS'!$D$24:$D$28),-3),0)","v":156000},{"$f":"IFERROR(IF($E76=\"PASANTE SENA\",0,ROUNDUP((K76*'SUPUESTOS GASTOS'!$D$31),-3)),0)","v":144000},{"$f":"IFERROR(IF($E76=\"PASANTE SENA\",0,ROUNDUP((K76*'SUPUESTOS GASTOS'!$D$32),-3)),0)","v":72000},{"$f":"IF($C76=\"E\",0,IF($E76=\"PASANTE SENA\",0,IF(K76>=('SUPUESTOS GASTOS'!$D$14*2),0,ROUNDUP('SUPUESTOS GASTOS'!$D$15,-3))))","v":0},{"$f":"IFERROR(IF($E76=\"PASANTE SENA\",0,ROUNDUP((K76*'SUPUESTOS GASTOS'!$D$33),-3)),0)","v":108000},{"$f":"ROUNDUP((K76/'SUPUESTOS GASTOS'!$D$13)*H76,-3)","v":41563000},{"$f":"IFERROR(IF($E76=\"PASANTE SENA\",ROUNDUP((S76*'SUPUESTOS GASTOS'!$D$20),-3),ROUNDUP((S76*'SUPUESTOS GASTOS'!$D$19),-3)),0)","v":3533000},{"$f":"IFERROR(IF($E76=\"PASANTE SENA\",0,ROUNDUP((S76*'SUPUESTOS GASTOS'!$D$18),-3)),0)","v":4988000},{"$f":"IFERROR(ROUNDUP(S76*SUMIF('SUPUESTOS GASTOS'!$B$24:$B$28,'Anexo 5 Planta y Equipo de trab'!$B76,'SUPUESTOS GASTOS'!$D$24:$D$28),-3),0)","v":1808000},{"$f":"IFERROR(IF($E76=\"PASANTE SENA\",0,ROUNDUP(((S76+AD76)*'SUPUESTOS GASTOS'!$D$31),-3)),0)","v":1732000},{"$f":"IFERROR(IF($E76=\"PASANTE SENA\",0,ROUNDUP(((S76+AD76)*'SUPUESTOS GASTOS'!$D$32),-3)),0)","v":866000},{"$f":"IF($C76=\"E\",0,IF($E76=\"PASANTE SENA\",0,IF(K76>=('SUPUESTOS GASTOS'!$D$14*2),0,ROUNDUP(('SUPUESTOS GASTOS'!$D$15/'SUPUESTOS GASTOS'!$D$13)*$H76,-3))))","v":0},{"$f":"IFERROR(IF($E76=\"PASANTE SENA\",0,ROUNDUP(((S76+AD76)*'SUPUESTOS GASTOS'!$D$33),-3)),0)","v":1299000},{"$f":"IF($E76=\"PASANTE SENA\",0,ROUNDUP(((K76+Q76)*H76)/'SUPUESTOS GASTOS'!$D$12,-3))","v":3464000},{"$f":"IF($E76=\"PASANTE SENA\",0,ROUNDUP((((AA76)/'SUPUESTOS GASTOS'!$D$12)*H76)*'SUPUESTOS GASTOS'!$D$21,-3))","v":402000},{"$f":"IF($E76=\"PASANTE SENA\",0,ROUNDUP(((K76+Q76)*H76)/'SUPUESTOS GASTOS'!$D$12,-3))","v":3464000},{"$f":"IF($E76=\"PASANTE SENA\",0,ROUNDUP((K76*H76)/('SUPUESTOS GASTOS'!$D$12*2),-3))","v":1732000},null,64851000]
[5,3,"C",null,"EXTENSIONISTAS 12","2025-01-13","2025-12-31",348,{"$f":"IF(C77=\"C\",'SUPUESTOS GASTOS'!$D$6*SUMIF('SUPUESTOS GASTOS'!$B$38:$B$47,'Anexo 5 Planta y Equipo de trab'!$A77,'SUPUESTOS GASTOS'!$D$38:$D$47),IF($C77=\"N\",0,IF(C77=\"E\",'SUPUESTOS GASTOS'!$D$6*SUMIF('SUPUESTOS GASTOS'!$B$38:$B$47,'Anexo 5 Planta y Equipo de trab'!$A77,'SUPUESTOS GASTOS'!$D$38:$D$47),\"\")))","v":3380000},{"$f":"+'SUPUESTOS GASTOS'!$D$10","v":0.06},{"$f":"IF($C77=\"C\",ROUNDUP((I77*J77)+I77,-3),IF($C77=\"N\",ROUNDUP(('SUPUESTOS GASTOS'!$D$6*SUMIF('SUPUESTOS GASTOS'!$B$38:$B$47,'Anexo 5 Planta y Equipo de trab'!$A77,'SUPUESTOS GASTOS'!$D$38:$D$47)*$J77)+'SUPUESTOS GASTOS'!$D$6*SUMIF('SUPUESTOS GASTOS'!$B$38:$B$47,'Anexo 5 Planta y Equipo de trab'!$A77,'SUPUESTOS GASTOS'!$D$38:$D$47),-3),IF($C77=\"E\",0)))","v":3583000},{"$f":"IFERROR(IF($E77=\"PASANTE SENA\",ROUNDUP((K77*'SUPUESTOS GASTOS'!$D$20),-3),ROUNDUP((K77*'SUPUESTOS GASTOS'!$D$19),-3)),0)","v":305000},{"$f":"IFERROR(IF($E77=\"PASANTE SENA\",0,ROUNDUP((K77*'SUPUESTOS GASTOS'!$D$18),-3)),0)","v":430000},{"$f":"IFERROR(ROUNDUP(K77*SUMIF('SUPUESTOS GASTOS'!$B$24:$B$28,'Anexo 5 Planta y Equipo de trab'!$B77,'SUPUESTOS GASTOS'!$D$24:$D$28),-3),0)","v":156000},{"$f":"IFERROR(IF($E77=\"PASANTE SENA\",0,ROUNDUP((K77*'SUPUESTOS GASTOS'!$D$31),-3)),0)","v":144000},{"$f":"IFERROR(IF($E77=\"PASANTE SENA\",0,ROUNDUP((K77*'SUPUESTOS GASTOS'!$D$32),-3)),0)","v":72000},{"$f":"IF($C77=\"E\",0,IF($E77=\"PASANTE SENA\",0,IF(K77>=('SUPUESTOS GASTOS'!$D$14*2),0,ROUNDUP('SUPUESTOS GASTOS'!$D$15,-3))))","v":0},{"$f":"IFERROR(IF($E77=\"PASANTE SENA\",0,ROUNDUP((K77*'SUPUESTOS GASTOS'!$D$33),-3)),0)","v":108000},{"$f":"ROUNDUP((K77/'SUPUESTOS GASTOS'!$D$13)*H77,-3)","v":41563000},{"$f":"IFERROR(IF($E77=\"PASANTE SENA\",ROUNDUP((S77*'SUPUESTOS GASTOS'!$D$20),-3),ROUNDUP((S77*'SUPUESTOS GASTOS'!$D$19),-3)),0)","v":3533000},{"$f":"IFERROR(IF($E77=\"PASANTE SENA\",0,ROUNDUP((S77*'SUPUESTOS GASTOS'!$D$18),-3)),0)","v":4988000},{"$f":"IFERROR(ROUNDUP(S77*SUMIF('SUPUESTOS GASTOS'!$B$24:$B$28,'Anexo 5 Planta y Equipo de trab'!$B77,'SUPUESTOS GASTOS'!$D$24:$D$28),-3),0)","v":1808000},{"$f":"IFERROR(IF($E77=\"PASANTE SENA\",0,ROUNDUP(((S77+AD77)*'SUPUESTOS GASTOS'!$D$31),-3)),0)","v":1732000},{"$f":"IFERROR(IF($E77=\"PASANTE SENA\",0,ROUNDUP(((S77+AD77)*'SUPUESTOS GASTOS'!$D$32),-3)),0)","v":866000},{"$f":"IF($C77=\"E\",0,IF($E77=\"PASANTE SENA\",0,IF(K77>=('SUPUESTOS GASTOS'!$D$14*2),0,ROUNDUP(('SUPUESTOS GASTOS'!$D$15/'SUPUESTOS GASTOS'!$D$13)*$H77,-3))))","v":0},{"$f":"IFERROR(IF($E77=\"PASANTE SENA\",0,ROUNDUP(((S77+AD77)*'SUPUESTOS GASTOS'!$D$33),-3)),0)","v":1299000},{"$f":"IF($E77=\"PASANTE SENA\",0,ROUNDUP(((K77+Q77)*H77)/'SUPUESTOS GASTOS'!$D$12,-3))","v":3464000},{"$f":"IF($E77=\"PASANTE SENA\",0,ROUNDUP((((AA77)/'SUPUESTOS GASTOS'!$D$12)*H77)*'SUPUESTOS GASTOS'!$D$21,-3))","v":402000},{"$f":"IF($E77=\"PASANTE SENA\",0,ROUNDUP(((K77+Q77)*H77)/'SUPUESTOS GASTOS'!$D$12,-3))","v":3464000},{"$f":"IF($E77=\"PASANTE SENA\",0,ROUNDUP((K77*H77)/('SUPUESTOS GASTOS'!$D$12*2),-3))","v":1732000},null,64851000]
[5,3,"C",null,"EXTENSIONISTAS 13","2025-01-13","2025-12-31",348,{"$f":"IF(C78=\"C\",'SUPUESTOS GASTOS'!$D$6*SUMIF('SUPUESTOS GASTOS'!$B$38:$B$47,'Anexo 5 Planta y Equipo de trab'!$A78,'SUPUESTOS GASTOS'!$D$38:$D$47),IF($C78=\"N\",0,IF(C78=\"E\",'SUPUESTOS GASTOS'!$D$6*SUMIF('SUPUESTOS GASTOS'!$B$38:$B$47,'Anexo 5 Planta y Equipo de trab'!$A78,'SUPUESTOS GASTOS'!$D$38:$D$47),\"\")))","v":3380000},{"$f":"+'SUPUESTOS GASTOS'!$D$10","v":0.06},{"$f":"IF($C78=\"C\",ROUNDUP((I78*J78)+I78,-3),IF($C78=\"N\",ROUNDUP(('SUPUESTOS GASTOS'!$D$6*SUMIF('SUPUESTOS GASTOS'!$B$38:$B$47,'Anexo 5 Planta y Equipo de trab'!$A78,'SUPUESTOS GASTOS'!$D$38:$D$47)*$J78)+'SUPUESTOS GASTOS'!$D$6*SUMIF('SUPUESTOS GASTOS'!$B$38:$B$47,'Anexo 5 Planta y Equipo de trab'!$A78,'SUPUESTOS GASTOS'!$D$38:$D$47),-3),IF($C78=\"E\",0)))","v":3583000},{"$f":"IFERROR(IF($E78=\"PASANTE SENA\",ROUNDUP((K78*'SUPUESTOS GASTOS'!$D$20),-3),ROUNDUP((K78*'SUPUESTOS GASTOS'!$D$19),-3)),0)","v":305000},{"$f":"IFERROR(IF($E78=\"PASANTE SENA\",0,ROUNDUP((K78*'SUPUESTOS GASTOS'!$D$18),-3)),0)","v":430000},{"$f":"IFERROR(ROUNDUP(K78*SUMIF('SUPUESTOS GASTOS'!$B$24:$B$28,'Anexo 5 Planta y Equipo de trab'!$B78,'SUPUESTOS GASTOS'!$D$24:$D$28),-3),0)","v":156000},{"$f":"IFERROR(IF($E78=\"PASANTE SENA\",0,ROUNDUP((K78*'SUPUESTOS GASTOS'!$D$31),-3)),0)","v":144000},{"$f":"IFERROR(IF($E78=\"PASANTE SENA\",0,ROUNDUP((K78*'SUPUESTOS GASTOS'!$D$32),-3)),0)","v":72000},{"$f":"IF($C78=\"E\",0,IF($E78=\"PASANTE SENA\",0,IF(K78>=('SUPUESTOS GASTOS'!$D$14*2),0,ROUNDUP('SUPUESTOS GASTOS'!$D$15,-3))))","v":0},{"$f":"IFERROR(IF($E78=\"PASANTE SENA\",0,ROUNDUP((K78*'SUPUESTOS GASTOS'!$D$33),-3)),0)","v":108000},{"$f":"ROUNDUP((K78/'SUPUESTOS GASTOS'!$D$13)*H78,-3)","v":41563000},{"$f":"IFERROR(IF($E78=\"PASANTE SENA\",ROUNDUP((S78*'SUPUESTOS GASTOS'!$D$20),-3),ROUNDUP((S78*'SUPUESTOS GASTOS'!$D$19),-3)),0)","v":3533000},{"$f":"IFERROR(IF($E78=\"PASANTE SENA\",0,ROUNDUP((S78*'SUPUESTOS GASTOS'!$D$18),-3)),0)","v":4988000},{"$f":"IFERROR(ROUNDUP(S78*SUMIF('SUPUESTOS GASTOS'!$B$24:$B$28,'Anexo 5 Planta y Equipo de trab'!$B78,'SUPUESTOS GASTOS'!$D$24:$D$28),-3),0)","v":1808000},{"$f":"IFERROR(IF($E78=\"PASANTE SENA\",0,ROUNDUP(((S78+AD78)*'SUPUESTOS GASTOS'!$D$31),-3)),0)","v":1732000},{"$f":"IFERROR(IF($E78=\"PASANTE SENA\",0,ROUNDUP(((S78+AD78)*'SUPUESTOS GASTOS'!$D$32),-3)),0)","v":866000},{"$f":"IF($C78=\"E\",0,IF($E78=\"PASANTE SENA\",0,IF(K78>=('SUPUESTOS GASTOS'!$D$14*2),0,ROUNDUP(('SUPUESTOS GASTOS'!$D$15/'SUPUESTOS GASTOS'!$D$13)*$H78,-3))))","v":0},{"$f":"IFERROR(IF($E78=\"PASANTE SENA\",0,ROUNDUP(((S78+AD78)*'SUPUESTOS GASTOS'!$D$33),-3)),0)","v":1299000},{"$f":"IF($E78=\"PASANTE SENA\",0,ROUNDUP(((K78+Q78)*H78)/'SUPUESTOS GASTOS'!$D$12,-3))","v":3464000},{"$f":"IF($E78=\"PASANTE SENA\",0,ROUNDUP((((AA78)/'SUPUESTOS GASTOS'!$D$12)*H78)*'SUPUESTOS GASTOS'!$D$21,-3))","v":402000},{"$f":"IF($E78=\"PASANTE SENA\",0,ROUNDUP(((K78+Q78)*H78)/'SUPUESTOS GASTOS'!$D$12,-3))","v":3464000},{"$f":"IF($E78=\"PASANTE SENA\",0,ROUNDUP((K78*H78)/('SUPUESTOS GASTOS'!$D$12*2),-3))","v":1732000},null,64851000]
[5,3,"C",null,"EXTENSIONISTAS 14","2025-01-13","2025-12-31",348,{"$f":"IF(C79=\"C\",'SUPUESTOS GASTOS'!$D$6*SUMIF('SUPUESTOS GASTOS'!$B$38:$B$47,'Anexo 5 Planta y Equipo de trab'!$A79,'SUPUESTOS GASTOS'!$D$38:$D$47),IF($C79=\"N\",0,IF(C79=\"E\",'SUPUESTOS GASTOS'!$D$6*SUMIF('SUPUESTOS GASTOS'!$B$38:$B$47,'Anexo 5 Planta y Equipo de trab'!$A79,'SUPUESTOS GASTOS'!$D$38:$D$47),\"\")))","v":3380000},{"$f":"+'SUPUESTOS GASTOS'!$D$10","v":0.06},{"$f":"IF($C79=\"C\",ROUNDUP((I79*J79)+I79,-3),IF($C79=\"N\",ROUNDUP(('SUPUESTOS GASTOS'!$D$6*SUMIF('SUPUESTOS GASTOS'!$B$38:$B$47,'Anexo 5 Planta y Equipo de trab'!$A79,'SUPUESTOS GASTOS'!$D$38:$D$47)*$J79)+'SUPUESTOS GASTOS'!$D$6*SUMIF('SUPUESTOS GASTOS'!$B$38:$B$47,'Anexo 5 Planta y Equipo de trab'!$A79,'SUPUESTOS GASTOS'!$D$38:$D$47),-3),IF($C79=\"E\",0)))","v":3583000},{"$f":"IFERROR(IF($E79=\"PASANTE SENA\",ROUNDUP((K79*'SUPUESTOS GASTOS'!$D$20),-3),ROUNDUP((K79*'SUPUESTOS GASTOS'!$D$19),-3)),0)","v":305000},{"$f":"IFERROR(IF($E79=\"PASANTE SENA\",0,ROUNDUP((K79*'SUPUESTOS GASTOS'!$D$18),-3)),0)","v":430000},{"$f":"IFERROR(ROUNDUP(K79*SUMIF('SUPUESTOS GASTOS'!$B$24:$B$28,'Anexo 5 Planta y Equipo de trab'!$B79,'SUPUESTOS GASTOS'!$D$24:$D$28),-3),0)","v":156000},{"$f":"IFERROR(IF($E79=\"PASANTE SENA\",0,ROUNDUP((K79*'SUPUESTOS GASTOS'!$D$31),-3)),0)","v":144000},{"$f":"IFERROR(IF($E79=\"PASANTE SENA\",0,ROUNDUP((K79*'SUPUESTOS GASTOS'!$D$32),-3)),0)","v":72000},{"$f":"IF($C79=\"E\",0,IF($E79=\"PASANTE SENA\",0,IF(K79>=('SUPUESTOS GASTOS'!$D$14*2),0,ROUNDUP('SUPUESTOS GASTOS'!$D$15,-3))))","v":0},{"$f":"IFERROR(IF($E79=\"PASANTE SENA\",0,ROUNDUP((K79*'SUPUESTOS GASTOS'!$D$33),-3)),0)","v":108000},{"$f":"ROUNDUP((K79/'SUPUESTOS GASTOS'!$D$13)*H79,-3)","v":41563000},{"$f":"IFERROR(IF($E79=\"PASANTE SENA\",ROUNDUP((S79*'SUPUESTOS GASTOS'!$D$20),-3),ROUNDUP((S79*'SUPUESTOS GASTOS'!$D$19),-3)),0)","v":3533000},{"$f":"IFERROR(IF($E79=\"PASANTE SENA\",0,ROUNDUP((S79*'SUPUESTOS GASTOS'!$D$18),-3)),0)","v":4988000},{"$f":"IFERROR(ROUNDUP(S79*SUMIF('SUPUESTOS GASTOS'!$B$24:$B$28,'Anexo 5 Planta y Equipo de trab'!$B79,'SUPUESTOS GASTOS'!$D$24:$D$28),-3),0)","v":1808000},{"$f":"IFERROR(IF($E79=\"PASANTE SENA\",0,ROUNDUP(((S79+AD79)*'SUPUESTOS GASTOS'!$D$31),-3)),0)","v":1732000},{"$f":"IFERROR(IF($E79=\"PASANTE SENA\",0,ROUNDUP(((S79+AD79)*'SUPUESTOS GASTOS'!$D$32),-3)),0)","v":866000},{"$f":"IF($C79=\"E\",0,IF($E79=\"PASANTE SENA\",0,IF(K79>=('SUPUESTOS GASTOS'!$D$14*2),0,ROUNDUP(('SUPUESTOS GASTOS'!$D$15/'SUPUESTOS GASTOS'!$D$13)*$H79,-3))))","v":0},{"$f":"IFERROR(IF($E79=\"PASANTE SENA\",0,ROUNDUP(((S79+AD79)*'SUPUESTOS GASTOS'!$D$33),-3)),0)","v":1299000},{"$f":"IF($E79=\"PASANTE SENA\",0,ROUNDUP(((K79+Q79)*H79)/'SUPUESTOS GASTOS'!$D$12,-3))","v":3464000},{"$f":"IF($E79=\"PASANTE SENA\",0,ROUNDUP((((AA79)/'SUPUESTOS GASTOS'!$D$12)*H79)*'SUPUESTOS GASTOS'!$D$21,-3))","v":402000},{"$f":"IF($E79=\"PASANTE SENA\",0,ROUNDUP(((K79+Q79)*H79)/'SUPUESTOS GASTOS'!$D$12,-3))","v":3464000},{"$f":"IF($E79=\"PASANTE SENA\",0,ROUNDUP((K79*H79)/('SUPUESTOS GASTOS'!$D$12*2),-3))","v":1732000},null,64851000]
[5,3,"C",null,"EXTENSIONISTAS 15","2025-01-13","2025-12-31",348,{"$f":"IF(C80=\"C\",'SUPUESTOS GASTOS'!$D$6*SUMIF('SUPUESTOS GASTOS'!$B$38:$B$47,'Anexo 5 Planta y Equipo de trab'!$A80,'SUPUESTOS GASTOS'!$D$38:$D$47),IF($C80=\"N\",0,IF(C80=\"E\",'SUPUESTOS GASTOS'!$D$6*SUMIF('SUPUESTOS GASTOS'!$B$38:$B$47,'Anexo 5 Planta y Equipo de trab'!$A80,'SUPUESTOS GASTOS'!$D$38:$D$47),\"\")))","v":3380000},{"$f":"+'SUPUESTOS GASTOS'!$D$10","v":0.06},{"$f":"IF($C80=\"C\",ROUNDUP((I80*J80)+I80,-3),IF($C80=\"N\",ROUNDUP(('SUPUESTOS GASTOS'!$D$6*SUMIF('SUPUESTOS GASTOS'!$B$38:$B$47,'Anexo 5 Planta y Equipo de trab'!$A80,'SUPUESTOS GASTOS'!$D$38:$D$47)*$J80)+'SUPUESTOS GASTOS'!$D$6*SUMIF('SUPUESTOS GASTOS'!$B$38:$B$47,'Anexo 5 Planta y Equipo de trab'!$A80,'SUPUESTOS GASTOS'!$D$38:$D$47),-3),IF($C80=\"E\",0)))","v":3583000},{"$f":"IFERROR(IF($E80=\"PASANTE SENA\",ROUNDUP((K80*'SUPUESTOS GASTOS'!$D$20),-3),ROUNDUP((K80*'SUPUESTOS GASTOS'!$D$19),-3)),0)","v":305000},{"$f":"IFERROR(IF($E80=\"PASANTE SENA\",0,ROUNDUP((K80*'SUPUESTOS GASTOS'!$D$18),-3)),0)","v":430000},{"$f":"IFERROR(ROUNDUP(K80*SUMIF('SUPUESTOS GASTOS'!$B$24:$B$28,'Anexo 5 Planta y Equipo de trab'!$B80,'SUPUESTOS GASTOS'!$D$24:$D$28),-3),0)","v":156000},{"$f":"IFERROR(IF($E80=\"PASANTE SENA\",0,ROUNDUP((K80*'SUPUESTOS GASTOS'!$D$31),-3)),0)","v":144000},{"$f":"IFERROR(IF($E80=\"PASANTE SENA\",0,ROUNDUP((K80*'SUPUESTOS GASTOS'!$D$32),-3)),0)","v":72000},{"$f":"IF($C80=\"E\",0,IF($E80=\"PASANTE SENA\",0,IF(K80>=('SUPUESTOS GASTOS'!$D$14*2),0,ROUNDUP('SUPUESTOS GASTOS'!$D$15,-3))))","v":0},{"$f":"IFERROR(IF($E80=\"PASANTE SENA\",0,ROUNDUP((K80*'SUPUESTOS GASTOS'!$D$33),-3)),0)","v":108000},{"$f":"ROUNDUP((K80/'SUPUESTOS GASTOS'!$D$13)*H80,-3)","v":41563000},{"$f":"IFERROR(IF($E80=\"PASANTE SENA\",ROUNDUP((S80*'SUPUESTOS GASTOS'!$D$20),-3),ROUNDUP((S80*'SUPUESTOS GASTOS'!$D$19),-3)),0)","v":3533000},{"$f":"IFERROR(IF($E80=\"PASANTE SENA\",0,ROUNDUP((S80*'SUPUESTOS GASTOS'!$D$18),-3)),0)","v":4988000},{"$f":"IFERROR(ROUNDUP(S80*SUMIF('SUPUESTOS GASTOS'!$B$24:$B$28,'Anexo 5 Planta y Equipo de trab'!$B80,'SUPUESTOS GASTOS'!$D$24:$D$28),-3),0)","v":1808000},{"$f":"IFERROR(IF($E80=\"PASANTE SENA\",0,ROUNDUP(((S80+AD80)*'SUPUESTOS GASTOS'!$D$31),-3)),0)","v":1732000},{"$f":"IFERROR(IF($E80=\"PASANTE SENA\",0,ROUNDUP(((S80+AD80)*'SUPUESTOS GASTOS'!$D$32),-3)),0)","v":866000},{"$f":"IF($C80=\"E\",0,IF($E80=\"PASANTE SENA\",0,IF(K80>=('SUPUESTOS GASTOS'!$D$14*2),0,ROUNDUP(('SUPUESTOS GASTOS'!$D$15/'SUPUESTOS GASTOS'!$D$13)*$H80,-3))))","v":0},{"$f":"IFERROR(IF($E80=\"PASANTE SENA\",0,ROUNDUP(((S80+AD80)*'SUPUESTOS GASTOS'!$D$33),-3)),0)","v":1299000},{"$f":"IF($E80=\"PASANTE SENA\",0,ROUNDUP(((K80+Q80)*H80)/'SUPUESTOS GASTOS'!$D$12,-3))","v":3464000},{"$f":"IF($E80=\"PASANTE SENA\",0,ROUNDUP((((AA80)/'SUPUESTOS GASTOS'!$D$12)*H80)*'SUPUESTOS GASTOS'!$D$21,-3))","v":402000},{"$f":"IF($E80=\"PASANTE SENA\",0,ROUNDUP(((K80+Q80)*H80)/'SUPUESTOS GASTOS'!$D$12,-3))","v":3464000},{"$f":"IF($E80=\"PASANTE SENA\",0,ROUNDUP((K80*H80)/('SUPUESTOS GASTOS'!$D$12*2),-3))","v":1732000},null,64851000]
[5,3,"C",null,"EXTENSIONISTAS 16","2025-01-13","2025-12-31",348,{"$f":"IF(C81=\"C\",'SUPUESTOS GASTOS'!$D$6*SUMIF('SUPUESTOS GASTOS'!$B$38:$B$47,'Anexo 5 Planta y Equipo de trab'!$A81,'SUPUESTOS GASTOS'!$D$38:$D$47),IF($C81=\"N\",0,IF(C81=\"E\",'SUPUESTOS GASTOS'!$D$6*SUMIF('SUPUESTOS GASTOS'!$B$38:$B$47,'Anexo 5 Planta y Equipo de trab'!$A81,'SUPUESTOS GASTOS'!$D$38:$D$47),\"\")))","v":3380000},{"$f":"+'SUPUESTOS GASTOS'!$D$10","v":0.06},{"$f":"IF($C81=\"C\",ROUNDUP((I81*J81)+I81,-3),IF($C81=\"N\",ROUNDUP(('SUPUESTOS GASTOS'!$D$6*SUMIF('SUPUESTOS GASTOS'!$B$38:$B$47,'Anexo 5 Planta y Equipo de trab'!$A81,'SUPUESTOS GASTOS'!$D$38:$D$47)*$J81)+'SUPUESTOS GASTOS'!$D$6*SUMIF('SUPUESTOS GASTOS'!$B$38:$B$47,'Anexo 5 Planta y Equipo de trab'!$A81,'SUPUESTOS GASTOS'!$D$38:$D$47),-3),IF($C81=\"E\",0)))","v":3583000},{"$f":"IFERROR(IF($E81=\"PASANTE SENA\",ROUNDUP((K81*'SUPUESTOS GASTOS'!$D$20),-3),ROUNDUP((K81*'SUPUESTOS GASTOS'!$D$19),-3)),0)","v":305000},{"$f":"IFERROR(IF($E81=\"PASANTE SENA\",0,ROUNDUP((K81*'SUPUESTOS GASTOS'!$D$18),-3)),0)","v":430000},{"$f":"IFERROR(ROUNDUP(K81*SUMIF('SUPUESTOS GASTOS'!$B$24:$B$28,'Anexo 5 Planta y Equipo de trab'!$B81,'SUPUESTOS GASTOS'!$D$24:$D$28),-3),0)","v":156000},{"$f":"IFERROR(IF($E81=\"PASANTE SENA\",0,ROUNDUP((K81*'SUPUESTOS GASTOS'!$D$31),-3)),0)","v":144000},{"$f":"IFERROR(IF($E81=\"PASANTE SENA\",0,ROUNDUP((K81*'SUPUESTOS GASTOS'!$D$32),-3)),0)","v":72000},{"$f":"IF($C81=\"E\",0,IF($E81=\"PASANTE SENA\",0,IF(K81>=('SUPUESTOS GASTOS'!$D$14*2),0,ROUNDUP('SUPUESTOS GASTOS'!$D$15,-3))))","v":0},{"$f":"IFERROR(IF($E81=\"PASANTE SENA\",0,ROUNDUP((K81*'SUPUESTOS GASTOS'!$D$33),-3)),0)","v":108000},{"$f":"ROUNDUP((K81/'SUPUESTOS GASTOS'!$D$13)*H81,-3)","v":41563000},{"$f":"IFERROR(IF($E81=\"PASANTE SENA\",ROUNDUP((S81*'SUPUESTOS GASTOS'!$D$20),-3),ROUNDUP((S81*'SUPUESTOS GASTOS'!$D$19),-3)),0)","v":3533000},{"$f":"IFERROR(IF($E81=\"PASANTE SENA\",0,ROUNDUP((S81*'SUPUESTOS GASTOS'!$D$18),-3)),0)","v":4988000},{"$f":"IFERROR(ROUNDUP(S81*SUMIF('SUPUESTOS GASTOS'!$B$24:$B$28,'Anexo 5 Planta y Equipo de trab'!$B81,'SUPUESTOS GASTOS'!$D$24:$D$28),-3),0)","v":1808000},{"$f":"IFERROR(IF($E81=\"PASANTE SENA\",0,ROUNDUP(((S81+AD81)*'SUPUESTOS GASTOS'!$D$31),-3)),0)","v":1732000},{"$f":"IFERROR(IF($E81=\"PASANTE SENA\",0,ROUNDUP(((S81+AD81)*'SUPUESTOS GASTOS'!$D$32),-3)),0)","v":866000},{"$f":"IF($C81=\"E\",0,IF($E81=\"PASANTE SENA\",0,IF(K81>=('SUPUESTOS GASTOS'!$D$14*2),0,ROUNDUP(('SUPUESTOS GASTOS'!$D$15/'SUPUESTOS GASTOS'!$D$13)*$H81,-3))))","v":0},{"$f":"IFERROR(IF($E81=\"PASANTE SENA\",0,ROUNDUP(((S81+AD81)*'SUPUESTOS GASTOS'!$D$33),-3)),0)","v":1299000},{"$f":"IF($E81=\"PASANTE SENA\",0,ROUNDUP(((K81+Q81)*H81)/'SUPUESTOS GASTOS'!$D$12,-3))","v":3464000},{"$f":"IF($E81=\"PASANTE SENA\",0,ROUNDUP((((AA81)/'SUPUESTOS GASTOS'!$D$12)*H81)*'SUPUESTOS GASTOS'!$D$21,-3))","v":402000},{"$f":"IF($E81=\"PASANTE SENA\",0,ROUNDUP(((K81+Q81)*H81)/'SUPUESTOS GASTOS'!$D$12,-3))","v":3464000},{"$f":"IF($E81=\"PASANTE SENA\",0,ROUNDUP((K81*H81)/('SUPUESTOS GASTOS'!$D$12*2),-3))","v":1732000},null,64851000]
[5,3,"C",null,"EXTENSIONISTAS 17","2025-01-13","2025-12-31",348,{"$f":"IF(C82=\"C\",'SUPUESTOS GASTOS'!$D$6*SUMIF('SUPUESTOS GASTOS'!$B$38:$B$47,'Anexo 5 Planta y Equipo de trab'!$A82,'SUPUESTOS GASTOS'!$D$38:$D$47),IF($C82=\"N\",0,IF(C82=\"E\",'SUPUESTOS GASTOS'!$D$6*SUMIF('SUPUESTOS GASTOS'!$B$38:$B$47,'Anexo 5 Planta y Equipo de trab'!$A82,'SUPUESTOS GASTOS'!$D$38:$D$47),\"\")))","v":3380000},{"$f":"+'SUPUESTOS GASTOS'!$D$10","v":0.06},{"$f":"IF($C82=\"C\",ROUNDUP((I82*J82)+I82,-3),IF($C82=\"N\",ROUNDUP(('SUPUESTOS GASTOS'!$D$6*SUMIF('SUPUESTOS GASTOS'!$B$38:$B$47,'Anexo 5 Planta y Equipo de trab'!$A82,'SUPUESTOS GASTOS'!$D$38:$D$47)*$J82)+'SUPUESTOS GASTOS'!$D$6*SUMIF('SUPUESTOS GASTOS'!$B$38:$B$47,'Anexo 5 Planta y Equipo de trab'!$A82,'SUPUESTOS GASTOS'!$D$38:$D$47),-3),IF($C82=\"E\",0)))","v":3583000},{"$f":"IFERROR(IF($E82=\"PASANTE SENA\",ROUNDUP((K82*'SUPUESTOS GASTOS'!$D$20),-3),ROUNDUP((K82*'SUPUESTOS GASTOS'!$D$19),-3)),0)","v":305000},{"$f":"IFERROR(IF($E82=\"PASANTE SENA\",0,ROUNDUP((K82*'SUPUESTOS GASTOS'!$D$18),-3)),0)","v":430000},{"$f":"IFERROR(ROUNDUP(K82*SUMIF('SUPUESTOS GASTOS'!$B$24:$B$28,'Anexo 5 Planta y Equipo de trab'!$B82,'SUPUESTOS GASTOS'!$D$24:$D$28),-3),0)","v":156000},{"$f":"IFERROR(IF($E82=\"PASANTE SENA\",0,ROUNDUP((K82*'SUPUESTOS GASTOS'!$D$31),-3)),0)","v":144000},{"$f":"IFERROR(IF($E82=\"PASANTE SENA\",0,ROUNDUP((K82*'SUPUESTOS GASTOS'!$D$32),-3)),0)","v":72000},{"$f":"IF($C82=\"E\",0,IF($E82=\"PASANTE SENA\",0,IF(K82>=('SUPUESTOS GASTOS'!$D$14*2),0,ROUNDUP('SUPUESTOS GASTOS'!$D$15,-3))))","v":0},{"$f":"IFERROR(IF($E82=\"PASANTE SENA\",0,ROUNDUP((K82*'SUPUESTOS GASTOS'!$D$33),-3)),0)","v":108000},{"$f":"ROUNDUP((K82/'SUPUESTOS GASTOS'!$D$13)*H82,-3)","v":41563000},{"$f":"IFERROR(IF($E82=\"PASANTE SENA\",ROUNDUP((S82*'SUPUESTOS GASTOS'!$D$20),-3),ROUNDUP((S82*'SUPUESTOS GASTOS'!$D$19),-3)),0)","v":3533000},{"$f":"IFERROR(IF($E82=\"PASANTE SENA\",0,ROUNDUP((S82*'SUPUESTOS GASTOS'!$D$18),-3)),0)","v":4988000},{"$f":"IFERROR(ROUNDUP(S82*SUMIF('SUPUESTOS GASTOS'!$B$24:$B$28,'Anexo 5 Planta y Equipo de trab'!$B82,'SUPUESTOS GASTOS'!$D$24:$D$28),-3),0)","v":1808000},{"$f":"IFERROR(IF($E82=\"PASANTE SENA\",0,ROUNDUP(((S82+AD82)*'SUPUESTOS GASTOS'!$D$31),-3)),0)","v":1732000},{"$f":"IFERROR(IF($E82=\"PASANTE SENA\",0,ROUNDUP(((S82+AD82)*'SUPUESTOS GASTOS'!$D$32),-3)),0)","v":866000},{"$f":"IF($C82=\"E\",0,IF($E82=\"PASANTE SENA\",0,IF(K82>=('SUPUESTOS GASTOS'!$D$14*2),0,ROUNDUP(('SUPUESTOS GASTOS'!$D$15/'SUPUESTOS GASTOS'!$D$13)*$H82,-3))))","v":0},{"$f":"IFERROR(IF($E82=\"PASANTE SENA\",0,ROUNDUP(((S82+AD82)*'SUPUESTOS GASTOS'!$D$33),-3)),0)","v":1299000},{"$f":"IF($E82=\"PASANTE SENA\",0,ROUNDUP(((K82+Q82)*H82)/'SUPUESTOS GASTOS'!$D$12,-3))","v":3464000},{"$f":"IF($E82=\"PASANTE SENA\",0,ROUNDUP((((AA82)/'SUPUESTOS GASTOS'!$D$12)*H82)*'SUPUESTOS GASTOS'!$D$21,-3))","v":402000},{"$f":"IF($E82=\"PASANTE SENA\",0,ROUNDUP(((K82+Q82)*H82)/'SUPUESTOS GASTOS'!$D$12,-3))","v":3464000},{"$f":"IF($E82=\"PASANTE SENA\",0,ROUNDUP((K82*H82)/('SUPUESTOS GASTOS'!$D$12*2),-3))","v":1732000},null,64851000]
[5,3,"C",null,"EXTENSIONISTAS 18","2025-01-13","2025-12-31",348,{"$f":"IF(C83=\"C\",'SUPUESTOS GASTOS'!$D$6*SUMIF('SUPUESTOS GASTOS'!$B$38:$B$47,'Anexo 5 Planta y Equipo de trab'!$A83,'SUPUESTOS GASTOS'!$D$38:$D$47),IF($C83=\"N\",0,IF(C83=\"E\",'SUPUESTOS GASTOS'!$D$6*SUMIF('SUPUESTOS GASTOS'!$B$38:$B$47,'Anexo 5 Planta y Equipo de trab'!$A83,'SUPUESTOS GASTOS'!$D$38:$D$47),\"\")))","v":3380000},{"$f":"+'SUPUESTOS GASTOS'!$D$10","v":0.06},{"$f":"IF($C83=\"C\",ROUNDUP((I83*J83)+I83,-3),IF($C83=\"N\",ROUNDUP(('SUPUESTOS GASTOS'!$D$6*SUMIF('SUPUESTOS GASTOS'!$B$38:$B$47,'Anexo 5 Planta y Equipo de trab'!$A83,'SUPUESTOS GASTOS'!$D$38:$D$47)*$J83)+'SUPUESTOS GASTOS'!$D$6*SUMIF('SUPUESTOS GASTOS'!$B$38:$B$47,'Anexo 5 Planta y Equipo de trab'!$A83,'SUPUESTOS GASTOS'!$D$38:$D$47),-3),IF($C83=\"E\",0)))","v":3583000},{"$f":"IFERROR(IF($E83=\"PASANTE SENA\",ROUNDUP((K83*'SUPUESTOS GASTOS'!$D$20),-3),ROUNDUP((K83*'SUPUESTOS GASTOS'!$D$19),-3)),0)","v":305000},{"$f":"IFERROR(IF($E83=\"PASANTE SENA\",0,ROUNDUP((K83*'SUPUESTOS GASTOS'!$D$18),-3)),0)","v":430000},{"$f":"IFERROR(ROUNDUP(K83*SUMIF('SUPUESTOS GASTOS'!$B$24:$B$28,'Anexo 5 Planta y Equipo de trab'!$B83,'SUPUESTOS GASTOS'!$D$24:$D$28),-3),0)","v":156000},{"$f":"IFERROR(IF($E83=\"PASANTE SENA\",0,ROUNDUP((K83*'SUPUESTOS GASTOS'!$D$31),-3)),0)","v":144000},{"$f":"IFERROR(IF($E83=\"PASANTE SENA\",0,ROUNDUP((K83*'SUPUESTOS GASTOS'!$D$32),-3)),0)","v":72000},{"$f":"IF($C83=\"E\",0,IF($E83=\"PASANTE SENA\",0,IF(K83>=('SUPUESTOS GASTOS'!$D$14*2),0,ROUNDUP('SUPUESTOS GASTOS'!$D$15,-3))))","v":0},{"$f":"IFERROR(IF($E83=\"PASANTE SENA\",0,ROUNDUP((K83*'SUPUESTOS GASTOS'!$D$33),-3)),0)","v":108000},{"$f":"ROUNDUP((K83/'SUPUESTOS GASTOS'!$D$13)*H83,-3)","v":41563000},{"$f":"IFERROR(IF($E83=\"PASANTE SENA\",ROUNDUP((S83*'SUPUESTOS GASTOS'!$D$20),-3),ROUNDUP((S83*'SUPUESTOS GASTOS'!$D$19),-3)),0)","v":3533000},{"$f":"IFERROR(IF($E83=\"PASANTE SENA\",0,ROUNDUP((S83*'SUPUESTOS GASTOS'!$D$18),-3)),0)","v":4988000},{"$f":"IFERROR(ROUNDUP(S83*SUMIF('SUPUESTOS GASTOS'!$B$24:$B$28,'Anexo 5 Planta y Equipo de trab'!$B83,'SUPUESTOS GASTOS'!$D$24:$D$28),-3),0)","v":1808000},{"$f":"IFERROR(IF($E83=\"PASANTE SENA\",0,ROUNDUP(((S83+AD83)*'SUPUESTOS GASTOS'!$D$31),-3)),0)","v":1732000},{"$f":"IFERROR(IF($E83=\"PASANTE SENA\",0,ROUNDUP(((S83+AD83)*'SUPUESTOS GASTOS'!$D$32),-3)),0)","v":866000},{"$f":"IF($C83=\"E\",0,IF($E83=\"PASANTE SENA\",0,IF(K83>=('SUPUESTOS GASTOS'!$D$14*2),0,ROUNDUP(('SUPUESTOS GASTOS'!$D$15/'SUPUESTOS GASTOS'!$D$13)*$H83,-3))))","v":0},{"$f":"IFERROR(IF($E83=\"PASANTE SENA\",0,ROUNDUP(((S83+AD83)*'SUPUESTOS GASTOS'!$D$33),-3)),0)","v":1299000},{"$f":"IF($E83=\"PASANTE SENA\",0,ROUNDUP(((K83+Q83)*H83)/'SUPUESTOS GASTOS'!$D$12,-3))","v":3464000},{"$f":"IF($E83=\"PASANTE SENA\",0,ROUNDUP((((AA83)/'SUPUESTOS GASTOS'!$D$12)*H83)*'SUPUESTOS GASTOS'!$D$21,-3))","v":402000},{"$f":"IF($E83=\"PASANTE SENA\",0,ROUNDUP(((K83+Q83)*H83)/'SUPUESTOS GASTOS'!$D$12,-3))","v":3464000},{"$f":"IF($E83=\"PASANTE SENA\",0,ROUNDUP((K83*H83)/('SUPUESTOS GASTOS'!$D$12*2),-3))","v":1732000},null,64851000]
[5,5,"E",null,"PROFESIONAL INVESTIGACIÓN Y TRANSFERENCIA DE TECNOLOGÍA","2025-01-02","2025-12-31",{"$f":"DAYS360(F84,G84)","v":359},{"$f":"IF(C84=\"C\",'SUPUESTOS GASTOS'!$D$6*SUMIF('SUPUESTOS GASTOS'!$B$38:$B$47,'Anexo 5 Planta y Equipo de trab'!$A84,'SUPUESTOS GASTOS'!$D$38:$D$47),IF($C84=\"N\",0,IF(C84=\"E\",'SUPUESTOS GASTOS'!$D$6*SUMIF('SUPUESTOS GASTOS'!$B$38:$B$47,'Anexo 5 Planta y Equipo de trab'!$A84,'SUPUESTOS GASTOS'!$D$38:$D$47),\"\")))","v":3380000},{"$f":"+'SUPUESTOS GASTOS'!$D$10","v":0.06},{"$f":"IF($C84=\"C\",ROUNDUP((I84*J84)+I84,-3),IF($C84=\"N\",ROUNDUP(('SUPUESTOS GASTOS'!$D$6*SUMIF('SUPUESTOS GASTOS'!$B$38:$B$47,'Anexo 5 Planta y Equipo de trab'!$A84,'SUPUESTOS GASTOS'!$D$38:$D$47)*$J84)+'SUPUESTOS GASTOS'!$D$6*SUMIF('SUPUESTOS GASTOS'!$B$38:$B$47,'Anexo 5 Planta y Equipo de trab'!$A84,'SUPUESTOS GASTOS'!$D$38:$D$47),-3),IF($C84=\"E\",0)))","v":0},{"$f":"IFERROR(IF($E84=\"PASANTE SENA\",ROUNDUP((K84*'SUPUESTOS GASTOS'!$D$20),-3),ROUNDUP((K84*'SUPUESTOS GASTOS'!$D$19),-3)),0)","v":0},{"$f":"IFERROR(IF($E84=\"PASANTE SENA\",0,ROUNDUP((K84*'SUPUESTOS GASTOS'!$D$18),-3)),0)","v":0},{"$f":"IFERROR(ROUNDUP(K84*SUMIF('SUPUESTOS GASTOS'!$B$24:$B$28,'Anexo 5 Planta y Equipo de trab'!$B84,'SUPUESTOS GASTOS'!$D$24:$D$28),-3),0)","v":0},{"$f":"IFERROR(IF($E84=\"PASANTE SENA\",0,ROUNDUP((K84*'SUPUESTOS GASTOS'!$D$31),-3)),0)","v":0},{"$f":"IFERROR(IF($E84=\"PASANTE SENA\",0,ROUNDUP((K84*'SUPUESTOS GASTOS'!$D$32),-3)),0)","v":0},{"$f":"IF($C84=\"E\",0,IF($E84=\"PASANTE SENA\",0,IF(K84>=('SUPUESTOS GASTOS'!$D$14*2),0,ROUNDUP('SUPUESTOS GASTOS'!$D$15,-3))))","v":0},{"$f":"IFERROR(IF($E84=\"PASANTE SENA\",0,ROUNDUP((K84*'SUPUESTOS GASTOS'!$D$33),-3)),0)","v":0},{"$f":"ROUNDUP((K84/'SUPUESTOS GASTOS'!$D$13)*H84,-3)","v":0},{"$f":"IFERROR(IF($E84=\"PASANTE SENA\",ROUNDUP((S84*'SUPUESTOS GASTOS'!$D$20),-3),ROUNDUP((S84*'SUPUESTOS GASTOS'!$D$19),-3)),0)","v":0},{"$f":"IFERROR(IF($E84=\"PASANTE SENA\",0,ROUNDUP((S84*'SUPUESTOS GASTOS'!$D$18),-3)),0)","v":0},{"$f":"IFERROR(ROUNDUP(S84*SUMIF('SUPUESTOS GASTOS'!$B$24:$B$28,'Anexo 5 Planta y Equipo de trab'!$B84,'SUPUESTOS GASTOS'!$D$24:$D$28),-3),0)","v":0},{"$f":"IFERROR(IF($E84=\"PASANTE SENA\",0,ROUNDUP(((S84+AD84)*'SUPUESTOS GASTOS'!$D$31),-3)),0)","v":0},{"$f":"IFERROR(IF($E84=\"PASANTE SENA\",0,ROUNDUP(((S84+AD84)*'SUPUESTOS GASTOS'!$D$32),-3)),0)","v":0},{"$f":"IF($C84=\"E\",0,IF($E84=\"PASANTE SENA\",0,IF(K84>=('SUPUESTOS GASTOS'!$D$14*2),0,ROUNDUP(('SUPUESTOS GASTOS'!$D$15/'SUPUESTOS GASTOS'!$D$13)*$H84,-3))))","v":0},{"$f":"IFERROR(IF($E84=\"PASANTE SENA\",0,ROUNDUP(((S84+AD84)*'SUPUESTOS GASTOS'!$D$33),-3)),0)","v":0},{"$f":"IF($E84=\"PASANTE SENA\",0,ROUNDUP(((K84+Q84)*H84)/'SUPUESTOS GASTOS'!$D$12,-3))","v":0},{"$f":"IF($E84=\"PASANTE SENA\",0,ROUNDUP((((AA84)/'SUPUESTOS GASTOS'!$D$12)*H84)*'SUPUESTOS GASTOS'!$D$21,-3))","v":0},{"$f":"IF($E84=\"PASANTE SENA\",0,ROUNDUP(((K84+Q84)*H84)/'SUPUESTOS GASTOS'!$D$12,-3))","v":0},{"$f":"IF($E84=\"PASANTE SENA\",0,ROUNDUP((K84*H84)/('SUPUESTOS GASTOS'!$D$12*2),-3))","v":0},null,0]
[7,5,"C",null,"ANALISTA AREA TECNICA","2025-01-02","2025-12-31",{"$f":"DAYS360(F85,G85)","v":359},{"$f":"IF(C85=\"C\",'SUPUESTOS GASTOS'!$D$6*SUMIF('SUPUESTOS GASTOS'!$B$38:$B$47,'Anexo 5 Planta y Equipo de trab'!$A85,'SUPUESTOS GASTOS'!$D$38:$D$47),IF($C85=\"N\",0,IF(C85=\"E\",'SUPUESTOS GASTOS'!$D$6*SUMIF('SUPUESTOS GASTOS'!$B$38:$B$47,'Anexo 5 Planta y Equipo de trab'!$A85,'SUPUESTOS GASTOS'!$D$38:$D$47),\"\")))","v":1950000},{"$f":"+'SUPUESTOS GASTOS'!$D$10","v":0.06},{"$f":"IF($C85=\"C\",ROUNDUP((I85*J85)+I85,-3),IF($C85=\"N\",ROUNDUP(('SUPUESTOS GASTOS'!$D$6*SUMIF('SUPUESTOS GASTOS'!$B$38:$B$47,'Anexo 5 Planta y Equipo de trab'!$A85,'SUPUESTOS GASTOS'!$D$38:$D$47)*$J85)+'SUPUESTOS GASTOS'!$D$6*SUMIF('SUPUESTOS GASTOS'!$B$38:$B$47,'Anexo 5 Planta y Equipo de trab'!$A85,'SUPUESTOS GASTOS'!$D$38:$D$47),-3),IF($C85=\"E\",0)))","v":2067000},{"$f":"IFERROR(IF($E85=\"PASANTE SENA\",ROUNDUP((K85*'SUPUESTOS GASTOS'!$D$20),-3),ROUNDUP((K85*'SUPUESTOS GASTOS'!$D$19),-3)),0)","v":176000},{"$f":"IFERROR(IF($E85=\"PASANTE SENA\",0,ROUNDUP((K85*'SUPUESTOS GASTOS'!$D$18),-3)),0)","v":249000},{"$f":"IFERROR(ROUNDUP(K85*SUMIF('SUPUESTOS GASTOS'!$B$24:$B$28,'Anexo 5 Planta y Equipo de trab'!$B85,'SUPUESTOS GASTOS'!$D$24:$D$28),-3),0)","v":22000},{"$f":"IFERROR(IF($E85=\"PASANTE SENA\",0,ROUNDUP((K85*'SUPUESTOS GASTOS'!$D$31),-3)),0)","v":83000},{"$f":"IFERROR(IF($E85=\"PASANTE SENA\",0,ROUNDUP((K85*'SUPUESTOS GASTOS'!$D$32),-3)),0)","v":42000},{"$f":"IF($C85=\"E\",0,IF($E85=\"PASANTE SENA\",0,IF(K85>=('SUPUESTOS GASTOS'!$D$14*2),0,ROUNDUP('SUPUESTOS GASTOS'!$D$15,-3))))","v":172000},{"$f":"IFERROR(IF($E85=\"PASANTE SENA\",0,ROUNDUP((K85*'SUPUESTOS GASTOS'!$D$33),-3)),0)","v":63000},{"$f":"ROUNDUP((K85/'SUPUESTOS GASTOS'!$D$13)*H85,-3)","v":24736000},{"$f":"IFERROR(IF($E85=\"PASANTE SENA\",ROUNDUP((S85*'SUPUESTOS GASTOS'!$D$20),-3),ROUNDUP((S85*'SUPUESTOS GASTOS'!$D$19),-3)),0)","v":2103000},{"$f":"IFERROR(IF($E85=\"PASANTE SENA\",0,ROUNDUP((S85*'SUPUESTOS GASTOS'!$D$18),-3)),0)","v":2969000},{"$f":"IFERROR(ROUNDUP(S85*SUMIF('SUPUESTOS GASTOS'!$B$24:$B$28,'Anexo 5 Planta y Equipo de trab'!$B85,'SUPUESTOS GASTOS'!$D$24:$D$28),-3),0)","v":259000},{"$f":"IFERROR(IF($E85=\"PASANTE SENA\",0,ROUNDUP(((S85+AD85)*'SUPUESTOS GASTOS'!$D$31),-3)),0)","v":1031000},{"$f":"IFERROR(IF($E85=\"PASANTE SENA\",0,ROUNDUP(((S85+AD85)*'SUPUESTOS GASTOS'!$D$32),-3)),0)","v":516000},{"$f":"IF($C85=\"E\",0,IF($E85=\"PASANTE SENA\",0,IF(K85>=('SUPUESTOS GASTOS'!$D$14*2),0,ROUNDUP(('SUPUESTOS GASTOS'!$D$15/'SUPUESTOS GASTOS'!$D$13)*$H85,-3))))","v":2055000},{"$f":"IFERROR(IF($E85=\"PASANTE SENA\",0,ROUNDUP(((S85+AD85)*'SUPUESTOS GASTOS'!$D$33),-3)),0)","v":774000},{"$f":"IF($E85=\"PASANTE SENA\",0,ROUNDUP(((K85+Q85)*H85)/'SUPUESTOS GASTOS'!$D$12,-3))","v":2233000},{"$f":"IF($E85=\"PASANTE SENA\",0,ROUNDUP((((AA85)/'SUPUESTOS GASTOS'!$D$12)*H85)*'SUPUESTOS GASTOS'!$D$21,-3))","v":268000},{"$f":"IF($E85=\"PASANTE SENA\",0,ROUNDUP(((K85+Q85)*H85)/'SUPUESTOS GASTOS'!$D$12,-3))","v":2233000},{"$f":"IF($E85=\"PASANTE SENA\",0,ROUNDUP((K85*H85)/('SUPUESTOS GASTOS'!$D$12*2),-3))","v":1031000},null,40208000]
[7,5,"N",null,"ANALISTA ADMINISTRATIVO","2025-01-02","2025-12-31",{"$f":"DAYS360(F86,G86)","v":359},{"$f":"IF(C86=\"C\",'SUPUESTOS GASTOS'!$D$6*SUMIF('SUPUESTOS GASTOS'!$B$38:$B$47,'Anexo 5 Planta y Equipo de trab'!$A86,'SUPUESTOS GASTOS'!$D$38:$D$47),IF($C86=\"N\",0,IF(C86=\"E\",'SUPUESTOS GASTOS'!$D$6*SUMIF('SUPUESTOS GASTOS'!$B$38:$B$47,'Anexo 5 Planta y Equipo de trab'!$A86,'SUPUESTOS GASTOS'!$D$38:$D$47),\"\")))","v":0},{"$f":"+'SUPUESTOS GASTOS'!$D$10","v":0.06},{"$f":"IF($C86=\"C\",ROUNDUP((I86*J86)+I86,-3),IF($C86=\"N\",ROUNDUP(('SUPUESTOS GASTOS'!$D$6*SUMIF('SUPUESTOS GASTOS'!$B$38:$B$47,'Anexo 5 Planta y Equipo de trab'!$A86,'SUPUESTOS GASTOS'!$D$38:$D$47)*$J86)+'SUPUESTOS GASTOS'!$D$6*SUMIF('SUPUESTOS GASTOS'!$B$38:$B$47,'Anexo 5 Planta y Equipo de trab'!$A86,'SUPUESTOS GASTOS'!$D$38:$D$47),-3),IF($C86=\"E\",0)))","v":2067000},{"$f":"IFERROR(IF($E86=\"PASANTE SENA\",ROUNDUP((K86*'SUPUESTOS GASTOS'!$D$20),-3),ROUNDUP((K86*'SUPUESTOS GASTOS'!$D$19),-3)),0)","v":176000},{"$f":"IFERROR(IF($E86=\"PASANTE SENA\",0,ROUNDUP((K86*'SUPUESTOS GASTOS'!$D$18),-3)),0)","v":249000},{"$f":"IFERROR(ROUNDUP(K86*SUMIF('SUPUESTOS GASTOS'!$B$24:$B$28,'Anexo 5 Planta y Equipo de trab'!$B86,'SUPUESTOS GASTOS'!$D$24:$D$28),-3),0)","v":22000},{"$f":"IFERROR(IF($E86=\"PASANTE SENA\",0,ROUNDUP((K86*'SUPUESTOS GASTOS'!$D$31),-3)),0)","v":83000},{"$f":"IFERROR(IF($E86=\"PASANTE SENA\",0,ROUNDUP((K86*'SUPUESTOS GASTOS'!$D$32),-3)),0)","v":42000},{"$f":"IF($C86=\"E\",0,IF($E86=\"PASANTE SENA\",0,IF(K86>=('SUPUESTOS GASTOS'!$D$14*2),0,ROUNDUP('SUPUESTOS GASTOS'!$D$15,-3))))","v":172000},{"$f":"IFERROR(IF($E86=\"PASANTE SENA\",0,ROUNDUP((K86*'SUPUESTOS GASTOS'!$D$33),-3)),0)","v":63000},{"$f":"ROUNDUP((K86/'SUPUESTOS GASTOS'!$D$13)*H86,-3)","v":24736000},{"$f":"IFERROR(IF($E86=\"PASANTE SENA\",ROUNDUP((S86*'SUPUESTOS GASTOS'!$D$20),-3),ROUNDUP((S86*'SUPUESTOS GASTOS'!$D$19),-3)),0)","v":2103000},{"$f":"IFERROR(IF($E86=\"PASANTE SENA\",0,ROUNDUP((S86*'SUPUESTOS GASTOS'!$D$18),-3)),0)","v":2969000},{"$f":"IFERROR(ROUNDUP(S86*SUMIF('SUPUESTOS GASTOS'!$B$24:$B$28,'Anexo 5 Planta y Equipo de trab'!$B86,'SUPUESTOS GASTOS'!$D$24:$D$28),-3),0)","v":259000},{"$f":"IFERROR(IF($E86=\"PASANTE SENA\",0,ROUNDUP(((S86+AD86)*'SUPUESTOS GASTOS'!$D$31),-3)),0)","v":1031000},{"$f":"IFERROR(IF($E86=\"PASANTE SENA\",0,ROUNDUP(((S86+AD86)*'SUPUESTOS GASTOS'!$D$32),-3)),0)","v":516000},{"$f":"IF($C86=\"E\",0,IF($E86=\"PASANTE SENA\",0,IF(K86>=('SUPUESTOS GASTOS'!$D$14*2),0,ROUNDUP(('SUPUESTOS GASTOS'!$D$15/'SUPUESTOS GASTOS'!$D$13)*$H86,-3))))","v":2055000},{"$f":"IFERROR(IF($E86=\"PASANTE SENA\",0,ROUNDUP(((S86+AD86)*'SUPUESTOS GASTOS'!$D$33),-3)),0)","v":774000},{"$f":"IF($E86=\"PASANTE SENA\",0,ROUNDUP(((K86+Q86)*H86)/'SUPUESTOS GASTOS'!$D$12,-3))","v":2233000},{"$f":"IF($E86=\"PASANTE SENA\",0,ROUNDUP((((AA86)/'SUPUESTOS GASTOS'!$D$12)*H86)*'SUPUESTOS GASTOS'!$D$21,-3))","v":268000},{"$f":"IF($E86=\"PASANTE SENA\",0,ROUNDUP(((K86+Q86)*H86)/'SUPUESTOS GASTOS'!$D$12,-3))","v":2233000},{"$f":"IF($E86=\"PASANTE SENA\",0,ROUNDUP((K86*H86)/('SUPUESTOS GASTOS'!$D$12*2),-3))","v":1031000},null,40208000]
[8,1,"E",null,"ASISTENTE AREA TECNICA","2025-01-02","2025-12-31",{"$f":"DAYS360(F87,G87)","v":359},{"$f":"IF(C87=\"C\",'SUPUESTOS GASTOS'!$D$6*SUMIF('SUPUESTOS GASTOS'!$B$38:$B$47,'Anexo 5 Planta y Equipo de trab'!$A87,'SUPUESTOS GASTOS'!$D$38:$D$47),IF($C87=\"N\",0,IF(C87=\"E\",'SUPUESTOS GASTOS'!$D$6*SUMIF('SUPUESTOS GASTOS'!$B$38:$B$47,'Anexo 5 Planta y Equipo de trab'!$A87,'SUPUESTOS GASTOS'!$D$38:$D$47),\"\")))","v":1690000},{"$f":"+'SUPUESTOS GASTOS'!$D$10","v":0.06},{"$f":"IF($C87=\"C\",ROUNDUP((I87*J87)+I87,-3),IF($C87=\"N\",ROUNDUP(('SUPUESTOS GASTOS'!$D$6*SUMIF('SUPUESTOS GASTOS'!$B$38:$B$47,'Anexo 5 Planta y Equipo de trab'!$A87,'SUPUESTOS GASTOS'!$D$38:$D$47)*$J87)+'SUPUESTOS GASTOS'!$D$6*SUMIF('SUPUESTOS GASTOS'!$B$38:$B$47,'Anexo 5 Planta y Equipo de trab'!$A87,'SUPUESTOS GASTOS'!$D$38:$D$47),-3),IF($C87=\"E\",0)))","v":0},{"$f":"IFERROR(IF($E87=\"PASANTE SENA\",ROUNDUP((K87*'SUPUESTOS GASTOS'!$D$20),-3),ROUNDUP((K87*'SUPUESTOS GASTOS'!$D$19),-3)),0)","v":0},{"$f":"IFERROR(IF($E87=\"PASANTE SENA\",0,ROUNDUP((K87*'SUPUESTOS GASTOS'!$D$18),-3)),0)","v":0},{"$f":"IFERROR(ROUNDUP(K87*SUMIF('SUPUESTOS GASTOS'!$B$24:$B$28,'Anexo 5 Planta y Equipo de trab'!$B87,'SUPUESTOS GASTOS'!$D$24:$D$28),-3),0)","v":0},{"$f":"IFERROR(IF($E87=\"PASANTE SENA\",0,ROUNDUP((K87*'SUPUESTOS GASTOS'!$D$31),-3)),0)","v":0},{"$f":"IFERROR(IF($E87=\"PASANTE SENA\",0,ROUNDUP((K87*'SUPUESTOS GASTOS'!$D$32),-3)),0)","v":0},{"$f":"IF($C87=\"E\",0,IF($E87=\"PASANTE SENA\",0,IF(K87>=('SUPUESTOS GASTOS'!$D$14*2),0,ROUNDUP('SUPUESTOS GASTOS'!$D$15,-3))))","v":0},{"$f":"IFERROR(IF($E87=\"PASANTE SENA\",0,ROUNDUP((K87*'SUPUESTOS GASTOS'!$D$33),-3)),0)","v":0},{"$f":"ROUNDUP((K87/'SUPUESTOS GASTOS'!$D$13)*H87,-3)","v":0},{"$f":"IFERROR(IF($E87=\"PASANTE SENA\",ROUNDUP((S87*'SUPUESTOS GASTOS'!$D$20),-3),ROUNDUP((S87*'SUPUESTOS GASTOS'!$D$19),-3)),0)","v":0},{"$f":"IFERROR(IF($E87=\"PASANTE SENA\",0,ROUNDUP((S87*'SUPUESTOS GASTOS'!$D$18),-3)),0)","v":0},{"$f":"IFERROR(ROUNDUP(S87*SUMIF('SUPUESTOS GASTOS'!$B$24:$B$28,'Anexo 5 Planta y Equipo de trab'!$B87,'SUPUESTOS GASTOS'!$D$24:$D$28),-3),0)","v":0},{"$f":"IFERROR(IF($E87=\"PASANTE SENA\",0,ROUNDUP(((S87+AD87)*'SUPUESTOS GASTOS'!$D$31),-3)),0)","v":0},{"$f":"IFERROR(IF($E87=\"PASANTE SENA\",0,ROUNDUP(((S87+AD87)*'SUPUESTOS GASTOS'!$D$32),-3)),0)","v":0},{"$f":"IF($C87=\"E\",0,IF($E87=\"PASANTE SENA\",0,IF(K87>=('SUPUESTOS GASTOS'!$D$14*2),0,ROUNDUP(('SUPUESTOS GASTOS'!$D$15/'SUPUESTOS GASTOS'!$D$13)*$H87,-3))))","v":0},{"$f":"IFERROR(IF($E87=\"PASANTE SENA\",0,ROUNDUP(((S87+AD87)*'SUPUESTOS GASTOS'!$D$33),-3)),0)","v":0},{"$f":"IF($E87=\"PASANTE SENA\",0,ROUNDUP(((K87+Q87)*H87)/'SUPUESTOS GASTOS'!$D$12,-3))","v":0},{"$f":"IF($E87=\"PASANTE SENA\",0,ROUNDUP((((AA87)/'SUPUESTOS GASTOS'!$D$12)*H87)*'SUPUESTOS GASTOS'!$D$21,-3))","v":0},{"$f":"IF($E87=\"PASANTE SENA\",0,ROUNDUP(((K87+Q87)*H87)/'SUPUESTOS GASTOS'!$D$12,-3))","v":0},{"$f":"IF($E87=\"PASANTE SENA\",0,ROUNDUP((K87*H87)/('SUPUESTOS GASTOS'!$D$12*2),-3))","v":0},null,0]
[9,1,"C",null,"PASANTE SENA","2025-01-07","2025-12-31",{"$f":"DAYS360(F88,G88)","v":354},{"$f":"IF(C88=\"C\",'SUPUESTOS GASTOS'!$D$6*SUMIF('SUPUESTOS GASTOS'!$B$38:$B$47,'Anexo 5 Planta y Equipo de trab'!$A88,'SUPUESTOS GASTOS'!$D$38:$D$47),IF($C88=\"N\",0,IF(C88=\"E\",'SUPUESTOS GASTOS'!$D$6*SUMIF('SUPUESTOS GASTOS'!$B$38:$B$47,'Anexo 5 Planta y Equipo de trab'!$A88,'SUPUESTOS GASTOS'!$D$38:$D$47),\"\")))","v":1300000},{"$f":"+'SUPUESTOS GASTOS'!$D$10","v":0.06},{"$f":"IF($C88=\"C\",ROUNDUP((I88*J88)+I88,-3),IF($C88=\"N\",ROUNDUP(('SUPUESTOS GASTOS'!$D$6*SUMIF('SUPUESTOS GASTOS'!$B$38:$B$47,'Anexo 5 Planta y Equipo de trab'!$A88,'SUPUESTOS GASTOS'!$D$38:$D$47)*$J88)+'SUPUESTOS GASTOS'!$D$6*SUMIF('SUPUESTOS GASTOS'!$B$38:$B$47,'Anexo 5 Planta y Equipo de trab'!$A88,'SUPUESTOS GASTOS'!$D$38:$D$47),-3),IF($C88=\"E\",0)))","v":1378000},{"$f":"IFERROR(IF($E88=\"PASANTE SENA\",ROUNDUP((K88*'SUPUESTOS GASTOS'!$D$20),-3),ROUNDUP((K88*'SUPUESTOS GASTOS'!$D$19),-3)),0)","v":173000},{"$f":"IFERROR(IF($E88=\"PASANTE SENA\",0,ROUNDUP((K88*'SUPUESTOS GASTOS'!$D$18),-3)),0)","v":0},{"$f":"IFERROR(ROUNDUP(K88*SUMIF('SUPUESTOS GASTOS'!$B$24:$B$28,'Anexo 5 Planta y Equipo de trab'!$B88,'SUPUESTOS GASTOS'!$D$24:$D$28),-3),0)","v":8000},{"$f":"IFERROR(IF($E88=\"PASANTE SENA\",0,ROUNDUP((K88*'SUPUESTOS GASTOS'!$D$31),-3)),0)","v":0},{"$f":"IFERROR(IF($E88=\"PASANTE SENA\",0,ROUNDUP((K88*'SUPUESTOS GASTOS'!$D$32),-3)),0)","v":0},{"$f":"IF($C88=\"E\",0,IF($E88=\"PASANTE SENA\",0,IF(K88>=('SUPUESTOS GASTOS'!$D$14*2),0,ROUNDUP('SUPUESTOS GASTOS'!$D$15,-3))))","v":0},{"$f":"IFERROR(IF($E88=\"PASANTE SENA\",0,ROUNDUP((K88*'SUPUESTOS GASTOS'!$D$33),-3)),0)","v":0},{"$f":"ROUNDUP((K88/'SUPUESTOS GASTOS'!$D$13)*H88,-3)","v":16261000},{"$f":"IFERROR(IF($E88=\"PASANTE SENA\",ROUNDUP((S88*'SUPUESTOS GASTOS'!$D$20),-3),ROUNDUP((S88*'SUPUESTOS GASTOS'!$D$19),-3)),0)","v":2033000},{"$f":"IFERROR(IF($E88=\"PASANTE SENA\",0,ROUNDUP((S88*'SUPUESTOS GASTOS'!$D$18),-3)),0)","v":0},{"$f":"IFERROR(ROUNDUP(S88*SUMIF('SUPUESTOS GASTOS'!$B$24:$B$28,'Anexo 5 Planta y Equipo de trab'!$B88,'SUPUESTOS GASTOS'!$D$24:$D$28),-3),0)","v":85000},{"$f":"IFERROR(IF($E88=\"PASANTE SENA\",0,ROUNDUP(((S88+AD88)*'SUPUESTOS GASTOS'!$D$31),-3)),0)","v":0},{"$f":"IFERROR(IF($E88=\"PASANTE SENA\",0,ROUNDUP(((S88+AD88)*'SUPUESTOS GASTOS'!$D$32),-3)),0)","v":0},{"$f":"IF($C88=\"E\",0,IF($E88=\"PASANTE SENA\",0,IF(K88>=('SUPUESTOS GASTOS'!$D$14*2),0,ROUNDUP(('SUPUESTOS GASTOS'!$D$15/'SUPUESTOS GASTOS'!$D$13)*$H88,-3))))","v":0},{"$f":"IFERROR(IF($E88=\"PASANTE SENA\",0,ROUNDUP(((S88+AD88)*'SUPUESTOS GASTOS'!$D$33),-3)),0)","v":0},{"$f":"IF($E88=\"PASANTE SENA\",0,ROUNDUP(((K88+Q88)*H88)/'SUPUESTOS GASTOS'!$D$12,-3))","v":0},{"$f":"IF($E88=\"PASANTE SENA\",0,ROUNDUP((((AA88)/'SUPUESTOS GASTOS'!$D$12)*H88)*'SUPUESTOS GASTOS'!$D$21,-3))","v":0},{"$f":"IF($E88=\"PASANTE SENA\",0,ROUNDUP(((K88+Q88)*H88)/'SUPUESTOS GASTOS'!$D$12,-3))","v":0},{"$f":"IF($E88=\"PASANTE SENA\",0,ROUNDUP((K88*H88)/('SUPUESTOS GASTOS'!$D$12*2),-3))","v":0},null,18379000]
[null,null,null,null,"SUB TOTAL ITPA",null,null,null,null,null,{"$f":"SUM(K60:K88)","v":102830000},8808000,12181000,3899000,4074000,2039000,344000,3059000,1201198000,102760000,142205000,45340000,49381000,24694000,4110000,37037000,99099000,11584000,99099000,49381000,0,1865888000]
[null,null,null,null,"MEJORAMIENTO GENETICO"]
[4,3,"N",null,"SUPERVISOR MEJORAMIENTO GENÉTICO ","2025-01-07","2025-12-31",{"$f":"DAYS360(F91,G91)","v":354},{"$f":"IF(C91=\"C\",'SUPUESTOS GASTOS'!$D$6*SUMIF('SUPUESTOS GASTOS'!$B$38:$B$47,'Anexo 5 Planta y Equipo de trab'!$A91,'SUPUESTOS GASTOS'!$D$38:$D$47),IF($C91=\"N\",0,IF(C91=\"E\",'SUPUESTOS GASTOS'!$D$6*SUMIF('SUPUESTOS GASTOS'!$B$38:$B$47,'Anexo 5 Planta y Equipo de trab'!$A91,'SUPUESTOS GASTOS'!$D$38:$D$47),\"\")))","v":0},{"$f":"+'SUPUESTOS GASTOS'!$D$10","v":0.06},{"$f":"IF($C91=\"C\",ROUNDUP((I91*J91)+I91,-3),IF($C91=\"N\",ROUNDUP(('SUPUESTOS GASTOS'!$D$6*SUMIF('SUPUESTOS GASTOS'!$B$38:$B$47,'Anexo 5 Planta y Equipo de trab'!$A91,'SUPUESTOS GASTOS'!$D$38:$D$47)*$J91)+'SUPUESTOS GASTOS'!$D$6*SUMIF('SUPUESTOS GASTOS'!$B$38:$B$47,'Anexo 5 Planta y Equipo de trab'!$A91,'SUPUESTOS GASTOS'!$D$38:$D$47),-3),IF($C91=\"E\",0)))","v":4134000},{"$f":"IFERROR(IF($E91=\"PASANTE SENA\",ROUNDUP((K91*'SUPUESTOS GASTOS'!$D$20),-3),ROUNDUP((K91*'SUPUESTOS GASTOS'!$D$19),-3)),0)","v":352000},{"$f":"IFERROR(IF($E91=\"PASANTE SENA\",0,ROUNDUP((K91*'SUPUESTOS GASTOS'!$D$18),-3)),0)","v":497000},{"$f":"IFERROR(ROUNDUP(K91*SUMIF('SUPUESTOS GASTOS'!$B$24:$B$28,'Anexo 5 Planta y Equipo de trab'!$B91,'SUPUESTOS GASTOS'!$D$24:$D$28),-3),0)","v":180000},{"$f":"IFERROR(IF($E91=\"PASANTE SENA\",0,ROUNDUP((K91*'SUPUESTOS GASTOS'!$D$31),-3)),0)","v":166000},{"$f":"IFERROR(IF($E91=\"PASANTE SENA\",0,ROUNDUP((K91*'SUPUESTOS GASTOS'!$D$32),-3)),0)","v":83000},{"$f":"IF($C91=\"E\",0,IF($E91=\"PASANTE SENA\",0,IF(K91>=('SUPUESTOS GASTOS'!$D$14*2),0,ROUNDUP('SUPUESTOS GASTOS'!$D$15,-3))))","v":0},{"$f":"IFERROR(IF($E91=\"PASANTE SENA\",0,ROUNDUP((K91*'SUPUESTOS GASTOS'!$D$33),-3)),0)","v":125000},{"$f":"ROUNDUP((K91/'SUPUESTOS GASTOS'!$D$13)*H91,-3)","v":48782000},{"$f":"IFERROR(IF($E91=\"PASANTE SENA\",ROUNDUP((S91*'SUPUESTOS GASTOS'!$D$20),-3),ROUNDUP((S91*'SUPUESTOS GASTOS'!$D$19),-3)),0)","v":4147000},{"$f":"IFERROR(IF($E91=\"PASANTE SENA\",0,ROUNDUP((S91*'SUPUESTOS GASTOS'!$D$18),-3)),0)","v":5854000},{"$f":"IFERROR(ROUNDUP(S91*SUMIF('SUPUESTOS GASTOS'!$B$24:$B$28,'Anexo 5 Planta y Equipo de trab'!$B91,'SUPUESTOS GASTOS'!$D$24:$D$28),-3),0)","v":2123000},{"$f":"IFERROR(IF($E91=\"PASANTE SENA\",0,ROUNDUP(((S91+AD91)*'SUPUESTOS GASTOS'!$D$31),-3)),0)","v":2033000},{"$f":"IFERROR(IF($E91=\"PASANTE SENA\",0,ROUNDUP(((S91+AD91)*'SUPUESTOS GASTOS'!$D$32),-3)),0)","v":1017000},{"$f":"IF($C91=\"E\",0,IF($E91=\"PASANTE SENA\",0,IF(K91>=('SUPUESTOS GASTOS'!$D$14*2),0,ROUNDUP(('SUPUESTOS GASTOS'!$D$15/'SUPUESTOS GASTOS'!$D$13)*$H91,-3))))","v":0},{"$f":"IFERROR(IF($E91=\"PASANTE SENA\",0,ROUNDUP(((S91+AD91)*'SUPUESTOS GASTOS'!$D$33),-3)),0)","v":1525000},{"$f":"IF($E91=\"PASANTE SENA\",0,ROUNDUP(((K91+Q91)*H91)/'SUPUESTOS GASTOS'!$D$12,-3))","v":4066000},{"$f":"IF($E91=\"PASANTE SENA\",0,ROUNDUP((((AA91)/'SUPUESTOS GASTOS'!$D$12)*H91)*'SUPUESTOS GASTOS'!$D$21,-3))","v":480000},{"$f":"IF($E91=\"PASANTE SENA\",0,ROUNDUP(((K91+Q91)*H91)/'SUPUESTOS GASTOS'!$D$12,-3))","v":4066000},{"$f":"IF($E91=\"PASANTE SENA\",0,ROUNDUP((K91*H91)/('SUPUESTOS GASTOS'!$D$12*2),-3))","v":2033000},null,{"$f":"ROUNDUP(SUM(S91:AD91),-3)","v":76126000}]
[5,3,"C",null,"PROFESIONAL - GENETICO","2025-01-07","2025-12-31",354,{"$f":"IF(C92=\"C\",'SUPUESTOS GASTOS'!$D$6*SUMIF('SUPUESTOS GASTOS'!$B$38:$B$47,'Anexo 5 Planta y Equipo de trab'!$A92,'SUPUESTOS GASTOS'!$D$38:$D$47),IF($C92=\"N\",0,IF(C92=\"E\",'SUPUESTOS GASTOS'!$D$6*SUMIF('SUPUESTOS GASTOS'!$B$38:$B$47,'Anexo 5 Planta y Equipo de trab'!$A92,'SUPUESTOS GASTOS'!$D$38:$D$47),\"\")))","v":3380000},{"$f":"+'SUPUESTOS GASTOS'!$D$10","v":0.06},{"$f":"IF($C92=\"C\",ROUNDUP((I92*J92)+I92,-3),IF($C92=\"N\",ROUNDUP(('SUPUESTOS GASTOS'!$D$6*SUMIF('SUPUESTOS GASTOS'!$B$38:$B$47,'Anexo 5 Planta y Equipo de trab'!$A92,'SUPUESTOS GASTOS'!$D$38:$D$47)*$J92)+'SUPUESTOS GASTOS'!$D$6*SUMIF('SUPUESTOS GASTOS'!$B$38:$B$47,'Anexo 5 Planta y Equipo de trab'!$A92,'SUPUESTOS GASTOS'!$D$38:$D$47),-3),IF($C92=\"E\",0)))","v":3583000},{"$f":"IFERROR(IF($E92=\"PASANTE SENA\",ROUNDUP((K92*'SUPUESTOS GASTOS'!$D$20),-3),ROUNDUP((K92*'SUPUESTOS GASTOS'!$D$19),-3)),0)","v":305000},{"$f":"IFERROR(IF($E92=\"PASANTE SENA\",0,ROUNDUP((K92*'SUPUESTOS GASTOS'!$D$18),-3)),0)","v":430000},{"$f":"IFERROR(ROUNDUP(K92*SUMIF('SUPUESTOS GASTOS'!$B$24:$B$28,'Anexo 5 Planta y Equipo de trab'!$B92,'SUPUESTOS GASTOS'!$D$24:$D$28),-3),0)","v":156000},{"$f":"IFERROR(IF($E92=\"PASANTE SENA\",0,ROUNDUP((K92*'SUPUESTOS GASTOS'!$D$31),-3)),0)","v":144000},{"$f":"IFERROR(IF($E92=\"PASANTE SENA\",0,ROUNDUP((K92*'SUPUESTOS GASTOS'!$D$32),-3)),0)","v":72000},{"$f":"IF($C92=\"E\",0,IF($E92=\"PASANTE SENA\",0,IF(K92>=('SUPUESTOS GASTOS'!$D$14*2),0,ROUNDUP('SUPUESTOS GASTOS'!$D$15,-3))))","v":0},{"$f":"IFERROR(IF($E92=\"PASANTE SENA\",0,ROUNDUP((K92*'SUPUESTOS GASTOS'!$D$33),-3)),0)","v":108000},{"$f":"ROUNDUP((K92/'SUPUESTOS GASTOS'!$D$13)*H92,-3)","v":42280000},{"$f":"IFERROR(IF($E92=\"PASANTE SENA\",ROUNDUP((S92*'SUPUESTOS GASTOS'!$D$20),-3),ROUNDUP((S92*'SUPUESTOS GASTOS'!$D$19),-3)),0)","v":3594000},{"$f":"IFERROR(IF($E92=\"PASANTE SENA\",0,ROUNDUP((S92*'SUPUESTOS GASTOS'!$D$18),-3)),0)","v":5074000},{"$f":"IFERROR(ROUNDUP(S92*SUMIF('SUPUESTOS GASTOS'!$B$24:$B$28,'Anexo 5 Planta y Equipo de trab'!$B92,'SUPUESTOS GASTOS'!$D$24:$D$28),-3),0)","v":1840000},{"$f":"IFERROR(IF($E92=\"PASANTE SENA\",0,ROUNDUP(((S92+AD92)*'SUPUESTOS GASTOS'!$D$31),-3)),0)","v":1762000},{"$f":"IFERROR(IF($E92=\"PASANTE SENA\",0,ROUNDUP(((S92+AD92)*'SUPUESTOS GASTOS'!$D$32),-3)),0)","v":881000},{"$f":"IF($C92=\"E\",0,IF($E92=\"PASANTE SENA\",0,IF(K92>=('SUPUESTOS GASTOS'!$D$14*2),0,ROUNDUP(('SUPUESTOS GASTOS'!$D$15/'SUPUESTOS GASTOS'!$D$13)*$H92,-3))))","v":0},{"$f":"IFERROR(IF($E92=\"PASANTE SENA\",0,ROUNDUP(((S92+AD92)*'SUPUESTOS GASTOS'!$D$33),-3)),0)","v":1322000},{"$f":"IF($E92=\"PASANTE SENA\",0,ROUNDUP(((K92+Q92)*H92)/'SUPUESTOS GASTOS'!$D$12,-3))","v":3524000},{"$f":"IF($E92=\"PASANTE SENA\",0,ROUNDUP((((AA92)/'SUPUESTOS GASTOS'!$D$12)*H92)*'SUPUESTOS GASTOS'!$D$21,-3))","v":416000},{"$f":"IF($E92=\"PASANTE SENA\",0,ROUNDUP(((K92+Q92)*H92)/'SUPUESTOS GASTOS'!$D$12,-3))","v":3524000},{"$f":"IF($E92=\"PASANTE SENA\",0,ROUNDUP((K92*H92)/('SUPUESTOS GASTOS'!$D$12*2),-3))","v":1762000},null,65979000]
[5,3,"C",null,"PROFESIONAL - GENETICO","2025-01-07","2025-12-31",354,{"$f":"IF(C93=\"C\",'SUPUESTOS GASTOS'!$D$6*SUMIF('SUPUESTOS GASTOS'!$B$38:$B$47,'Anexo 5 Planta y Equipo de trab'!$A93,'SUPUESTOS GASTOS'!$D$38:$D$47),IF($C93=\"N\",0,IF(C93=\"E\",'SUPUESTOS GASTOS'!$D$6*SUMIF('SUPUESTOS GASTOS'!$B$38:$B$47,'Anexo 5 Planta y Equipo de trab'!$A93,'SUPUESTOS GASTOS'!$D$38:$D$47),\"\")))","v":3380000},{"$f":"+'SUPUESTOS GASTOS'!$D$10","v":0.06},{"$f":"IF($C93=\"C\",ROUNDUP((I93*J93)+I93,-3),IF($C93=\"N\",ROUNDUP(('SUPUESTOS GASTOS'!$D$6*SUMIF('SUPUESTOS GASTOS'!$B$38:$B$47,'Anexo 5 Planta y Equipo de trab'!$A93,'SUPUESTOS GASTOS'!$D$38:$D$47)*$J93)+'SUPUESTOS GASTOS'!$D$6*SUMIF('SUPUESTOS GASTOS'!$B$38:$B$47,'Anexo 5 Planta y Equipo de trab'!$A93,'SUPUESTOS GASTOS'!$D$38:$D$47),-3),IF($C93=\"E\",0)))","v":3583000},{"$f":"IFERROR(IF($E93=\"PASANTE SENA\",ROUNDUP((K93*'SUPUESTOS GASTOS'!$D$20),-3),ROUNDUP((K93*'SUPUESTOS GASTOS'!$D$19),-3)),0)","v":305000},{"$f":"IFERROR(IF($E93=\"PASANTE SENA\",0,ROUNDUP((K93*'SUPUESTOS GASTOS'!$D$18),-3)),0)","v":430000},{"$f":"IFERROR(ROUNDUP(K93*SUMIF('SUPUESTOS GASTOS'!$B$24:$B$28,'Anexo 5 Planta y Equipo de trab'!$B93,'SUPUESTOS GASTOS'!$D$24:$D$28),-3),0)","v":156000},{"$f":"IFERROR(IF($E93=\"PASANTE SENA\",0,ROUNDUP((K93*'SUPUESTOS GASTOS'!$D$31),-3)),0)","v":144000},{"$f":"IFERROR(IF($E93=\"PASANTE SENA\",0,ROUNDUP((K93*'SUPUESTOS GASTOS'!$D$32),-3)),0)","v":72000},{"$f":"IF($C93=\"E\",0,IF($E93=\"PASANTE SENA\",0,IF(K93>=('SUPUESTOS GASTOS'!$D$14*2),0,ROUNDUP('SUPUESTOS GASTOS'!$D$15,-3))))","v":0},{"$f":"IFERROR(IF($E93=\"PASANTE SENA\",0,ROUNDUP((K93*'SUPUESTOS GASTOS'!$D$33),-3)),0)","v":108000},{"$f":"ROUNDUP((K93/'SUPUESTOS GASTOS'!$D$13)*H93,-3)","v":42280000},{"$f":"IFERROR(IF($E93=\"PASANTE SENA\",ROUNDUP((S93*'SUPUESTOS GASTOS'!$D$20),-3),ROUNDUP((S93*'SUPUESTOS GASTOS'!$D$19),-3)),0)","v":3594000},{"$f":"IFERROR(IF($E93=\"PASANTE SENA\",0,ROUNDUP((S93*'SUPUESTOS GASTOS'!$D$18),-3)),0)","v":5074000},{"$f":"IFERROR(ROUNDUP(S93*SUMIF('SUPUESTOS GASTOS'!$B$24:$B$28,'Anexo 5 Planta y Equipo de trab'!$B93,'SUPUESTOS GASTOS'!$D$24:$D$28),-3),0)","v":1840000},{"$f":"IFERROR(IF($E93=\"PASANTE SENA\",0,ROUNDUP(((S93+AD93)*'SUPUESTOS GASTOS'!$D$31),-3)),0)","v":1762000},{"$f":"IFERROR(IF($E93=\"PASANTE SENA\",0,ROUNDUP(((S93+AD93)*'SUPUESTOS GASTOS'!$D$32),-3)),0)","v":881000},{"$f":"IF($C93=\"E\",0,IF($E93=\"PASANTE SENA\",0,IF(K93>=('SUPUESTOS GASTOS'!$D$14*2),0,ROUNDUP(('SUPUESTOS GASTOS'!$D$15/'SUPUESTOS GASTOS'!$D$13)*$H93,-3))))","v":0},{"$f":"IFERROR(IF($E93=\"PASANTE SENA\",0,ROUNDUP(((S93+AD93)*'SUPUESTOS GASTOS'!$D$33),-3)),0)","v":1322000},{"$f":"IF($E93=\"PASANTE SENA\",0,ROUNDUP(((K93+Q93)*H93)/'SUPUESTOS GASTOS'!$D$12,-3))","v":3524000},{"$f":"IF($E93=\"PASANTE SENA\",0,ROUNDUP((((AA93)/'SUPUESTOS GASTOS'!$D$12)*H93)*'SUPUESTOS GASTOS'!$D$21,-3))","v":416000},{"$f":"IF($E93=\"PASANTE SENA\",0,ROUNDUP(((K93+Q93)*H93)/'SUPUESTOS GASTOS'!$D$12,-3))","v":3524000},{"$f":"IF($E93=\"PASANTE SENA\",0,ROUNDUP((K93*H93)/('SUPUESTOS GASTOS'!$D$12*2),-3))","v":1762000},null,65979000]
[5,3,"C",null,"PROFESIONAL - GENETICO","2025-01-07","2025-12-31",354,{"$f":"IF(C94=\"C\",'SUPUESTOS GASTOS'!$D$6*SUMIF('SUPUESTOS GASTOS'!$B$38:$B$47,'Anexo 5 Planta y Equipo de trab'!$A94,'SUPUESTOS GASTOS'!$D$38:$D$47),IF($C94=\"N\",0,IF(C94=\"E\",'SUPUESTOS GASTOS'!$D$6*SUMIF('SUPUESTOS GASTOS'!$B$38:$B$47,'Anexo 5 Planta y Equipo de trab'!$A94,'SUPUESTOS GASTOS'!$D$38:$D$47),\"\")))","v":3380000},{"$f":"+'SUPUESTOS GASTOS'!$D$10","v":0.06},{"$f":"IF($C94=\"C\",ROUNDUP((I94*J94)+I94,-3),IF($C94=\"N\",ROUNDUP(('SUPUESTOS GASTOS'!$D$6*SUMIF('SUPUESTOS GASTOS'!$B$38:$B$47,'Anexo 5 Planta y Equipo de trab'!$A94,'SUPUESTOS GASTOS'!$D$38:$D$47)*$J94)+'SUPUESTOS GASTOS'!$D$6*SUMIF('SUPUESTOS GASTOS'!$B$38:$B$47,'Anexo 5 Planta y Equipo de trab'!$A94,'SUPUESTOS GASTOS'!$D$38:$D$47),-3),IF($C94=\"E\",0)))","v":3583000},{"$f":"IFERROR(IF($E94=\"PASANTE SENA\",ROUNDUP((K94*'SUPUESTOS GASTOS'!$D$20),-3),ROUNDUP((K94*'SUPUESTOS GASTOS'!$D$19),-3)),0)","v":305000},{"$f":"IFERROR(IF($E94=\"PASANTE SENA\",0,ROUNDUP((K94*'SUPUESTOS GASTOS'!$D$18),-3)),0)","v":430000},{"$f":"IFERROR(ROUNDUP(K94*SUMIF('SUPUESTOS GASTOS'!$B$24:$B$28,'Anexo 5 Planta y Equipo de trab'!$B94,'SUPUESTOS GASTOS'!$D$24:$D$28),-3),0)","v":156000},{"$f":"IFERROR(IF($E94=\"PASANTE SENA\",0,ROUNDUP((K94*'SUPUESTOS GASTOS'!$D$31),-3)),0)","v":144000},{"$f":"IFERROR(IF($E94=\"PASANTE SENA\",0,ROUNDUP((K94*'SUPUESTOS GASTOS'!$D$32),-3)),0)","v":72000},{"$f":"IF($C94=\"E\",0,IF($E94=\"PASANTE SENA\",0,IF(K94>=('SUPUESTOS GASTOS'!$D$14*2),0,ROUNDUP('SUPUESTOS GASTOS'!$D$15,-3))))","v":0},{"$f":"IFERROR(IF($E94=\"PASANTE SENA\",0,ROUNDUP((K94*'SUPUESTOS GASTOS'!$D$33),-3)),0)","v":108000},{"$f":"ROUNDUP((K94/'SUPUESTOS GASTOS'!$D$13)*H94,-3)","v":42280000},{"$f":"IFERROR(IF($E94=\"PASANTE SENA\",ROUNDUP((S94*'SUPUESTOS GASTOS'!$D$20),-3),ROUNDUP((S94*'SUPUESTOS GASTOS'!$D$19),-3)),0)","v":3594000},{"$f":"IFERROR(IF($E94=\"PASANTE SENA\",0,ROUNDUP((S94*'SUPUESTOS GASTOS'!$D$18),-3)),0)","v":5074000},{"$f":"IFERROR(ROUNDUP(S94*SUMIF('SUPUESTOS GASTOS'!$B$24:$B$28,'Anexo 5 Planta y Equipo de trab'!$B94,'SUPUESTOS GASTOS'!$D$24:$D$28),-3),0)","v":1840000},{"$f":"IFERROR(IF($E94=\"PASANTE SENA\",0,ROUNDUP(((S94+AD94)*'SUPUESTOS GASTOS'!$D$31),-3)),0)","v":1762000},{"$f":"IFERROR(IF($E94=\"PASANTE SENA\",0,ROUNDUP(((S94+AD94)*'SUPUESTOS GASTOS'!$D$32),-3)),0)","v":881000},{"$f":"IF($C94=\"E\",0,IF($E94=\"PASANTE SENA\",0,IF(K94>=('SUPUESTOS GASTOS'!$D$14*2),0,ROUNDUP(('SUPUESTOS GASTOS'!$D$15/'SUPUESTOS GASTOS'!$D$13)*$H94,-3))))","v":0},{"$f":"IFERROR(IF($E94=\"PASANTE SENA\",0,ROUNDUP(((S94+AD94)*'SUPUESTOS GASTOS'!$D$33),-3)),0)","v":1322000},{"$f":"IF($E94=\"PASANTE SENA\",0,ROUNDUP(((K94+Q94)*H94)/'SUPUESTOS GASTOS'!$D$12,-3))","v":3524000},{"$f":"IF($E94=\"PASANTE SENA\",0,ROUNDUP((((AA94)/'SUPUESTOS GASTOS'!$D$12)*H94)*'SUPUESTOS GASTOS'!$D$21,-3))","v":416000},{"$f":"IF($E94=\"PASANTE SENA\",0,ROUNDUP(((K94+Q94)*H94)/'SUPUESTOS GASTOS'!$D$12,-3))","v":3524000},{"$f":"IF($E94=\"PASANTE SENA\",0,ROUNDUP((K94*H94)/('SUPUESTOS GASTOS'!$D$12*2),-3))","v":1762000},null,65979000]
[7,2,"N",null,"TÉCNICO AUXILIAR DE CAMPO","2025-01-07","2025-12-31",354,{"$f":"IF(C95=\"C\",'SUPUESTOS GASTOS'!$D$6*SUMIF('SUPUESTOS GASTOS'!$B$38:$B$47,'Anexo 5 Planta y Equipo de trab'!$A95,'SUPUESTOS GASTOS'!$D$38:$D$47),IF($C95=\"N\",0,IF(C95=\"E\",'SUPUESTOS GASTOS'!$D$6*SUMIF('SUPUESTOS GASTOS'!$B$38:$B$47,'Anexo 5 Planta y Equipo de trab'!$A95,'SUPUESTOS GASTOS'!$D$38:$D$47),\"\")))","v":0},{"$f":"+'SUPUESTOS GASTOS'!$D$10","v":0.06},{"$f":"IF($C95=\"C\",ROUNDUP((I95*J95)+I95,-3),IF($C95=\"N\",ROUNDUP(('SUPUESTOS GASTOS'!$D$6*SUMIF('SUPUESTOS GASTOS'!$B$38:$B$47,'Anexo 5 Planta y Equipo de trab'!$A95,'SUPUESTOS GASTOS'!$D$38:$D$47)*$J95)+'SUPUESTOS GASTOS'!$D$6*SUMIF('SUPUESTOS GASTOS'!$B$38:$B$47,'Anexo 5 Planta y Equipo de trab'!$A95,'SUPUESTOS GASTOS'!$D$38:$D$47),-3),IF($C95=\"E\",0)))","v":2067000},{"$f":"IFERROR(IF($E95=\"PASANTE SENA\",ROUNDUP((K95*'SUPUESTOS GASTOS'!$D$20),-3),ROUNDUP((K95*'SUPUESTOS GASTOS'!$D$19),-3)),0)","v":176000},{"$f":"IFERROR(IF($E95=\"PASANTE SENA\",0,ROUNDUP((K95*'SUPUESTOS GASTOS'!$D$18),-3)),0)","v":249000},{"$f":"IFERROR(ROUNDUP(K95*SUMIF('SUPUESTOS GASTOS'!$B$24:$B$28,'Anexo 5 Planta y Equipo de trab'!$B95,'SUPUESTOS GASTOS'!$D$24:$D$28),-3),0)","v":51000},{"$f":"IFERROR(IF($E95=\"PASANTE SENA\",0,ROUNDUP((K95*'SUPUESTOS GASTOS'!$D$31),-3)),0)","v":83000},{"$f":"IFERROR(IF($E95=\"PASANTE SENA\",0,ROUNDUP((K95*'SUPUESTOS GASTOS'!$D$32),-3)),0)","v":42000},{"$f":"IF($C95=\"E\",0,IF($E95=\"PASANTE SENA\",0,IF(K95>=('SUPUESTOS GASTOS'!$D$14*2),0,ROUNDUP('SUPUESTOS GASTOS'!$D$15,-3))))","v":172000},{"$f":"IFERROR(IF($E95=\"PASANTE SENA\",0,ROUNDUP((K95*'SUPUESTOS GASTOS'!$D$33),-3)),0)","v":63000},{"$f":"ROUNDUP((K95/'SUPUESTOS GASTOS'!$D$13)*H95,-3)","v":24391000},{"$f":"IFERROR(IF($E95=\"PASANTE SENA\",ROUNDUP((S95*'SUPUESTOS GASTOS'!$D$20),-3),ROUNDUP((S95*'SUPUESTOS GASTOS'!$D$19),-3)),0)","v":2074000},{"$f":"IFERROR(IF($E95=\"PASANTE SENA\",0,ROUNDUP((S95*'SUPUESTOS GASTOS'!$D$18),-3)),0)","v":2927000},{"$f":"IFERROR(ROUNDUP(S95*SUMIF('SUPUESTOS GASTOS'!$B$24:$B$28,'Anexo 5 Planta y Equipo de trab'!$B95,'SUPUESTOS GASTOS'!$D$24:$D$28),-3),0)","v":595000},{"$f":"IFERROR(IF($E95=\"PASANTE SENA\",0,ROUNDUP(((S95+AD95)*'SUPUESTOS GASTOS'!$D$31),-3)),0)","v":1017000},{"$f":"IFERROR(IF($E95=\"PASANTE SENA\",0,ROUNDUP(((S95+AD95)*'SUPUESTOS GASTOS'!$D$32),-3)),0)","v":509000},{"$f":"IF($C95=\"E\",0,IF($E95=\"PASANTE SENA\",0,IF(K95>=('SUPUESTOS GASTOS'!$D$14*2),0,ROUNDUP(('SUPUESTOS GASTOS'!$D$15/'SUPUESTOS GASTOS'!$D$13)*$H95,-3))))","v":2027000},{"$f":"IFERROR(IF($E95=\"PASANTE SENA\",0,ROUNDUP(((S95+AD95)*'SUPUESTOS GASTOS'!$D$33),-3)),0)","v":763000},{"$f":"IF($E95=\"PASANTE SENA\",0,ROUNDUP(((K95+Q95)*H95)/'SUPUESTOS GASTOS'!$D$12,-3))","v":2202000},{"$f":"IF($E95=\"PASANTE SENA\",0,ROUNDUP((((AA95)/'SUPUESTOS GASTOS'!$D$12)*H95)*'SUPUESTOS GASTOS'!$D$21,-3))","v":260000},{"$f":"IF($E95=\"PASANTE SENA\",0,ROUNDUP(((K95+Q95)*H95)/'SUPUESTOS GASTOS'!$D$12,-3))","v":2202000},{"$f":"IF($E95=\"PASANTE SENA\",0,ROUNDUP((K95*H95)/('SUPUESTOS GASTOS'!$D$12*2),-3))","v":1017000},null,39984000]
[null,null,null,null,"SUB TOTAL MEJORAMIENTO GENETICO",null,null,null,null,null,{"$f":"SUM(K91:K95)","v":16950000},1443000,2036000,699000,681000,341000,172000,{"$f":"SUM(R91:R95)","v":512000},200013000,17003000,24003000,8238000,8336000,4169000,2027000,6254000,16840000,1988000,16840000,8336000,0,314047000]
[null,null,null,null,"SEMILLA CERTIFICADA"]
[3,2,"C",null,"COORDINADOR LABORATORIO DE PROPAGACIÓN","2025-01-02","2025-12-31",{"$f":"DAYS360(F98,G98)","v":359},{"$f":"IF(C98=\"C\",'SUPUESTOS GASTOS'!$D$6*SUMIF('SUPUESTOS GASTOS'!$B$38:$B$47,'Anexo 5 Planta y Equipo de trab'!$A98,'SUPUESTOS GASTOS'!$D$38:$D$47),IF($C98=\"N\",0,IF(C98=\"E\",'SUPUESTOS GASTOS'!$D$6*SUMIF('SUPUESTOS GASTOS'!$B$38:$B$47,'Anexo 5 Planta y Equipo de trab'!$A98,'SUPUESTOS GASTOS'!$D$38:$D$47),\"\")))","v":5200000},{"$f":"+'SUPUESTOS GASTOS'!$D$10","v":0.06},{"$f":"IF($C98=\"C\",ROUNDUP((I98*J98)+I98,-3),IF($C98=\"N\",ROUNDUP(('SUPUESTOS GASTOS'!$D$6*SUMIF('SUPUESTOS GASTOS'!$B$38:$B$47,'Anexo 5 Planta y Equipo de trab'!$A98,'SUPUESTOS GASTOS'!$D$38:$D$47)*$J98)+'SUPUESTOS GASTOS'!$D$6*SUMIF('SUPUESTOS GASTOS'!$B$38:$B$47,'Anexo 5 Planta y Equipo de trab'!$A98,'SUPUESTOS GASTOS'!$D$38:$D$47),-3),IF($C98=\"E\",0)))","v":5512000},{"$f":"IFERROR(IF($E98=\"PASANTE SENA\",ROUNDUP((K98*'SUPUESTOS GASTOS'!$D$20),-3),ROUNDUP((K98*'SUPUESTOS GASTOS'!$D$19),-3)),0)","v":469000},{"$f":"IFERROR(IF($E98=\"PASANTE SENA\",0,ROUNDUP((K98*'SUPUESTOS GASTOS'!$D$18),-3)),0)","v":662000},{"$f":"IFERROR(ROUNDUP(K98*SUMIF('SUPUESTOS GASTOS'!$B$24:$B$28,'Anexo 5 Planta y Equipo de trab'!$B98,'SUPUESTOS GASTOS'!$D$24:$D$28),-3),0)","v":135000},{"$f":"IFERROR(IF($E98=\"PASANTE SENA\",0,ROUNDUP((K98*'SUPUESTOS GASTOS'!$D$31),-3)),0)","v":221000},{"$f":"IFERROR(IF($E98=\"PASANTE SENA\",0,ROUNDUP((K98*'SUPUESTOS GASTOS'!$D$32),-3)),0)","v":111000},{"$f":"IF($C98=\"E\",0,IF($E98=\"PASANTE SENA\",0,IF(K98>=('SUPUESTOS GASTOS'!$D$14*2),0,ROUNDUP('SUPUESTOS GASTOS'!$D$15,-3))))","v":0},{"$f":"IFERROR(IF($E98=\"PASANTE SENA\",0,ROUNDUP((K98*'SUPUESTOS GASTOS'!$D$33),-3)),0)","v":166000},{"$f":"ROUNDUP((K98/'SUPUESTOS GASTOS'!$D$13)*H98,-3)","v":65961000},{"$f":"IFERROR(IF($E98=\"PASANTE SENA\",ROUNDUP((S98*'SUPUESTOS GASTOS'!$D$20),-3),ROUNDUP((S98*'SUPUESTOS GASTOS'!$D$19),-3)),0)","v":5607000},{"$f":"IFERROR(IF($E98=\"PASANTE SENA\",0,ROUNDUP((S98*'SUPUESTOS GASTOS'!$D$18),-3)),0)","v":7916000},{"$f":"IFERROR(ROUNDUP(S98*SUMIF('SUPUESTOS GASTOS'!$B$24:$B$28,'Anexo 5 Planta y Equipo de trab'!$B98,'SUPUESTOS GASTOS'!$D$24:$D$28),-3),0)","v":1607000},{"$f":"IFERROR(IF($E98=\"PASANTE SENA\",0,ROUNDUP(((S98+AD98)*'SUPUESTOS GASTOS'!$D$31),-3)),0)","v":2749000},{"$f":"IFERROR(IF($E98=\"PASANTE SENA\",0,ROUNDUP(((S98+AD98)*'SUPUESTOS GASTOS'!$D$32),-3)),0)","v":1375000},{"$f":"IF($C98=\"E\",0,IF($E98=\"PASANTE SENA\",0,IF(K98>=('SUPUESTOS GASTOS'!$D$14*2),0,ROUNDUP(('SUPUESTOS GASTOS'!$D$15/'SUPUESTOS GASTOS'!$D$13)*$H98,-3))))","v":0},{"$f":"IFERROR(IF($E98=\"PASANTE SENA\",0,ROUNDUP(((S98+AD98)*'SUPUESTOS GASTOS'!$D$33),-3)),0)","v":2062000},{"$f":"IF($E98=\"PASANTE SENA\",0,ROUNDUP(((K98+Q98)*H98)/'SUPUESTOS GASTOS'!$D$12,-3))","v":5497000},{"$f":"IF($E98=\"PASANTE SENA\",0,ROUNDUP((((AA98)/'SUPUESTOS GASTOS'!$D$12)*H98)*'SUPUESTOS GASTOS'!$D$21,-3))","v":658000},{"$f":"IF($E98=\"PASANTE SENA\",0,ROUNDUP(((K98+Q98)*H98)/'SUPUESTOS GASTOS'!$D$12,-3))","v":5497000},{"$f":"IF($E98=\"PASANTE SENA\",0,ROUNDUP((K98*H98)/('SUPUESTOS GASTOS'!$D$12*2),-3))","v":2749000},null,{"$f":"ROUNDUP(SUM(S98:AD98),-3)","v":101678000}]
[5,3,"N",null,"PROFESIONAL DE PROPAGACIÓN ","2025-01-07","2025-12-31",354,{"$f":"IF(C99=\"C\",'SUPUESTOS GASTOS'!$D$6*SUMIF('SUPUESTOS GASTOS'!$B$38:$B$47,'Anexo 5 Planta y Equipo de trab'!$A99,'SUPUESTOS GASTOS'!$D$38:$D$47),IF($C99=\"N\",0,IF(C99=\"E\",'SUPUESTOS GASTOS'!$D$6*SUMIF('SUPUESTOS GASTOS'!$B$38:$B$47,'Anexo 5 Planta y Equipo de trab'!$A99,'SUPUESTOS GASTOS'!$D$38:$D$47),\"\")))","v":0},{"$f":"+'SUPUESTOS GASTOS'!$D$10","v":0.06},{"$f":"IF($C99=\"C\",ROUNDUP((I99*J99)+I99,-3),IF($C99=\"N\",ROUNDUP(('SUPUESTOS GASTOS'!$D$6*SUMIF('SUPUESTOS GASTOS'!$B$38:$B$47,'Anexo 5 Planta y Equipo de trab'!$A99,'SUPUESTOS GASTOS'!$D$38:$D$47)*$J99)+'SUPUESTOS GASTOS'!$D$6*SUMIF('SUPUESTOS GASTOS'!$B$38:$B$47,'Anexo 5 Planta y Equipo de trab'!$A99,'SUPUESTOS GASTOS'!$D$38:$D$47),-3),IF($C99=\"E\",0)))","v":3583000},{"$f":"IFERROR(IF($E99=\"PASANTE SENA\",ROUNDUP((K99*'SUPUESTOS GASTOS'!$D$20),-3),ROUNDUP((K99*'SUPUESTOS GASTOS'!$D$19),-3)),0)","v":305000},{"$f":"IFERROR(IF($E99=\"PASANTE SENA\",0,ROUNDUP((K99*'SUPUESTOS GASTOS'!$D$18),-3)),0)","v":430000},{"$f":"IFERROR(ROUNDUP(K99*SUMIF('SUPUESTOS GASTOS'!$B$24:$B$28,'Anexo 5 Planta y Equipo de trab'!$B99,'SUPUESTOS GASTOS'!$D$24:$D$28),-3),0)","v":156000},{"$f":"IFERROR(IF($E99=\"PASANTE SENA\",0,ROUNDUP((K99*'SUPUESTOS GASTOS'!$D$31),-3)),0)","v":144000},{"$f":"IFERROR(IF($E99=\"PASANTE SENA\",0,ROUNDUP((K99*'SUPUESTOS GASTOS'!$D$32),-3)),0)","v":72000},{"$f":"IF($C99=\"E\",0,IF($E99=\"PASANTE SENA\",0,IF(K99>=('SUPUESTOS GASTOS'!$D$14*2),0,ROUNDUP('SUPUESTOS GASTOS'!$D$15,-3))))","v":0},{"$f":"IFERROR(IF($E99=\"PASANTE SENA\",0,ROUNDUP((K99*'SUPUESTOS GASTOS'!$D$33),-3)),0)","v":108000},{"$f":"ROUNDUP((K99/'SUPUESTOS GASTOS'!$D$13)*H99,-3)","v":42280000},{"$f":"IFERROR(IF($E99=\"PASANTE SENA\",ROUNDUP((S99*'SUPUESTOS GASTOS'!$D$20),-3),ROUNDUP((S99*'SUPUESTOS GASTOS'!$D$19),-3)),0)","v":3594000},{"$f":"IFERROR(IF($E99=\"PASANTE SENA\",0,ROUNDUP((S99*'SUPUESTOS GASTOS'!$D$18),-3)),0)","v":5074000},{"$f":"IFERROR(ROUNDUP(S99*SUMIF('SUPUESTOS GASTOS'!$B$24:$B$28,'Anexo 5 Planta y Equipo de trab'!$B99,'SUPUESTOS GASTOS'!$D$24:$D$28),-3),0)","v":1840000},{"$f":"IFERROR(IF($E99=\"PASANTE SENA\",0,ROUNDUP(((S99+AD99)*'SUPUESTOS GASTOS'!$D$31),-3)),0)","v":1762000},{"$f":"IFERROR(IF($E99=\"PASANTE SENA\",0,ROUNDUP(((S99+AD99)*'SUPUESTOS GASTOS'!$D$32),-3)),0)","v":881000},{"$f":"IF($C99=\"E\",0,IF($E99=\"PASANTE SENA\",0,IF(K99>=('SUPUESTOS GASTOS'!$D$14*2),0,ROUNDUP(('SUPUESTOS GASTOS'!$D$15/'SUPUESTOS GASTOS'!$D$13)*$H99,-3))))","v":0},{"$f":"IFERROR(IF($E99=\"PASANTE SENA\",0,ROUNDUP(((S99+AD99)*'SUPUESTOS GASTOS'!$D$33),-3)),0)","v":1322000},{"$f":"IF($E99=\"PASANTE SENA\",0,ROUNDUP(((K99+Q99)*H99)/'SUPUESTOS GASTOS'!$D$12,-3))","v":3524000},{"$f":"IF($E99=\"PASANTE SENA\",0,ROUNDUP((((AA99)/'SUPUESTOS GASTOS'!$D$12)*H99)*'SUPUESTOS GASTOS'!$D$21,-3))","v":416000},{"$f":"IF($E99=\"PASANTE SENA\",0,ROUNDUP(((K99+Q99)*H99)/'SUPUESTOS GASTOS'!$D$12,-3))","v":3524000},{"$f":"IF($E99=\"PASANTE SENA\",0,ROUNDUP((K99*H99)/('SUPUESTOS GASTOS'!$D$12*2),-3))","v":1762000},null,65979000]
[6,2,"C",null,"TÉCNICO - PROPAGACIÓN DE LABORATORIO","2025-01-07","2025-12-31",354,{"$f":"IF(C100=\"C\",'SUPUESTOS GASTOS'!$D$6*SUMIF('SUPUESTOS GASTOS'!$B$38:$B$47,'Anexo 5 Planta y Equipo de trab'!$A100,'SUPUESTOS GASTOS'!$D$38:$D$47),IF($C100=\"N\",0,IF(C100=\"E\",'SUPUESTOS GASTOS'!$D$6*SUMIF('SUPUESTOS GASTOS'!$B$38:$B$47,'Anexo 5 Planta y Equipo de trab'!$A100,'SUPUESTOS GASTOS'!$D$38:$D$47),\"\")))","v":3120000},{"$f":"+'SUPUESTOS GASTOS'!$D$10","v":0.06},{"$f":"IF($C100=\"C\",ROUNDUP((I100*J100)+I100,-3),IF($C100=\"N\",ROUNDUP(('SUPUESTOS GASTOS'!$D$6*SUMIF('SUPUESTOS GASTOS'!$B$38:$B$47,'Anexo 5 Planta y Equipo de trab'!$A100,'SUPUESTOS GASTOS'!$D$38:$D$47)*$J100)+'SUPUESTOS GASTOS'!$D$6*SUMIF('SUPUESTOS GASTOS'!$B$38:$B$47,'Anexo 5 Planta y Equipo de trab'!$A100,'SUPUESTOS GASTOS'!$D$38:$D$47),-3),IF($C100=\"E\",0)))","v":3308000},{"$f":"IFERROR(IF($E100=\"PASANTE SENA\",ROUNDUP((K100*'SUPUESTOS GASTOS'!$D$20),-3),ROUNDUP((K100*'SUPUESTOS GASTOS'!$D$19),-3)),0)","v":282000},{"$f":"IFERROR(IF($E100=\"PASANTE SENA\",0,ROUNDUP((K100*'SUPUESTOS GASTOS'!$D$18),-3)),0)","v":397000},{"$f":"IFERROR(ROUNDUP(K100*SUMIF('SUPUESTOS GASTOS'!$B$24:$B$28,'Anexo 5 Planta y Equipo de trab'!$B100,'SUPUESTOS GASTOS'!$D$24:$D$28),-3),0)","v":81000},{"$f":"IFERROR(IF($E100=\"PASANTE SENA\",0,ROUNDUP((K100*'SUPUESTOS GASTOS'!$D$31),-3)),0)","v":133000},{"$f":"IFERROR(IF($E100=\"PASANTE SENA\",0,ROUNDUP((K100*'SUPUESTOS GASTOS'!$D$32),-3)),0)","v":67000},{"$f":"IF($C100=\"E\",0,IF($E100=\"PASANTE SENA\",0,IF(K100>=('SUPUESTOS GASTOS'!$D$14*2),0,ROUNDUP('SUPUESTOS GASTOS'!$D$15,-3))))","v":0},{"$f":"IFERROR(IF($E100=\"PASANTE SENA\",0,ROUNDUP((K100*'SUPUESTOS GASTOS'!$D$33),-3)),0)","v":100000},{"$f":"ROUNDUP((K100/'SUPUESTOS GASTOS'!$D$13)*H100,-3)","v":39035000},{"$f":"IFERROR(IF($E100=\"PASANTE SENA\",ROUNDUP((S100*'SUPUESTOS GASTOS'!$D$20),-3),ROUNDUP((S100*'SUPUESTOS GASTOS'!$D$19),-3)),0)","v":3318000},{"$f":"IFERROR(IF($E100=\"PASANTE SENA\",0,ROUNDUP((S100*'SUPUESTOS GASTOS'!$D$18),-3)),0)","v":4685000},{"$f":"IFERROR(ROUNDUP(S100*SUMIF('SUPUESTOS GASTOS'!$B$24:$B$28,'Anexo 5 Planta y Equipo de trab'!$B100,'SUPUESTOS GASTOS'!$D$24:$D$28),-3),0)","v":951000},{"$f":"IFERROR(IF($E100=\"PASANTE SENA\",0,ROUNDUP(((S100+AD100)*'SUPUESTOS GASTOS'!$D$31),-3)),0)","v":1627000},{"$f":"IFERROR(IF($E100=\"PASANTE SENA\",0,ROUNDUP(((S100+AD100)*'SUPUESTOS GASTOS'!$D$32),-3)),0)","v":814000},{"$f":"IF($C100=\"E\",0,IF($E100=\"PASANTE SENA\",0,IF(K100>=('SUPUESTOS GASTOS'!$D$14*2),0,ROUNDUP(('SUPUESTOS GASTOS'!$D$15/'SUPUESTOS GASTOS'!$D$13)*$H100,-3))))","v":0},{"$f":"IFERROR(IF($E100=\"PASANTE SENA\",0,ROUNDUP(((S100+AD100)*'SUPUESTOS GASTOS'!$D$33),-3)),0)","v":1220000},{"$f":"IF($E100=\"PASANTE SENA\",0,ROUNDUP(((K100+Q100)*H100)/'SUPUESTOS GASTOS'!$D$12,-3))","v":3253000},{"$f":"IF($E100=\"PASANTE SENA\",0,ROUNDUP((((AA100)/'SUPUESTOS GASTOS'!$D$12)*H100)*'SUPUESTOS GASTOS'!$D$21,-3))","v":384000},{"$f":"IF($E100=\"PASANTE SENA\",0,ROUNDUP(((K100+Q100)*H100)/'SUPUESTOS GASTOS'!$D$12,-3))","v":3253000},{"$f":"IF($E100=\"PASANTE SENA\",0,ROUNDUP((K100*H100)/('SUPUESTOS GASTOS'!$D$12*2),-3))","v":1627000},null,60167000]
[7,2,"C",null,"TÉCNICO AUXILIAR DE INVERNADERO","2025-01-07","2025-12-31",354,{"$f":"IF(C101=\"C\",'SUPUESTOS GASTOS'!$D$6*SUMIF('SUPUESTOS GASTOS'!$B$38:$B$47,'Anexo 5 Planta y Equipo de trab'!$A101,'SUPUESTOS GASTOS'!$D$38:$D$47),IF($C101=\"N\",0,IF(C101=\"E\",'SUPUESTOS GASTOS'!$D$6*SUMIF('SUPUESTOS GASTOS'!$B$38:$B$47,'Anexo 5 Planta y Equipo de trab'!$A101,'SUPUESTOS GASTOS'!$D$38:$D$47),\"\")))","v":1950000},{"$f":"+'SUPUESTOS GASTOS'!$D$10","v":0.06},{"$f":"IF($C101=\"C\",ROUNDUP((I101*J101)+I101,-3),IF($C101=\"N\",ROUNDUP(('SUPUESTOS GASTOS'!$D$6*SUMIF('SUPUESTOS GASTOS'!$B$38:$B$47,'Anexo 5 Planta y Equipo de trab'!$A101,'SUPUESTOS GASTOS'!$D$38:$D$47)*$J101)+'SUPUESTOS GASTOS'!$D$6*SUMIF('SUPUESTOS GASTOS'!$B$38:$B$47,'Anexo 5 Planta y Equipo de trab'!$A101,'SUPUESTOS GASTOS'!$D$38:$D$47),-3),IF($C101=\"E\",0)))","v":2067000},{"$f":"IFERROR(IF($E101=\"PASANTE SENA\",ROUNDUP((K101*'SUPUESTOS GASTOS'!$D$20),-3),ROUNDUP((K101*'SUPUESTOS GASTOS'!$D$19),-3)),0)","v":176000},{"$f":"IFERROR(IF($E101=\"PASANTE SENA\",0,ROUNDUP((K101*'SUPUESTOS GASTOS'!$D$18),-3)),0)","v":249000},{"$f":"IFERROR(ROUNDUP(K101*SUMIF('SUPUESTOS GASTOS'!$B$24:$B$28,'Anexo 5 Planta y Equipo de trab'!$B101,'SUPUESTOS GASTOS'!$D$24:$D$28),-3),0)","v":51000},{"$f":"IFERROR(IF($E101=\"PASANTE SENA\",0,ROUNDUP((K101*'SUPUESTOS GASTOS'!$D$31),-3)),0)","v":83000},{"$f":"IFERROR(IF($E101=\"PASANTE SENA\",0,ROUNDUP((K101*'SUPUESTOS GASTOS'!$D$32),-3)),0)","v":42000},{"$f":"IF($C101=\"E\",0,IF($E101=\"PASANTE SENA\",0,IF(K101>=('SUPUESTOS GASTOS'!$D$14*2),0,ROUNDUP('SUPUESTOS GASTOS'!$D$15,-3))))","v":172000},{"$f":"IFERROR(IF($E101=\"PASANTE SENA\",0,ROUNDUP((K101*'SUPUESTOS GASTOS'!$D$33),-3)),0)","v":63000},{"$f":"ROUNDUP((K101/'SUPUESTOS GASTOS'!$D$13)*H101,-3)","v":24391000},{"$f":"IFERROR(IF($E101=\"PASANTE SENA\",ROUNDUP((S101*'SUPUESTOS GASTOS'!$D$20),-3),ROUNDUP((S101*'SUPUESTOS GASTOS'!$D$19),-3)),0)","v":2074000},{"$f":"IFERROR(IF($E101=\"PASANTE SENA\",0,ROUNDUP((S101*'SUPUESTOS GASTOS'!$D$18),-3)),0)","v":2927000},{"$f":"IFERROR(ROUNDUP(S101*SUMIF('SUPUESTOS GASTOS'!$B$24:$B$28,'Anexo 5 Planta y Equipo de trab'!$B101,'SUPUESTOS GASTOS'!$D$24:$D$28),-3),0)","v":595000},{"$f":"IFERROR(IF($E101=\"PASANTE SENA\",0,ROUNDUP(((S101+AD101)*'SUPUESTOS GASTOS'!$D$31),-3)),0)","v":1017000},{"$f":"IFERROR(IF($E101=\"PASANTE SENA\",0,ROUNDUP(((S101+AD101)*'SUPUESTOS GASTOS'!$D$32),-3)),0)","v":509000},{"$f":"IF($C101=\"E\",0,IF($E101=\"PASANTE SENA\",0,IF(K101>=('SUPUESTOS GASTOS'!$D$14*2),0,ROUNDUP(('SUPUESTOS GASTOS'!$D$15/'SUPUESTOS GASTOS'!$D$13)*$H101,-3))))","v":2027000},{"$f":"IFERROR(IF($E101=\"PASANTE SENA\",0,ROUNDUP(((S101+AD101)*'SUPUESTOS GASTOS'!$D$33),-3)),0)","v":763000},{"$f":"IF($E101=\"PASANTE SENA\",0,ROUNDUP(((K101+Q101)*H101)/'SUPUESTOS GASTOS'!$D$12,-3))","v":2202000},{"$f":"IF($E101=\"PASANTE SENA\",0,ROUNDUP((((AA101)/'SUPUESTOS GASTOS'!$D$12)*H101)*'SUPUESTOS GASTOS'!$D$21,-3))","v":260000},{"$f":"IF($E101=\"PASANTE SENA\",0,ROUNDUP(((K101+Q101)*H101)/'SUPUESTOS GASTOS'!$D$12,-3))","v":2202000},{"$f":"IF($E101=\"PASANTE SENA\",0,ROUNDUP((K101*H101)/('SUPUESTOS GASTOS'!$D$12*2),-3))","v":1017000},null,39984000]
[null,null,null,null,"SUB TOTAL SEMILLA CERTIFICADA",null,null,null,null,null,{"$f":"SUM(K98:K101)","v":14470000},1232000,1738000,423000,581000,292000,172000,{"$f":"SUM(R98:R101)","v":437000},171667000,14593000,20602000,4993000,7155000,3579000,2027000,5367000,14476000,1718000,14476000,7155000,0,267808000]
[null,null,null,null,"CAMPAÑA AL CONSUMO"]
[2,2,"C",null,"DIRECTOR DE MERCADEO","2025-01-02","2025-12-31",{"$f":"DAYS360(F104,G104)","v":359},{"$f":"IF(C104=\"C\",'SUPUESTOS GASTOS'!$D$6*SUMIF('SUPUESTOS GASTOS'!$B$38:$B$47,'Anexo 5 Planta y Equipo de trab'!$A104,'SUPUESTOS GASTOS'!$D$38:$D$47),IF($C104=\"N\",0,IF(C104=\"E\",'SUPUESTOS GASTOS'!$D$6*SUMIF('SUPUESTOS GASTOS'!$B$38:$B$47,'Anexo 5 Planta y Equipo de trab'!$A104,'SUPUESTOS GASTOS'!$D$38:$D$47),\"\")))","v":6760000},{"$f":"+'SUPUESTOS GASTOS'!$D$10","v":0.06},{"$f":"IF($C104=\"C\",ROUNDUP((I104*J104)+I104,-3),IF($C104=\"N\",ROUNDUP(('SUPUESTOS GASTOS'!$D$6*SUMIF('SUPUESTOS GASTOS'!$B$38:$B$47,'Anexo 5 Planta y Equipo de trab'!$A104,'SUPUESTOS GASTOS'!$D$38:$D$47)*$J104)+'SUPUESTOS GASTOS'!$D$6*SUMIF('SUPUESTOS GASTOS'!$B$38:$B$47,'Anexo 5 Planta y Equipo de trab'!$A104,'SUPUESTOS GASTOS'!$D$38:$D$47),-3),IF($C104=\"E\",0)))","v":7166000},{"$f":"IFERROR(IF($E104=\"PASANTE SENA\",ROUNDUP((K104*'SUPUESTOS GASTOS'!$D$20),-3),ROUNDUP((K104*'SUPUESTOS GASTOS'!$D$19),-3)),0)","v":610000},{"$f":"IFERROR(IF($E104=\"PASANTE SENA\",0,ROUNDUP((K104*'SUPUESTOS GASTOS'!$D$18),-3)),0)","v":860000},{"$f":"IFERROR(ROUNDUP(K104*SUMIF('SUPUESTOS GASTOS'!$B$24:$B$28,'Anexo 5 Planta y Equipo de trab'!$B104,'SUPUESTOS GASTOS'!$D$24:$D$28),-3),0)","v":175000},{"$f":"IFERROR(IF($E104=\"PASANTE SENA\",0,ROUNDUP((K104*'SUPUESTOS GASTOS'!$D$31),-3)),0)","v":287000},{"$f":"IFERROR(IF($E104=\"PASANTE SENA\",0,ROUNDUP((K104*'SUPUESTOS GASTOS'!$D$32),-3)),0)","v":144000},{"$f":"IF($C104=\"E\",0,IF($E104=\"PASANTE SENA\",0,IF(K104>=('SUPUESTOS GASTOS'!$D$14*2),0,ROUNDUP('SUPUESTOS GASTOS'!$D$15,-3))))","v":0},{"$f":"IFERROR(IF($E104=\"PASANTE SENA\",0,ROUNDUP((K104*'SUPUESTOS GASTOS'!$D$33),-3)),0)","v":215000},{"$f":"ROUNDUP((K104/'SUPUESTOS GASTOS'!$D$13)*H104,-3)","v":85754000},{"$f":"IFERROR(IF($E104=\"PASANTE SENA\",ROUNDUP((S104*'SUPUESTOS GASTOS'!$D$20),-3),ROUNDUP((S104*'SUPUESTOS GASTOS'!$D$19),-3)),0)","v":7290000},{"$f":"IFERROR(IF($E104=\"PASANTE SENA\",0,ROUNDUP((S104*'SUPUESTOS GASTOS'!$D$18),-3)),0)","v":10291000},{"$f":"IFERROR(ROUNDUP(S104*SUMIF('SUPUESTOS GASTOS'!$B$24:$B$28,'Anexo 5 Planta y Equipo de trab'!$B104,'SUPUESTOS GASTOS'!$D$24:$D$28),-3),0)","v":2089000},{"$f":"IFERROR(IF($E104=\"PASANTE SENA\",0,ROUNDUP(((S104+AD104)*'SUPUESTOS GASTOS'!$D$31),-3)),0)","v":3574000},{"$f":"IFERROR(IF($E104=\"PASANTE SENA\",0,ROUNDUP(((S104+AD104)*'SUPUESTOS GASTOS'!$D$32),-3)),0)","v":1787000},{"$f":"IF($C104=\"E\",0,IF($E104=\"PASANTE SENA\",0,IF(K104>=('SUPUESTOS GASTOS'!$D$14*2),0,ROUNDUP(('SUPUESTOS GASTOS'!$D$15/'SUPUESTOS GASTOS'!$D$13)*$H104,-3))))","v":0},{"$f":"IFERROR(IF($E104=\"PASANTE SENA\",0,ROUNDUP(((S104+AD104)*'SUPUESTOS GASTOS'!$D$33),-3)),0)","v":2680000},{"$f":"IF($E104=\"PASANTE SENA\",0,ROUNDUP(((K104+Q104)*H104)/'SUPUESTOS GASTOS'!$D$12,-3))","v":7147000},{"$f":"IF($E104=\"PASANTE SENA\",0,ROUNDUP((((AA104)/'SUPUESTOS GASTOS'!$D$12)*H104)*'SUPUESTOS GASTOS'!$D$21,-3))","v":856000},{"$f":"IF($E104=\"PASANTE SENA\",0,ROUNDUP(((K104+Q104)*H104)/'SUPUESTOS GASTOS'!$D$12,-3))","v":7147000},{"$f":"IF($E104=\"PASANTE SENA\",0,ROUNDUP((K104*H104)/('SUPUESTOS GASTOS'!$D$12*2),-3))","v":3574000},null,{"$f":"ROUNDUP(SUM(S104:AD104),-3)","v":132189000}]
[4,3,"N",null,"SUPERVISOR DE MERCADEO Y DIVULGACIÓN","2025-01-02","2025-12-31",359,{"$f":"IF(C105=\"C\",'SUPUESTOS GASTOS'!$D$6*SUMIF('SUPUESTOS GASTOS'!$B$38:$B$47,'Anexo 5 Planta y Equipo de trab'!$A105,'SUPUESTOS GASTOS'!$D$38:$D$47),IF($C105=\"N\",0,IF(C105=\"E\",'SUPUESTOS GASTOS'!$D$6*SUMIF('SUPUESTOS GASTOS'!$B$38:$B$47,'Anexo 5 Planta y Equipo de trab'!$A105,'SUPUESTOS GASTOS'!$D$38:$D$47),\"\")))","v":0},{"$f":"+'SUPUESTOS GASTOS'!$D$10","v":0.06},{"$f":"IF($C105=\"C\",ROUNDUP((I105*J105)+I105,-3),IF($C105=\"N\",ROUNDUP(('SUPUESTOS GASTOS'!$D$6*SUMIF('SUPUESTOS GASTOS'!$B$38:$B$47,'Anexo 5 Planta y Equipo de trab'!$A105,'SUPUESTOS GASTOS'!$D$38:$D$47)*$J105)+'SUPUESTOS GASTOS'!$D$6*SUMIF('SUPUESTOS GASTOS'!$B$38:$B$47,'Anexo 5 Planta y Equipo de trab'!$A105,'SUPUESTOS GASTOS'!$D$38:$D$47),-3),IF($C105=\"E\",0)))","v":4134000},{"$f":"IFERROR(IF($E105=\"PASANTE SENA\",ROUNDUP((K105*'SUPUESTOS GASTOS'!$D$20),-3),ROUNDUP((K105*'SUPUESTOS GASTOS'!$D$19),-3)),0)","v":352000},{"$f":"IFERROR(IF($E105=\"PASANTE SENA\",0,ROUNDUP((K105*'SUPUESTOS GASTOS'!$D$18),-3)),0)","v":497000},{"$f":"IFERROR(ROUNDUP(K105*SUMIF('SUPUESTOS GASTOS'!$B$24:$B$28,'Anexo 5 Planta y Equipo de trab'!$B105,'SUPUESTOS GASTOS'!$D$24:$D$28),-3),0)","v":180000},{"$f":"IFERROR(IF($E105=\"PASANTE SENA\",0,ROUNDUP((K105*'SUPUESTOS GASTOS'!$D$31),-3)),0)","v":166000},{"$f":"IFERROR(IF($E105=\"PASANTE SENA\",0,ROUNDUP((K105*'SUPUESTOS GASTOS'!$D$32),-3)),0)","v":83000},{"$f":"IF($C105=\"E\",0,IF($E105=\"PASANTE SENA\",0,IF(K105>=('SUPUESTOS GASTOS'!$D$14*2),0,ROUNDUP('SUPUESTOS GASTOS'!$D$15,-3))))","v":0},{"$f":"IFERROR(IF($E105=\"PASANTE SENA\",0,ROUNDUP((K105*'SUPUESTOS GASTOS'!$D$33),-3)),0)","v":125000},{"$f":"ROUNDUP((K105/'SUPUESTOS GASTOS'!$D$13)*H105,-3)","v":49471000},{"$f":"IFERROR(IF($E105=\"PASANTE SENA\",ROUNDUP((S105*'SUPUESTOS GASTOS'!$D$20),-3),ROUNDUP((S105*'SUPUESTOS GASTOS'!$D$19),-3)),0)","v":4206000},{"$f":"IFERROR(IF($E105=\"PASANTE SENA\",0,ROUNDUP((S105*'SUPUESTOS GASTOS'!$D$18),-3)),0)","v":5937000},{"$f":"IFERROR(ROUNDUP(S105*SUMIF('SUPUESTOS GASTOS'!$B$24:$B$28,'Anexo 5 Planta y Equipo de trab'!$B105,'SUPUESTOS GASTOS'!$D$24:$D$28),-3),0)","v":2152000},{"$f":"IFERROR(IF($E105=\"PASANTE SENA\",0,ROUNDUP(((S105+AD105)*'SUPUESTOS GASTOS'!$D$31),-3)),0)","v":2062000},{"$f":"IFERROR(IF($E105=\"PASANTE SENA\",0,ROUNDUP(((S105+AD105)*'SUPUESTOS GASTOS'!$D$32),-3)),0)","v":1031000},{"$f":"IF($C105=\"E\",0,IF($E105=\"PASANTE SENA\",0,IF(K105>=('SUPUESTOS GASTOS'!$D$14*2),0,ROUNDUP(('SUPUESTOS GASTOS'!$D$15/'SUPUESTOS GASTOS'!$D$13)*$H105,-3))))","v":0},{"$f":"IFERROR(IF($E105=\"PASANTE SENA\",0,ROUNDUP(((S105+AD105)*'SUPUESTOS GASTOS'!$D$33),-3)),0)","v":1546000},{"$f":"IF($E105=\"PASANTE SENA\",0,ROUNDUP(((K105+Q105)*H105)/'SUPUESTOS GASTOS'!$D$12,-3))","v":4123000},{"$f":"IF($E105=\"PASANTE SENA\",0,ROUNDUP((((AA105)/'SUPUESTOS GASTOS'!$D$12)*H105)*'SUPUESTOS GASTOS'!$D$21,-3))","v":494000},{"$f":"IF($E105=\"PASANTE SENA\",0,ROUNDUP(((K105+Q105)*H105)/'SUPUESTOS GASTOS'!$D$12,-3))","v":4123000},{"$f":"IF($E105=\"PASANTE SENA\",0,ROUNDUP((K105*H105)/('SUPUESTOS GASTOS'!$D$12*2),-3))","v":2062000},null,77207000]
[5,5,"C",null,"CREATIVO DE MARCA","2025-01-02","2025-12-31",359,{"$f":"IF(C106=\"C\",'SUPUESTOS GASTOS'!$D$6*SUMIF('SUPUESTOS GASTOS'!$B$38:$B$47,'Anexo 5 Planta y Equipo de trab'!$A106,'SUPUESTOS GASTOS'!$D$38:$D$47),IF($C106=\"N\",0,IF(C106=\"E\",'SUPUESTOS GASTOS'!$D$6*SUMIF('SUPUESTOS GASTOS'!$B$38:$B$47,'Anexo 5 Planta y Equipo de trab'!$A106,'SUPUESTOS GASTOS'!$D$38:$D$47),\"\")))","v":3380000},{"$f":"+'SUPUESTOS GASTOS'!$D$10","v":0.06},{"$f":"IF($C106=\"C\",ROUNDUP((I106*J106)+I106,-3),IF($C106=\"N\",ROUNDUP(('SUPUESTOS GASTOS'!$D$6*SUMIF('SUPUESTOS GASTOS'!$B$38:$B$47,'Anexo 5 Planta y Equipo de trab'!$A106,'SUPUESTOS GASTOS'!$D$38:$D$47)*$J106)+'SUPUESTOS GASTOS'!$D$6*SUMIF('SUPUESTOS GASTOS'!$B$38:$B$47,'Anexo 5 Planta y Equipo de trab'!$A106,'SUPUESTOS GASTOS'!$D$38:$D$47),-3),IF($C106=\"E\",0)))","v":3583000},{"$f":"IFERROR(IF($E106=\"PASANTE SENA\",ROUNDUP((K106*'SUPUESTOS GASTOS'!$D$20),-3),ROUNDUP((K106*'SUPUESTOS GASTOS'!$D$19),-3)),0)","v":305000},{"$f":"IFERROR(IF($E106=\"PASANTE SENA\",0,ROUNDUP((K106*'SUPUESTOS GASTOS'!$D$18),-3)),0)","v":430000},{"$f":"IFERROR(ROUNDUP(K106*SUMIF('SUPUESTOS GASTOS'!$B$24:$B$28,'Anexo 5 Planta y Equipo de trab'!$B106,'SUPUESTOS GASTOS'!$D$24:$D$28),-3),0)","v":38000},{"$f":"IFERROR(IF($E106=\"PASANTE SENA\",0,ROUNDUP((K106*'SUPUESTOS GASTOS'!$D$31),-3)),0)","v":144000},{"$f":"IFERROR(IF($E106=\"PASANTE SENA\",0,ROUNDUP((K106*'SUPUESTOS GASTOS'!$D$32),-3)),0)","v":72000},{"$f":"IF($C106=\"E\",0,IF($E106=\"PASANTE SENA\",0,IF(K106>=('SUPUESTOS GASTOS'!$D$14*2),0,ROUNDUP('SUPUESTOS GASTOS'!$D$15,-3))))","v":0},{"$f":"IFERROR(IF($E106=\"PASANTE SENA\",0,ROUNDUP((K106*'SUPUESTOS GASTOS'!$D$33),-3)),0)","v":108000},{"$f":"ROUNDUP((K106/'SUPUESTOS GASTOS'!$D$13)*H106,-3)","v":42877000},{"$f":"IFERROR(IF($E106=\"PASANTE SENA\",ROUNDUP((S106*'SUPUESTOS GASTOS'!$D$20),-3),ROUNDUP((S106*'SUPUESTOS GASTOS'!$D$19),-3)),0)","v":3645000},{"$f":"IFERROR(IF($E106=\"PASANTE SENA\",0,ROUNDUP((S106*'SUPUESTOS GASTOS'!$D$18),-3)),0)","v":5146000},{"$f":"IFERROR(ROUNDUP(S106*SUMIF('SUPUESTOS GASTOS'!$B$24:$B$28,'Anexo 5 Planta y Equipo de trab'!$B106,'SUPUESTOS GASTOS'!$D$24:$D$28),-3),0)","v":448000},{"$f":"IFERROR(IF($E106=\"PASANTE SENA\",0,ROUNDUP(((S106+AD106)*'SUPUESTOS GASTOS'!$D$31),-3)),0)","v":1787000},{"$f":"IFERROR(IF($E106=\"PASANTE SENA\",0,ROUNDUP(((S106+AD106)*'SUPUESTOS GASTOS'!$D$32),-3)),0)","v":894000},{"$f":"IF($C106=\"E\",0,IF($E106=\"PASANTE SENA\",0,IF(K106>=('SUPUESTOS GASTOS'!$D$14*2),0,ROUNDUP(('SUPUESTOS GASTOS'!$D$15/'SUPUESTOS GASTOS'!$D$13)*$H106,-3))))","v":0},{"$f":"IFERROR(IF($E106=\"PASANTE SENA\",0,ROUNDUP(((S106+AD106)*'SUPUESTOS GASTOS'!$D$33),-3)),0)","v":1340000},{"$f":"IF($E106=\"PASANTE SENA\",0,ROUNDUP(((K106+Q106)*H106)/'SUPUESTOS GASTOS'!$D$12,-3))","v":3574000},{"$f":"IF($E106=\"PASANTE SENA\",0,ROUNDUP((((AA106)/'SUPUESTOS GASTOS'!$D$12)*H106)*'SUPUESTOS GASTOS'!$D$21,-3))","v":428000},{"$f":"IF($E106=\"PASANTE SENA\",0,ROUNDUP(((K106+Q106)*H106)/'SUPUESTOS GASTOS'!$D$12,-3))","v":3574000},{"$f":"IF($E106=\"PASANTE SENA\",0,ROUNDUP((K106*H106)/('SUPUESTOS GASTOS'!$D$12*2),-3))","v":1787000},null,65500000]
[null,null,null,null,"SUB TOTAL CAMPAÑA AL CONSUMO",null,null,null,null,null,{"$f":"SUM(K104:K106)","v":14883000},{"$f":"SUM(L104:L106)","v":1267000},1787000,393000,597000,299000,0,448000,178102000,15141000,21374000,4689000,7423000,3712000,0,5566000,14844000,1778000,14844000,7423000,0,274896000]
[null,null,null,null,"SISTEMAS DE INFORMACION"]
[1,2,"C",null,"DIRECTOR INVESTIGACIONES ECONÓMICAS Y MERCADOS","2025-01-02","2025-12-31",{"$f":"DAYS360(F109,G109)","v":359},{"$f":"IF(C109=\"C\",'SUPUESTOS GASTOS'!$D$6*SUMIF('SUPUESTOS GASTOS'!$B$38:$B$47,'Anexo 5 Planta y Equipo de trab'!$A109,'SUPUESTOS GASTOS'!$D$38:$D$47),IF($C109=\"N\",0,IF(C109=\"E\",'SUPUESTOS GASTOS'!$D$6*SUMIF('SUPUESTOS GASTOS'!$B$38:$B$47,'Anexo 5 Planta y Equipo de trab'!$A109,'SUPUESTOS GASTOS'!$D$38:$D$47),\"\")))","v":8866000},{"$f":"+'SUPUESTOS GASTOS'!$D$10","v":0.06},{"$f":"IF($C109=\"C\",ROUNDUP((I109*J109)+I109,-3),IF($C109=\"N\",ROUNDUP(('SUPUESTOS GASTOS'!$D$6*SUMIF('SUPUESTOS GASTOS'!$B$38:$B$47,'Anexo 5 Planta y Equipo de trab'!$A109,'SUPUESTOS GASTOS'!$D$38:$D$47)*$J109)+'SUPUESTOS GASTOS'!$D$6*SUMIF('SUPUESTOS GASTOS'!$B$38:$B$47,'Anexo 5 Planta y Equipo de trab'!$A109,'SUPUESTOS GASTOS'!$D$38:$D$47),-3),IF($C109=\"E\",0)))","v":9398000},{"$f":"IFERROR(IF($E109=\"PASANTE SENA\",ROUNDUP((K109*'SUPUESTOS GASTOS'!$D$20),-3),ROUNDUP((K109*'SUPUESTOS GASTOS'!$D$19),-3)),0)","v":799000},{"$f":"IFERROR(IF($E109=\"PASANTE SENA\",0,ROUNDUP((K109*'SUPUESTOS GASTOS'!$D$18),-3)),0)","v":1128000},{"$f":"IFERROR(ROUNDUP(K109*SUMIF('SUPUESTOS GASTOS'!$B$24:$B$28,'Anexo 5 Planta y Equipo de trab'!$B109,'SUPUESTOS GASTOS'!$D$24:$D$28),-3),0)","v":229000},{"$f":"IFERROR(IF($E109=\"PASANTE SENA\",0,ROUNDUP((K109*'SUPUESTOS GASTOS'!$D$31),-3)),0)","v":376000},{"$f":"IFERROR(IF($E109=\"PASANTE SENA\",0,ROUNDUP((K109*'SUPUESTOS GASTOS'!$D$32),-3)),0)","v":188000},{"$f":"IF($C109=\"E\",0,IF($E109=\"PASANTE SENA\",0,IF(K109>=('SUPUESTOS GASTOS'!$D$14*2),0,ROUNDUP('SUPUESTOS GASTOS'!$D$15,-3))))","v":0},{"$f":"IFERROR(IF($E109=\"PASANTE SENA\",0,ROUNDUP((K109*'SUPUESTOS GASTOS'!$D$33),-3)),0)","v":282000},{"$f":"ROUNDUP((K109/'SUPUESTOS GASTOS'!$D$13)*H109,-3)","v":112463000},{"$f":"IFERROR(IF($E109=\"PASANTE SENA\",ROUNDUP((S109*'SUPUESTOS GASTOS'!$D$20),-3),ROUNDUP((S109*'SUPUESTOS GASTOS'!$D$19),-3)),0)","v":9560000},{"$f":"IFERROR(IF($E109=\"PASANTE SENA\",0,ROUNDUP((S109*'SUPUESTOS GASTOS'!$D$18),-3)),0)","v":13496000},{"$f":"IFERROR(ROUNDUP(S109*SUMIF('SUPUESTOS GASTOS'!$B$24:$B$28,'Anexo 5 Planta y Equipo de trab'!$B109,'SUPUESTOS GASTOS'!$D$24:$D$28),-3),0)","v":2740000},{"$f":"IFERROR(IF($E109=\"PASANTE SENA\",0,ROUNDUP(((S109+AD109)*'SUPUESTOS GASTOS'!$D$31),-3)),0)","v":4686000},{"$f":"IFERROR(IF($E109=\"PASANTE SENA\",0,ROUNDUP(((S109+AD109)*'SUPUESTOS GASTOS'!$D$32),-3)),0)","v":2343000},{"$f":"IF($C109=\"E\",0,IF($E109=\"PASANTE SENA\",0,IF(K109>=('SUPUESTOS GASTOS'!$D$14*2),0,ROUNDUP(('SUPUESTOS GASTOS'!$D$15/'SUPUESTOS GASTOS'!$D$13)*$H109,-3))))","v":0},{"$f":"IFERROR(IF($E109=\"PASANTE SENA\",0,ROUNDUP(((S109+AD109)*'SUPUESTOS GASTOS'!$D$33),-3)),0)","v":3515000},{"$f":"IF($E109=\"PASANTE SENA\",0,ROUNDUP(((K109+Q109)*H109)/'SUPUESTOS GASTOS'!$D$12,-3))","v":9372000},{"$f":"IF($E109=\"PASANTE SENA\",0,ROUNDUP((((AA109)/'SUPUESTOS GASTOS'!$D$12)*H109)*'SUPUESTOS GASTOS'!$D$21,-3))","v":1122000},{"$f":"IF($E109=\"PASANTE SENA\",0,ROUNDUP(((K109+Q109)*H109)/'SUPUESTOS GASTOS'!$D$12,-3))","v":9372000},{"$f":"IF($E109=\"PASANTE SENA\",0,ROUNDUP((K109*H109)/('SUPUESTOS GASTOS'!$D$12*2),-3))","v":4686000},null,{"$f":"ROUNDUP(SUM(S109:AD109),-3)","v":173355000}]
[3,2,"C",null,"COORDINADOR ANALITICA Y SISTEMAS DE INFORMACION","2025-01-02","2025-12-31",359,{"$f":"IF(C110=\"C\",'SUPUESTOS GASTOS'!$D$6*SUMIF('SUPUESTOS GASTOS'!$B$38:$B$47,'Anexo 5 Planta y Equipo de trab'!$A110,'SUPUESTOS GASTOS'!$D$38:$D$47),IF($C110=\"N\",0,IF(C110=\"E\",'SUPUESTOS GASTOS'!$D$6*SUMIF('SUPUESTOS GASTOS'!$B$38:$B$47,'Anexo 5 Planta y Equipo de trab'!$A110,'SUPUESTOS GASTOS'!$D$38:$D$47),\"\")))","v":5200000},{"$f":"+'SUPUESTOS GASTOS'!$D$10","v":0.06},{"$f":"IF($C110=\"C\",ROUNDUP((I110*J110)+I110,-3),IF($C110=\"N\",ROUNDUP(('SUPUESTOS GASTOS'!$D$6*SUMIF('SUPUESTOS GASTOS'!$B$38:$B$47,'Anexo 5 Planta y Equipo de trab'!$A110,'SUPUESTOS GASTOS'!$D$38:$D$47)*$J110)+'SUPUESTOS GASTOS'!$D$6*SUMIF('SUPUESTOS GASTOS'!$B$38:$B$47,'Anexo 5 Planta y Equipo de trab'!$A110,'SUPUESTOS GASTOS'!$D$38:$D$47),-3),IF($C110=\"E\",0)))","v":5512000},{"$f":"IFERROR(IF($E110=\"PASANTE SENA\",ROUNDUP((K110*'SUPUESTOS GASTOS'!$D$20),-3),ROUNDUP((K110*'SUPUESTOS GASTOS'!$D$19),-3)),0)","v":469000},{"$f":"IFERROR(IF($E110=\"PASANTE SENA\",0,ROUNDUP((K110*'SUPUESTOS GASTOS'!$D$18),-3)),0)","v":662000},{"$f":"IFERROR(ROUNDUP(K110*SUMIF('SUPUESTOS GASTOS'!$B$24:$B$28,'Anexo 5 Planta y Equipo de trab'!$B110,'SUPUESTOS GASTOS'!$D$24:$D$28),-3),0)","v":135000},{"$f":"IFERROR(IF($E110=\"PASANTE SENA\",0,ROUNDUP((K110*'SUPUESTOS GASTOS'!$D$31),-3)),0)","v":221000},{"$f":"IFERROR(IF($E110=\"PASANTE SENA\",0,ROUNDUP((K110*'SUPUESTOS GASTOS'!$D$32),-3)),0)","v":111000},{"$f":"IF($C110=\"E\",0,IF($E110=\"PASANTE SENA\",0,IF(K110>=('SUPUESTOS GASTOS'!$D$14*2),0,ROUNDUP('SUPUESTOS GASTOS'!$D$15,-3))))","v":0},{"$f":"IFERROR(IF($E110=\"PASANTE SENA\",0,ROUNDUP((K110*'SUPUESTOS GASTOS'!$D$33),-3)),0)","v":166000},{"$f":"ROUNDUP((K110/'SUPUESTOS GASTOS'!$D$13)*H110,-3)","v":65961000},{"$f":"IFERROR(IF($E110=\"PASANTE SENA\",ROUNDUP((S110*'SUPUESTOS GASTOS'!$D$20),-3),ROUNDUP((S110*'SUPUESTOS GASTOS'!$D$19),-3)),0)","v":5607000},{"$f":"IFERROR(IF($E110=\"PASANTE SENA\",0,ROUNDUP((S110*'SUPUESTOS GASTOS'!$D$18),-3)),0)","v":7916000},{"$f":"IFERROR(ROUNDUP(S110*SUMIF('SUPUESTOS GASTOS'!$B$24:$B$28,'Anexo 5 Planta y Equipo de trab'!$B110,'SUPUESTOS GASTOS'!$D$24:$D$28),-3),0)","v":1607000},{"$f":"IFERROR(IF($E110=\"PASANTE SENA\",0,ROUNDUP(((S110+AD110)*'SUPUESTOS GASTOS'!$D$31),-3)),0)","v":2749000},{"$f":"IFERROR(IF($E110=\"PASANTE SENA\",0,ROUNDUP(((S110+AD110)*'SUPUESTOS GASTOS'!$D$32),-3)),0)","v":1375000},{"$f":"IF($C110=\"E\",0,IF($E110=\"PASANTE SENA\",0,IF(K110>=('SUPUESTOS GASTOS'!$D$14*2),0,ROUNDUP(('SUPUESTOS GASTOS'!$D$15/'SUPUESTOS GASTOS'!$D$13)*$H110,-3))))","v":0},{"$f":"IFERROR(IF($E110=\"PASANTE SENA\",0,ROUNDUP(((S110+AD110)*'SUPUESTOS GASTOS'!$D$33),-3)),0)","v":2062000},{"$f":"IF($E110=\"PASANTE SENA\",0,ROUNDUP(((K110+Q110)*H110)/'SUPUESTOS GASTOS'!$D$12,-3))","v":5497000},{"$f":"IF($E110=\"PASANTE SENA\",0,ROUNDUP((((AA110)/'SUPUESTOS GASTOS'!$D$12)*H110)*'SUPUESTOS GASTOS'!$D$21,-3))","v":658000},{"$f":"IF($E110=\"PASANTE SENA\",0,ROUNDUP(((K110+Q110)*H110)/'SUPUESTOS GASTOS'!$D$12,-3))","v":5497000},{"$f":"IF($E110=\"PASANTE SENA\",0,ROUNDUP((K110*H110)/('SUPUESTOS GASTOS'!$D$12*2),-3))","v":2749000},null,101678000]
[3,2,"C",null,"COORDINADOR DE MEDICIÓN, EVALUACIÓN Y SEGUIMIENTO","2025-01-02","2025-12-31",{"$f":"DAYS360(F111,G111)","v":359},{"$f":"IF(C111=\"C\",'SUPUESTOS GASTOS'!$D$6*SUMIF('SUPUESTOS GASTOS'!$B$38:$B$47,'Anexo 5 Planta y Equipo de trab'!$A111,'SUPUESTOS GASTOS'!$D$38:$D$47),IF($C111=\"N\",0,IF(C111=\"E\",'SUPUESTOS GASTOS'!$D$6*SUMIF('SUPUESTOS GASTOS'!$B$38:$B$47,'Anexo 5 Planta y Equipo de trab'!$A111,'SUPUESTOS GASTOS'!$D$38:$D$47),\"\")))","v":5200000},{"$f":"+'SUPUESTOS GASTOS'!$D$10","v":0.06},{"$f":"IF($C111=\"C\",ROUNDUP((I111*J111)+I111,-3),IF($C111=\"N\",ROUNDUP(('SUPUESTOS GASTOS'!$D$6*SUMIF('SUPUESTOS GASTOS'!$B$38:$B$47,'Anexo 5 Planta y Equipo de trab'!$A111,'SUPUESTOS GASTOS'!$D$38:$D$47)*$J111)+'SUPUESTOS GASTOS'!$D$6*SUMIF('SUPUESTOS GASTOS'!$B$38:$B$47,'Anexo 5 Planta y Equipo de trab'!$A111,'SUPUESTOS GASTOS'!$D$38:$D$47),-3),IF($C111=\"E\",0)))","v":5512000},{"$f":"IFERROR(IF($E111=\"PASANTE SENA\",ROUNDUP((K111*'SUPUESTOS GASTOS'!$D$20),-3),ROUNDUP((K111*'SUPUESTOS GASTOS'!$D$19),-3)),0)","v":469000},{"$f":"IFERROR(IF($E111=\"PASANTE SENA\",0,ROUNDUP((K111*'SUPUESTOS GASTOS'!$D$18),-3)),0)","v":662000},{"$f":"IFERROR(ROUNDUP(K111*SUMIF('SUPUESTOS GASTOS'!$B$24:$B$28,'Anexo 5 Planta y Equipo de trab'!$B111,'SUPUESTOS GASTOS'!$D$24:$D$28),-3),0)","v":135000},{"$f":"IFERROR(IF($E111=\"PASANTE SENA\",0,ROUNDUP((K111*'SUPUESTOS GASTOS'!$D$31),-3)),0)","v":221000},{"$f":"IFERROR(IF($E111=\"PASANTE SENA\",0,ROUNDUP((K111*'SUPUESTOS GASTOS'!$D$32),-3)),0)","v":111000},{"$f":"IF($C111=\"E\",0,IF($E111=\"PASANTE SENA\",0,IF(K111>=('SUPUESTOS GASTOS'!$D$14*2),0,ROUNDUP('SUPUESTOS GASTOS'!$D$15,-3))))","v":0},{"$f":"IFERROR(IF($E111=\"PASANTE SENA\",0,ROUNDUP((K111*'SUPUESTOS GASTOS'!$D$33),-3)),0)","v":166000},{"$f":"ROUNDUP((K111/'SUPUESTOS GASTOS'!$D$13)*H111,-3)","v":65961000},{"$f":"IFERROR(IF($E111=\"PASANTE SENA\",ROUNDUP((S111*'SUPUESTOS GASTOS'!$D$20),-3),ROUNDUP((S111*'SUPUESTOS GASTOS'!$D$19),-3)),0)","v":5607000},{"$f":"IFERROR(IF($E111=\"PASANTE SENA\",0,ROUNDUP((S111*'SUPUESTOS GASTOS'!$D$18),-3)),0)","v":7916000},{"$f":"IFERROR(ROUNDUP(S111*SUMIF('SUPUESTOS GASTOS'!$B$24:$B$28,'Anexo 5 Planta y Equipo de trab'!$B111,'SUPUESTOS GASTOS'!$D$24:$D$28),-3),0)","v":1607000},{"$f":"IFERROR(IF($E111=\"PASANTE SENA\",0,ROUNDUP(((S111+AD111)*'SUPUESTOS GASTOS'!$D$31),-3)),0)","v":2749000},{"$f":"IFERROR(IF($E111=\"PASANTE SENA\",0,ROUNDUP(((S111+AD111)*'SUPUESTOS GASTOS'!$D$32),-3)),0)","v":1375000},{"$f":"IF($C111=\"E\",0,IF($E111=\"PASANTE SENA\",0,IF(K111>=('SUPUESTOS GASTOS'!$D$14*2),0,ROUNDUP(('SUPUESTOS GASTOS'!$D$15/'SUPUESTOS GASTOS'!$D$13)*$H111,-3))))","v":0},{"$f":"IFERROR(IF($E111=\"PASANTE SENA\",0,ROUNDUP(((S111+AD111)*'SUPUESTOS GASTOS'!$D$33),-3)),0)","v":2062000},{"$f":"IF($E111=\"PASANTE SENA\",0,ROUNDUP(((K111+Q111)*H111)/'SUPUESTOS GASTOS'!$D$12,-3))","v":5497000},{"$f":"IF($E111=\"PASANTE SENA\",0,ROUNDUP((((AA111)/'SUPUESTOS GASTOS'!$D$12)*H111)*'SUPUESTOS GASTOS'!$D$21,-3))","v":658000},{"$f":"IF($E111=\"PASANTE SENA\",0,ROUNDUP(((K111+Q111)*H111)/'SUPUESTOS GASTOS'!$D$12,-3))","v":5497000},{"$f":"IF($E111=\"PASANTE SENA\",0,ROUNDUP((K111*H111)/('SUPUESTOS GASTOS'!$D$12*2),-3))","v":2749000},null,101678000]
[5,5,"C",null,"PROFESIONAL ESTUDIOS ECONOMICOS","2025-01-02","2025-12-31",359,{"$f":"IF(C112=\"C\",'SUPUESTOS GASTOS'!$D$6*SUMIF('SUPUESTOS GASTOS'!$B$38:$B$47,'Anexo 5 Planta y Equipo de trab'!$A112,'SUPUESTOS GASTOS'!$D$38:$D$47),IF($C112=\"N\",0,IF(C112=\"E\",'SUPUESTOS GASTOS'!$D$6*SUMIF('SUPUESTOS GASTOS'!$B$38:$B$47,'Anexo 5 Planta y Equipo de trab'!$A112,'SUPUESTOS GASTOS'!$D$38:$D$47),\"\")))","v":3380000},{"$f":"+'SUPUESTOS GASTOS'!$D$10","v":0.06},{"$f":"IF($C112=\"C\",ROUNDUP((I112*J112)+I112,-3),IF($C112=\"N\",ROUNDUP(('SUPUESTOS GASTOS'!$D$6*SUMIF('SUPUESTOS GASTOS'!$B$38:$B$47,'Anexo 5 Planta y Equipo de trab'!$A112,'SUPUESTOS GASTOS'!$D$38:$D$47)*$J112)+'SUPUESTOS GASTOS'!$D$6*SUMIF('SUPUESTOS GASTOS'!$B$38:$B$47,'Anexo 5 Planta y Equipo de trab'!$A112,'SUPUESTOS GASTOS'!$D$38:$D$47),-3),IF($C112=\"E\",0)))","v":3583000},{"$f":"IFERROR(IF($E112=\"PASANTE SENA\",ROUNDUP((K112*'SUPUESTOS GASTOS'!$D$20),-3),ROUNDUP((K112*'SUPUESTOS GASTOS'!$D$19),-3)),0)","v":305000},{"$f":"IFERROR(IF($E112=\"PASANTE SENA\",0,ROUNDUP((K112*'SUPUESTOS GASTOS'!$D$18),-3)),0)","v":430000},{"$f":"IFERROR(ROUNDUP(K112*SUMIF('SUPUESTOS GASTOS'!$B$24:$B$28,'Anexo 5 Planta y Equipo de trab'!$B112,'SUPUESTOS GASTOS'!$D$24:$D$28),-3),0)","v":38000},{"$f":"IFERROR(IF($E112=\"PASANTE SENA\",0,ROUNDUP((K112*'SUPUESTOS GASTOS'!$D$31),-3)),0)","v":144000},{"$f":"IFERROR(IF($E112=\"PASANTE SENA\",0,ROUNDUP((K112*'SUPUESTOS GASTOS'!$D$32),-3)),0)","v":72000},{"$f":"IF($C112=\"E\",0,IF($E112=\"PASANTE SENA\",0,IF(K112>=('SUPUESTOS GASTOS'!$D$14*2),0,ROUNDUP('SUPUESTOS GASTOS'!$D$15,-3))))","v":0},{"$f":"IFERROR(IF($E112=\"PASANTE SENA\",0,ROUNDUP((K112*'SUPUESTOS GASTOS'!$D$33),-3)),0)","v":108000},{"$f":"ROUNDUP((K112/'SUPUESTOS GASTOS'!$D$13)*H112,-3)","v":42877000},{"$f":"IFERROR(IF($E112=\"PASANTE SENA\",ROUNDUP((S112*'SUPUESTOS GASTOS'!$D$20),-3),ROUNDUP((S112*'SUPUESTOS GASTOS'!$D$19),-3)),0)","v":3645000},{"$f":"IFERROR(IF($E112=\"PASANTE SENA\",0,ROUNDUP((S112*'SUPUESTOS GASTOS'!$D$18),-3)),0)","v":5146000},{"$f":"IFERROR(ROUNDUP(S112*SUMIF('SUPUESTOS GASTOS'!$B$24:$B$28,'Anexo 5 Planta y Equipo de trab'!$B112,'SUPUESTOS GASTOS'!$D$24:$D$28),-3),0)","v":448000},{"$f":"IFERROR(IF($E112=\"PASANTE SENA\",0,ROUNDUP(((S112+AD112)*'SUPUESTOS GASTOS'!$D$31),-3)),0)","v":1787000},{"$f":"IFERROR(IF($E112=\"PASANTE SENA\",0,ROUNDUP(((S112+AD112)*'SUPUESTOS GASTOS'!$D$32),-3)),0)","v":894000},{"$f":"IF($C112=\"E\",0,IF($E112=\"PASANTE SENA\",0,IF(K112>=('SUPUESTOS GASTOS'!$D$14*2),0,ROUNDUP(('SUPUESTOS GASTOS'!$D$15/'SUPUESTOS GASTOS'!$D$13)*$H112,-3))))","v":0},{"$f":"IFERROR(IF($E112=\"PASANTE SENA\",0,ROUNDUP(((S112+AD112)*'SUPUESTOS GASTOS'!$D$33),-3)),0)","v":1340000},{"$f":"IF($E112=\"PASANTE SENA\",0,ROUNDUP(((K112+Q112)*H112)/'SUPUESTOS GASTOS'!$D$12,-3))","v":3574000},{"$f":"IF($E112=\"PASANTE SENA\",0,ROUNDUP((((AA112)/'SUPUESTOS GASTOS'!$D$12)*H112)*'SUPUESTOS GASTOS'!$D$21,-3))","v":428000},{"$f":"IF($E112=\"PASANTE SENA\",0,ROUNDUP(((K112+Q112)*H112)/'SUPUESTOS GASTOS'!$D$12,-3))","v":3574000},{"$f":"IF($E112=\"PASANTE SENA\",0,ROUNDUP((K112*H112)/('SUPUESTOS GASTOS'!$D$12*2),-3))","v":1787000},null,65500000]
[5,5,"N",null,"GESTOR DE INFORMACIÓN DOCUMENTAL Y RECURSOS DIGITALES","2025-01-02","2025-12-31",359,{"$f":"IF(C113=\"C\",'SUPUESTOS GASTOS'!$D$6*SUMIF('SUPUESTOS GASTOS'!$B$38:$B$47,'Anexo 5 Planta y Equipo de trab'!$A113,'SUPUESTOS GASTOS'!$D$38:$D$47),IF($C113=\"N\",0,IF(C113=\"E\",'SUPUESTOS GASTOS'!$D$6*SUMIF('SUPUESTOS GASTOS'!$B$38:$B$47,'Anexo 5 Planta y Equipo de trab'!$A113,'SUPUESTOS GASTOS'!$D$38:$D$47),\"\")))","v":0},{"$f":"+'SUPUESTOS GASTOS'!$D$10","v":0.06},{"$f":"IF($C113=\"C\",ROUNDUP((I113*J113)+I113,-3),IF($C113=\"N\",ROUNDUP(('SUPUESTOS GASTOS'!$D$6*SUMIF('SUPUESTOS GASTOS'!$B$38:$B$47,'Anexo 5 Planta y Equipo de trab'!$A113,'SUPUESTOS GASTOS'!$D$38:$D$47)*$J113)+'SUPUESTOS GASTOS'!$D$6*SUMIF('SUPUESTOS GASTOS'!$B$38:$B$47,'Anexo 5 Planta y Equipo de trab'!$A113,'SUPUESTOS GASTOS'!$D$38:$D$47),-3),IF($C113=\"E\",0)))","v":3583000},{"$f":"IFERROR(IF($E113=\"PASANTE SENA\",ROUNDUP((K113*'SUPUESTOS GASTOS'!$D$20),-3),ROUNDUP((K113*'SUPUESTOS GASTOS'!$D$19),-3)),0)","v":305000},{"$f":"IFERROR(IF($E113=\"PASANTE SENA\",0,ROUNDUP((K113*'SUPUESTOS GASTOS'!$D$18),-3)),0)","v":430000},{"$f":"IFERROR(ROUNDUP(K113*SUMIF('SUPUESTOS GASTOS'!$B$24:$B$28,'Anexo 5 Planta y Equipo de trab'!$B113,'SUPUESTOS GASTOS'!$D$24:$D$28),-3),0)","v":38000},{"$f":"IFERROR(IF($E113=\"PASANTE SENA\",0,ROUNDUP((K113*'SUPUESTOS GASTOS'!$D$31),-3)),0)","v":144000},{"$f":"IFERROR(IF($E113=\"PASANTE SENA\",0,ROUNDUP((K113*'SUPUESTOS GASTOS'!$D$32),-3)),0)","v":72000},{"$f":"IF($C113=\"E\",0,IF($E113=\"PASANTE SENA\",0,IF(K113>=('SUPUESTOS GASTOS'!$D$14*2),0,ROUNDUP('SUPUESTOS GASTOS'!$D$15,-3))))","v":0},{"$f":"IFERROR(IF($E113=\"PASANTE SENA\",0,ROUNDUP((K113*'SUPUESTOS GASTOS'!$D$33),-3)),0)","v":108000},{"$f":"ROUNDUP((K113/'SUPUESTOS GASTOS'!$D$13)*H113,-3)","v":42877000},{"$f":"IFERROR(IF($E113=\"PASANTE SENA\",ROUNDUP((S113*'SUPUESTOS GASTOS'!$D$20),-3),ROUNDUP((S113*'SUPUESTOS GASTOS'!$D$19),-3)),0)","v":3645000},{"$f":"IFERROR(IF($E113=\"PASANTE SENA\",0,ROUNDUP((S113*'SUPUESTOS GASTOS'!$D$18),-3)),0)","v":5146000},{"$f":"IFERROR(ROUNDUP(S113*SUMIF('SUPUESTOS GASTOS'!$B$24:$B$28,'Anexo 5 Planta y Equipo de trab'!$B113,'SUPUESTOS GASTOS'!$D$24:$D$28),-3),0)","v":448000},{"$f":"IFERROR(IF($E113=\"PASANTE SENA\",0,ROUNDUP(((S113+AD113)*'SUPUESTOS GASTOS'!$D$31),-3)),0)","v":1787000},{"$f":"IFERROR(IF($E113=\"PASANTE SENA\",0,ROUNDUP(((S113+AD113)*'SUPUESTOS GASTOS'!$D$32),-3)),0)","v":894000},{"$f":"IF($C113=\"E\",0,IF($E113=\"PASANTE SENA\",0,IF(K113>=('SUPUESTOS GASTOS'!$D$14*2),0,ROUNDUP(('SUPUESTOS GASTOS'!$D$15/'SUPUESTOS GASTOS'!$D$13)*$H113,-3))))","v":0},{"$f":"IFERROR(IF($E113=\"PASANTE SENA\",0,ROUNDUP(((S113+AD113)*'SUPUESTOS GASTOS'!$D$33),-3)),0)","v":1340000},{"$f":"IF($E113=\"PASANTE SENA\",0,ROUNDUP(((K113+Q113)*H113)/'SUPUESTOS GASTOS'!$D$12,-3))","v":3574000},{"$f":"IF($E113=\"PASANTE SENA\",0,ROUNDUP((((AA113)/'SUPUESTOS GASTOS'!$D$12)*H113)*'SUPUESTOS GASTOS'!$D$21,-3))","v":428000},{"$f":"IF($E113=\"PASANTE SENA\",0,ROUNDUP(((K113+Q113)*H113)/'SUPUESTOS GASTOS'!$D$12,-3))","v":3574000},{"$f":"IF($E113=\"PASANTE SENA\",0,ROUNDUP((K113*H113)/('SUPUESTOS GASTOS'!$D$12*2),-3))","v":1787000},null,65500000]
[7,5,"C",null,"ANALISTA SISTEMAS DE INFORMACION","2025-01-01","2025-12-31",360,{"$f":"IF(C114=\"C\",'SUPUESTOS GASTOS'!$D$6*SUMIF('SUPUESTOS GASTOS'!$B$38:$B$47,'Anexo 5 Planta y Equipo de trab'!$A114,'SUPUESTOS GASTOS'!$D$38:$D$47),IF($C114=\"N\",0,IF(C114=\"E\",'SUPUESTOS GASTOS'!$D$6*SUMIF('SUPUESTOS GASTOS'!$B$38:$B$47,'Anexo 5 Planta y Equipo de trab'!$A114,'SUPUESTOS GASTOS'!$D$38:$D$47),\"\")))","v":1950000},{"$f":"+'SUPUESTOS GASTOS'!$D$10","v":0.06},{"$f":"IF($C114=\"C\",ROUNDUP((I114*J114)+I114,-3),IF($C114=\"N\",ROUNDUP(('SUPUESTOS GASTOS'!$D$6*SUMIF('SUPUESTOS GASTOS'!$B$38:$B$47,'Anexo 5 Planta y Equipo de trab'!$A114,'SUPUESTOS GASTOS'!$D$38:$D$47)*$J114)+'SUPUESTOS GASTOS'!$D$6*SUMIF('SUPUESTOS GASTOS'!$B$38:$B$47,'Anexo 5 Planta y Equipo de trab'!$A114,'SUPUESTOS GASTOS'!$D$38:$D$47),-3),IF($C114=\"E\",0)))","v":2067000},{"$f":"IFERROR(IF($E114=\"PASANTE SENA\",ROUNDUP((K114*'SUPUESTOS GASTOS'!$D$20),-3),ROUNDUP((K114*'SUPUESTOS GASTOS'!$D$19),-3)),0)","v":176000},{"$f":"IFERROR(IF($E114=\"PASANTE SENA\",0,ROUNDUP((K114*'SUPUESTOS GASTOS'!$D$18),-3)),0)","v":249000},{"$f":"IFERROR(ROUNDUP(K114*SUMIF('SUPUESTOS GASTOS'!$B$24:$B$28,'Anexo 5 Planta y Equipo de trab'!$B114,'SUPUESTOS GASTOS'!$D$24:$D$28),-3),0)","v":22000},{"$f":"IFERROR(IF($E114=\"PASANTE SENA\",0,ROUNDUP((K114*'SUPUESTOS GASTOS'!$D$31),-3)),0)","v":83000},{"$f":"IFERROR(IF($E114=\"PASANTE SENA\",0,ROUNDUP((K114*'SUPUESTOS GASTOS'!$D$32),-3)),0)","v":42000},{"$f":"IF($C114=\"E\",0,IF($E114=\"PASANTE SENA\",0,IF(K114>=('SUPUESTOS GASTOS'!$D$14*2),0,ROUNDUP('SUPUESTOS GASTOS'!$D$15,-3))))","v":172000},{"$f":"IFERROR(IF($E114=\"PASANTE SENA\",0,ROUNDUP((K114*'SUPUESTOS GASTOS'!$D$33),-3)),0)","v":63000},{"$f":"ROUNDUP((K114/'SUPUESTOS GASTOS'!$D$13)*H114,-3)","v":24804000},{"$f":"IFERROR(IF($E114=\"PASANTE SENA\",ROUNDUP((S114*'SUPUESTOS GASTOS'!$D$20),-3),ROUNDUP((S114*'SUPUESTOS GASTOS'!$D$19),-3)),0)","v":2109000},{"$f":"IFERROR(IF($E114=\"PASANTE SENA\",0,ROUNDUP((S114*'SUPUESTOS GASTOS'!$D$18),-3)),0)","v":2977000},{"$f":"IFERROR(ROUNDUP(S114*SUMIF('SUPUESTOS GASTOS'!$B$24:$B$28,'Anexo 5 Planta y Equipo de trab'!$B114,'SUPUESTOS GASTOS'!$D$24:$D$28),-3),0)","v":259000},{"$f":"IFERROR(IF($E114=\"PASANTE SENA\",0,ROUNDUP(((S114+AD114)*'SUPUESTOS GASTOS'!$D$31),-3)),0)","v":1034000},{"$f":"IFERROR(IF($E114=\"PASANTE SENA\",0,ROUNDUP(((S114+AD114)*'SUPUESTOS GASTOS'!$D$32),-3)),0)","v":517000},{"$f":"IF($C114=\"E\",0,IF($E114=\"PASANTE SENA\",0,IF(K114>=('SUPUESTOS GASTOS'!$D$14*2),0,ROUNDUP(('SUPUESTOS GASTOS'!$D$15/'SUPUESTOS GASTOS'!$D$13)*$H114,-3))))","v":2061000},{"$f":"IFERROR(IF($E114=\"PASANTE SENA\",0,ROUNDUP(((S114+AD114)*'SUPUESTOS GASTOS'!$D$33),-3)),0)","v":776000},{"$f":"IF($E114=\"PASANTE SENA\",0,ROUNDUP(((K114+Q114)*H114)/'SUPUESTOS GASTOS'!$D$12,-3))","v":2239000},{"$f":"IF($E114=\"PASANTE SENA\",0,ROUNDUP((((AA114)/'SUPUESTOS GASTOS'!$D$12)*H114)*'SUPUESTOS GASTOS'!$D$21,-3))","v":269000},{"$f":"IF($E114=\"PASANTE SENA\",0,ROUNDUP(((K114+Q114)*H114)/'SUPUESTOS GASTOS'!$D$12,-3))","v":2239000},{"$f":"IF($E114=\"PASANTE SENA\",0,ROUNDUP((K114*H114)/('SUPUESTOS GASTOS'!$D$12*2),-3))","v":1034000},null,40318000]
[null,null,null,null,"SUB TOTAL SISTEMAS DE INFORMACION",null,null,null,null,null,{"$f":"SUM(K109:K114)","v":29655000},2523000,3561000,597000,1189000,596000,172000,893000,354943000,30173000,42597000,7109000,14792000,7398000,2061000,11095000,29753000,3563000,29753000,14792000,0,548029000]
[null,null,null,null,"PROMOCION Y DIVULGACION"]
[4,5,"E",null,"SUPERVISOR DE DIVULGACION","2025-01-02","2025-12-31",359,{"$f":"IF(C117=\"C\",'SUPUESTOS GASTOS'!$D$6*SUMIF('SUPUESTOS GASTOS'!$B$38:$B$47,'Anexo 5 Planta y Equipo de trab'!$A117,'SUPUESTOS GASTOS'!$D$38:$D$47),IF($C117=\"N\",0,IF(C117=\"E\",'SUPUESTOS GASTOS'!$D$6*SUMIF('SUPUESTOS GASTOS'!$B$38:$B$47,'Anexo 5 Planta y Equipo de trab'!$A117,'SUPUESTOS GASTOS'!$D$38:$D$47),\"\")))","v":3900000},0.08,{"$f":"IF($C117=\"C\",ROUNDUP((I117*J117)+I117,-3),IF($C117=\"N\",ROUNDUP(('SUPUESTOS GASTOS'!$D$6*SUMIF('SUPUESTOS GASTOS'!$B$38:$B$47,'Anexo 5 Planta y Equipo de trab'!$A117,'SUPUESTOS GASTOS'!$D$38:$D$47)*$J117)+'SUPUESTOS GASTOS'!$D$6*SUMIF('SUPUESTOS GASTOS'!$B$38:$B$47,'Anexo 5 Planta y Equipo de trab'!$A117,'SUPUESTOS GASTOS'!$D$38:$D$47),-3),IF($C117=\"E\",0)))","v":0},{"$f":"IFERROR(IF($E117=\"PASANTE SENA\",ROUNDUP((K117*'SUPUESTOS GASTOS'!$D$20),-3),ROUNDUP((K117*'SUPUESTOS GASTOS'!$D$19),-3)),0)","v":0},{"$f":"IFERROR(IF($E117=\"PASANTE SENA\",0,ROUNDUP((K117*'SUPUESTOS GASTOS'!$D$18),-3)),0)","v":0},{"$f":"IFERROR(ROUNDUP(K117*SUMIF('SUPUESTOS GASTOS'!$B$24:$B$28,'Anexo 5 Planta y Equipo de trab'!$B117,'SUPUESTOS GASTOS'!$D$24:$D$28),-3),0)","v":0},{"$f":"IFERROR(IF($E117=\"PASANTE SENA\",0,ROUNDUP((K117*'SUPUESTOS GASTOS'!$D$31),-3)),0)","v":0},{"$f":"IFERROR(IF($E117=\"PASANTE SENA\",0,ROUNDUP((K117*'SUPUESTOS GASTOS'!$D$32),-3)),0)","v":0},{"$f":"IF($C117=\"E\",0,IF($E117=\"PASANTE SENA\",0,IF(K117>=('SUPUESTOS GASTOS'!$D$14*2),0,ROUNDUP('SUPUESTOS GASTOS'!$D$15,-3))))","v":0},{"$f":"IFERROR(IF($E117=\"PASANTE SENA\",0,ROUNDUP((K117*'SUPUESTOS GASTOS'!$D$33),-3)),0)","v":0},{"$f":"ROUNDUP((K117/'SUPUESTOS GASTOS'!$D$13)*H117,-3)","v":0},{"$f":"IFERROR(IF($E117=\"PASANTE SENA\",ROUNDUP((S117*'SUPUESTOS GASTOS'!$D$20),-3),ROUNDUP((S117*'SUPUESTOS GASTOS'!$D$19),-3)),0)","v":0},{"$f":"IFERROR(IF($E117=\"PASANTE SENA\",0,ROUNDUP((S117*'SUPUESTOS GASTOS'!$D$18),-3)),0)","v":0},{"$f":"IFERROR(ROUNDUP(S117*SUMIF('SUPUESTOS GASTOS'!$B$24:$B$28,'Anexo 5 Planta y Equipo de trab'!$B117,'SUPUESTOS GASTOS'!$D$24:$D$28),-3),0)","v":0},{"$f":"IFERROR(IF($E117=\"PASANTE SENA\",0,ROUNDUP(((S117+AD117)*'SUPUESTOS GASTOS'!$D$31),-3)),0)","v":0},{"$f":"IFERROR(IF($E117=\"PASANTE SENA\",0,ROUNDUP(((S117+AD117)*'SUPUESTOS GASTOS'!$D$32),-3)),0)","v":0},{"$f":"IF($C117=\"E\",0,IF($E117=\"PASANTE SENA\",0,IF(K117>=('SUPUESTOS GASTOS'!$D$14*2),0,ROUNDUP(('SUPUESTOS GASTOS'!$D$15/'SUPUESTOS GASTOS'!$D$13)*$H117,-3))))","v":0},{"$f":"IFERROR(IF($E117=\"PASANTE SENA\",0,ROUNDUP(((S117+AD117)*'SUPUESTOS GASTOS'!$D$33),-3)),0)","v":0},{"$f":"IF($E117=\"PASANTE SENA\",0,ROUNDUP(((K117+Q117)*H117)/'SUPUESTOS GASTOS'!$D$12,-3))","v":0},{"$f":"IF($E117=\"PASANTE SENA\",0,ROUNDUP((((AA117)/'SUPUESTOS GASTOS'!$D$12)*H117)*'SUPUESTOS GASTOS'!$D$21,-3))","v":0},{"$f":"IF($E117=\"PASANTE SENA\",0,ROUNDUP(((K117+Q117)*H117)/'SUPUESTOS GASTOS'!$D$12,-3))","v":0},{"$f":"IF($E117=\"PASANTE SENA\",0,ROUNDUP((K117*H117)/('SUPUESTOS GASTOS'!$D$12*2),-3))","v":0},null,{"$f":"ROUNDUP(SUM(S117:AD117),-3)","v":0}]
[5,5,"E",null,"GESTOR DE INFORMACIÓN DOCUMENTAL","2025-01-02","2025-12-31",359,{"$f":"IF(C118=\"C\",'SUPUESTOS GASTOS'!$D$6*SUMIF('SUPUESTOS GASTOS'!$B$38:$B$47,'Anexo 5 Planta y Equipo de trab'!$A118,'SUPUESTOS GASTOS'!$D$38:$D$47),IF($C118=\"N\",0,IF(C118=\"E\",'SUPUESTOS GASTOS'!$D$6*SUMIF('SUPUESTOS GASTOS'!$B$38:$B$47,'Anexo 5 Planta y Equipo de trab'!$A118,'SUPUESTOS GASTOS'!$D$38:$D$47),\"\")))","v":3380000},0.08,{"$f":"IF($C118=\"C\",ROUNDUP((I118*J118)+I118,-3),IF($C118=\"N\",ROUNDUP(('SUPUESTOS GASTOS'!$D$6*SUMIF('SUPUESTOS GASTOS'!$B$38:$B$47,'Anexo 5 Planta y Equipo de trab'!$A118,'SUPUESTOS GASTOS'!$D$38:$D$47)*$J118)+'SUPUESTOS GASTOS'!$D$6*SUMIF('SUPUESTOS GASTOS'!$B$38:$B$47,'Anexo 5 Planta y Equipo de trab'!$A118,'SUPUESTOS GASTOS'!$D$38:$D$47),-3),IF($C118=\"E\",0)))","v":0},{"$f":"IFERROR(IF($E118=\"PASANTE SENA\",ROUNDUP((K118*'SUPUESTOS GASTOS'!$D$20),-3),ROUNDUP((K118*'SUPUESTOS GASTOS'!$D$19),-3)),0)","v":0},{"$f":"IFERROR(IF($E118=\"PASANTE SENA\",0,ROUNDUP((K118*'SUPUESTOS GASTOS'!$D$18),-3)),0)","v":0},{"$f":"IFERROR(ROUNDUP(K118*SUMIF('SUPUESTOS GASTOS'!$B$24:$B$28,'Anexo 5 Planta y Equipo de trab'!$B118,'SUPUESTOS GASTOS'!$D$24:$D$28),-3),0)","v":0},{"$f":"IFERROR(IF($E118=\"PASANTE SENA\",0,ROUNDUP((K118*'SUPUESTOS GASTOS'!$D$31),-3)),0)","v":0},{"$f":"IFERROR(IF($E118=\"PASANTE SENA\",0,ROUNDUP((K118*'SUPUESTOS GASTOS'!$D$32),-3)),0)","v":0},{"$f":"IF($C118=\"E\",0,IF($E118=\"PASANTE SENA\",0,IF(K118>=('SUPUESTOS GASTOS'!$D$14*2),0,ROUNDUP('SUPUESTOS GASTOS'!$D$15,-3))))","v":0},{"$f":"IFERROR(IF($E118=\"PASANTE SENA\",0,ROUNDUP((K118*'SUPUESTOS GASTOS'!$D$33),-3)),0)","v":0},{"$f":"ROUNDUP((K118/'SUPUESTOS GASTOS'!$D$13)*H118,-3)","v":0},{"$f":"IFERROR(IF($E118=\"PASANTE SENA\",ROUNDUP((S118*'SUPUESTOS GASTOS'!$D$20),-3),ROUNDUP((S118*'SUPUESTOS GASTOS'!$D$19),-3)),0)","v":0},{"$f":"IFERROR(IF($E118=\"PASANTE SENA\",0,ROUNDUP((S118*'SUPUESTOS GASTOS'!$D$18),-3)),0)","v":0},{"$f":"IFERROR(ROUNDUP(S118*SUMIF('SUPUESTOS GASTOS'!$B$24:$B$28,'Anexo 5 Planta y Equipo de trab'!$B118,'SUPUESTOS GASTOS'!$D$24:$D$28),-3),0)","v":0},{"$f":"IFERROR(IF($E118=\"PASANTE SENA\",0,ROUNDUP(((S118+AD118)*'SUPUESTOS GASTOS'!$D$31),-3)),0)","v":0},{"$f":"IFERROR(IF($E118=\"PASANTE SENA\",0,ROUNDUP(((S118+AD118)*'SUPUESTOS GASTOS'!$D$32),-3)),0)","v":0},{"$f":"IF($C118=\"E\",0,IF($E118=\"PASANTE SENA\",0,IF(K118>=('SUPUESTOS GASTOS'!$D$14*2),0,ROUNDUP(('SUPUESTOS GASTOS'!$D$15/'SUPUESTOS GASTOS'!$D$13)*$H118,-3))))","v":0},{"$f":"IFERROR(IF($E118=\"PASANTE SENA\",0,ROUNDUP(((S118+AD118)*'SUPUESTOS GASTOS'!$D$33),-3)),0)","v":0},{"$f":"IF($E118=\"PASANTE SENA\",0,ROUNDUP(((K118+Q118)*H118)/'SUPUESTOS GASTOS'!$D$12,-3))","v":0},{"$f":"IF($E118=\"PASANTE SENA\",0,ROUNDUP((((AA118)/'SUPUESTOS GASTOS'!$D$12)*H118)*'SUPUESTOS GASTOS'!$D$21,-3))","v":0},{"$f":"IF($E118=\"PASANTE SENA\",0,ROUNDUP(((K118+Q118)*H118)/'SUPUESTOS GASTOS'!$D$12,-3))","v":0},{"$f":"IF($E118=\"PASANTE SENA\",0,ROUNDUP((K118*H118)/('SUPUESTOS GASTOS'!$D$12*2),-3))","v":0},null,0]
[null,null,null,null,"SUB TOTAL PROMOCION Y DIVULGACION",null,null,null,null,null,{"$f":"SUM(K117:K118)","v":0},0,0,0,0,0,0,{"$f":"SUM(R117:R118)","v":0},0,0,0,0,0,0,0,0,0,0,0,0,0,0]
[null,null,null,null,"ASOCIATIVIDAD Y FORTALECIMIENTO EMPRESARIAL"]
[2,2,"C",null,"DIRECTOR DE COMERCIALIZACION","2025-01-02","2025-12-31",{"$f":"DAYS360(F121,G121)","v":359},{"$f":"IF(C121=\"C\",'SUPUESTOS GASTOS'!$D$6*SUMIF('SUPUESTOS GASTOS'!$B$38:$B$47,'Anexo 5 Planta y Equipo de trab'!$A121,'SUPUESTOS GASTOS'!$D$38:$D$47),IF($C121=\"N\",0,IF(C121=\"E\",'SUPUESTOS GASTOS'!$D$6*SUMIF('SUPUESTOS GASTOS'!$B$38:$B$47,'Anexo 5 Planta y Equipo de trab'!$A121,'SUPUESTOS GASTOS'!$D$38:$D$47),\"\")))","v":6760000},{"$f":"+'SUPUESTOS GASTOS'!$D$10","v":0.06},{"$f":"IF($C121=\"C\",ROUNDUP((I121*J121)+I121,-3),IF($C121=\"N\",ROUNDUP(('SUPUESTOS GASTOS'!$D$6*SUMIF('SUPUESTOS GASTOS'!$B$38:$B$47,'Anexo 5 Planta y Equipo de trab'!$A121,'SUPUESTOS GASTOS'!$D$38:$D$47)*$J121)+'SUPUESTOS GASTOS'!$D$6*SUMIF('SUPUESTOS GASTOS'!$B$38:$B$47,'Anexo 5 Planta y Equipo de trab'!$A121,'SUPUESTOS GASTOS'!$D$38:$D$47),-3),IF($C121=\"E\",0)))","v":7166000},{"$f":"IFERROR(IF($E121=\"PASANTE SENA\",ROUNDUP((K121*'SUPUESTOS GASTOS'!$D$20),-3),ROUNDUP((K121*'SUPUESTOS GASTOS'!$D$19),-3)),0)","v":610000},{"$f":"IFERROR(IF($E121=\"PASANTE SENA\",0,ROUNDUP((K121*'SUPUESTOS GASTOS'!$D$18),-3)),0)","v":860000},{"$f":"IFERROR(ROUNDUP(K121*SUMIF('SUPUESTOS GASTOS'!$B$24:$B$28,'Anexo 5 Planta y Equipo de trab'!$B121,'SUPUESTOS GASTOS'!$D$24:$D$28),-3),0)","v":175000},{"$f":"IFERROR(IF($E121=\"PASANTE SENA\",0,ROUNDUP((K121*'SUPUESTOS GASTOS'!$D$31),-3)),0)","v":287000},{"$f":"IFERROR(IF($E121=\"PASANTE SENA\",0,ROUNDUP((K121*'SUPUESTOS GASTOS'!$D$32),-3)),0)","v":144000},{"$f":"IF($C121=\"E\",0,IF($E121=\"PASANTE SENA\",0,IF(K121>=('SUPUESTOS GASTOS'!$D$14*2),0,ROUNDUP('SUPUESTOS GASTOS'!$D$15,-3))))","v":0},{"$f":"IFERROR(IF($E121=\"PASANTE SENA\",0,ROUNDUP((K121*'SUPUESTOS GASTOS'!$D$33),-3)),0)","v":215000},{"$f":"ROUNDUP((K121/'SUPUESTOS GASTOS'!$D$13)*H121,-3)","v":85754000},{"$f":"IFERROR(IF($E121=\"PASANTE SENA\",ROUNDUP((S121*'SUPUESTOS GASTOS'!$D$20),-3),ROUNDUP((S121*'SUPUESTOS GASTOS'!$D$19),-3)),0)","v":7290000},{"$f":"IFERROR(IF($E121=\"PASANTE SENA\",0,ROUNDUP((S121*'SUPUESTOS GASTOS'!$D$18),-3)),0)","v":10291000},{"$f":"IFERROR(ROUNDUP(S121*SUMIF('SUPUESTOS GASTOS'!$B$24:$B$28,'Anexo 5 Planta y Equipo de trab'!$B121,'SUPUESTOS GASTOS'!$D$24:$D$28),-3),0)","v":2089000},{"$f":"IFERROR(IF($E121=\"PASANTE SENA\",0,ROUNDUP(((S121+AD121)*'SUPUESTOS GASTOS'!$D$31),-3)),0)","v":3574000},{"$f":"IFERROR(IF($E121=\"PASANTE SENA\",0,ROUNDUP(((S121+AD121)*'SUPUESTOS GASTOS'!$D$32),-3)),0)","v":1787000},{"$f":"IF($C121=\"E\",0,IF($E121=\"PASANTE SENA\",0,IF(K121>=('SUPUESTOS GASTOS'!$D$14*2),0,ROUNDUP(('SUPUESTOS GASTOS'!$D$15/'SUPUESTOS GASTOS'!$D$13)*$H121,-3))))","v":0},{"$f":"IFERROR(IF($E121=\"PASANTE SENA\",0,ROUNDUP(((S121+AD121)*'SUPUESTOS GASTOS'!$D$33),-3)),0)","v":2680000},{"$f":"IF($E121=\"PASANTE SENA\",0,ROUNDUP(((K121+Q121)*H121)/'SUPUESTOS GASTOS'!$D$12,-3))","v":7147000},{"$f":"IF($E121=\"PASANTE SENA\",0,ROUNDUP((((AA121)/'SUPUESTOS GASTOS'!$D$12)*H121)*'SUPUESTOS GASTOS'!$D$21,-3))","v":856000},{"$f":"IF($E121=\"PASANTE SENA\",0,ROUNDUP(((K121+Q121)*H121)/'SUPUESTOS GASTOS'!$D$12,-3))","v":7147000},{"$f":"IF($E121=\"PASANTE SENA\",0,ROUNDUP((K121*H121)/('SUPUESTOS GASTOS'!$D$12*2),-3))","v":3574000},null,{"$f":"ROUNDUP(SUM(S121:AD121),-3)","v":132189000}]
[3,2,"E",null,"COORDINADOR DE NEGOCIOS","2025-01-02","2025-12-31",359,{"$f":"IF(C122=\"C\",'SUPUESTOS GASTOS'!$D$6*SUMIF('SUPUESTOS GASTOS'!$B$38:$B$47,'Anexo 5 Planta y Equipo de trab'!$A122,'SUPUESTOS GASTOS'!$D$38:$D$47),IF($C122=\"N\",0,IF(C122=\"E\",'SUPUESTOS GASTOS'!$D$6*SUMIF('SUPUESTOS GASTOS'!$B$38:$B$47,'Anexo 5 Planta y Equipo de trab'!$A122,'SUPUESTOS GASTOS'!$D$38:$D$47),\"\")))","v":5200000},{"$f":"+'SUPUESTOS GASTOS'!$D$10","v":0.06},{"$f":"IF($C122=\"C\",ROUNDUP((I122*J122)+I122,-3),IF($C122=\"N\",ROUNDUP(('SUPUESTOS GASTOS'!$D$6*SUMIF('SUPUESTOS GASTOS'!$B$38:$B$47,'Anexo 5 Planta y Equipo de trab'!$A122,'SUPUESTOS GASTOS'!$D$38:$D$47)*$J122)+'SUPUESTOS GASTOS'!$D$6*SUMIF('SUPUESTOS GASTOS'!$B$38:$B$47,'Anexo 5 Planta y Equipo de trab'!$A122,'SUPUESTOS GASTOS'!$D$38:$D$47),-3),IF($C122=\"E\",0)))","v":0},{"$f":"IFERROR(IF($E122=\"PASANTE SENA\",ROUNDUP((K122*'SUPUESTOS GASTOS'!$D$20),-3),ROUNDUP((K122*'SUPUESTOS GASTOS'!$D$19),-3)),0)","v":0},{"$f":"IFERROR(IF($E122=\"PASANTE SENA\",0,ROUNDUP((K122*'SUPUESTOS GASTOS'!$D$18),-3)),0)","v":0},{"$f":"IFERROR(ROUNDUP(K122*SUMIF('SUPUESTOS GASTOS'!$B$24:$B$28,'Anexo 5 Planta y Equipo de trab'!$B122,'SUPUESTOS GASTOS'!$D$24:$D$28),-3),0)","v":0},{"$f":"IFERROR(IF($E122=\"PASANTE SENA\",0,ROUNDUP((K122*'SUPUESTOS GASTOS'!$D$31),-3)),0)","v":0},{"$f":"IFERROR(IF($E122=\"PASANTE SENA\",0,ROUNDUP((K122*'SUPUESTOS GASTOS'!$D$32),-3)),0)","v":0},{"$f":"IF($C122=\"E\",0,IF($E122=\"PASANTE SENA\",0,IF(K122>=('SUPUESTOS GASTOS'!$D$14*2),0,ROUNDUP('SUPUESTOS GASTOS'!$D$15,-3))))","v":0},{"$f":"IFERROR(IF($E122=\"PASANTE SENA\",0,ROUNDUP((K122*'SUPUESTOS GASTOS'!$D$33),-3)),0)","v":0},{"$f":"ROUNDUP((K122/'SUPUESTOS GASTOS'!$D$13)*H122,-3)","v":0},{"$f":"IFERROR(IF($E122=\"PASANTE SENA\",ROUNDUP((S122*'SUPUESTOS GASTOS'!$D$20),-3),ROUNDUP((S122*'SUPUESTOS GASTOS'!$D$19),-3)),0)","v":0},{"$f":"IFERROR(IF($E122=\"PASANTE SENA\",0,ROUNDUP((S122*'SUPUESTOS GASTOS'!$D$18),-3)),0)","v":0},{"$f":"IFERROR(ROUNDUP(S122*SUMIF('SUPUESTOS GASTOS'!$B$24:$B$28,'Anexo 5 Planta y Equipo de trab'!$B122,'SUPUESTOS GASTOS'!$D$24:$D$28),-3),0)","v":0},{"$f":"IFERROR(IF($E122=\"PASANTE SENA\",0,ROUNDUP(((S122+AD122)*'SUPUESTOS GASTOS'!$D$31),-3)),0)","v":0},{"$f":"IFERROR(IF($E122=\"PASANTE SENA\",0,ROUNDUP(((S122+AD122)*'SUPUESTOS GASTOS'!$D$32),-3)),0)","v":0},{"$f":"IF($C122=\"E\",0,IF($E122=\"PASANTE SENA\",0,IF(K122>=('SUPUESTOS GASTOS'!$D$14*2),0,ROUNDUP(('SUPUESTOS GASTOS'!$D$15/'SUPUESTOS GASTOS'!$D$13)*$H122,-3))))","v":0},{"$f":"IFERROR(IF($E122=\"PASANTE SENA\",0,ROUNDUP(((S122+AD122)*'SUPUESTOS GASTOS'!$D$33),-3)),0)","v":0},{"$f":"IF($E122=\"PASANTE SENA\",0,ROUNDUP(((K122+Q122)*H122)/'SUPUESTOS GASTOS'!$D$12,-3))","v":0},{"$f":"IF($E122=\"PASANTE SENA\",0,ROUNDUP((((AA122)/'SUPUESTOS GASTOS'!$D$12)*H122)*'SUPUESTOS GASTOS'!$D$21,-3))","v":0},{"$f":"IF($E122=\"PASANTE SENA\",0,ROUNDUP(((K122+Q122)*H122)/'SUPUESTOS GASTOS'!$D$12,-3))","v":0},{"$f":"IF($E122=\"PASANTE SENA\",0,ROUNDUP((K122*H122)/('SUPUESTOS GASTOS'!$D$12*2),-3))","v":0},null,0]
[3,2,"E",null,"COORDINADOR DE POSTCOSECHA Y VALOR AGREGADO ","2025-01-02","2025-12-31",359,{"$f":"IF(C123=\"C\",'SUPUESTOS GASTOS'!$D$6*SUMIF('SUPUESTOS GASTOS'!$B$38:$B$47,'Anexo 5 Planta y Equipo de trab'!$A123,'SUPUESTOS GASTOS'!$D$38:$D$47),IF($C123=\"N\",0,IF(C123=\"E\",'SUPUESTOS GASTOS'!$D$6*SUMIF('SUPUESTOS GASTOS'!$B$38:$B$47,'Anexo 5 Planta y Equipo de trab'!$A123,'SUPUESTOS GASTOS'!$D$38:$D$47),\"\")))","v":5200000},{"$f":"+'SUPUESTOS GASTOS'!$D$10","v":0.06},{"$f":"IF($C123=\"C\",ROUNDUP((I123*J123)+I123,-3),IF($C123=\"N\",ROUNDUP(('SUPUESTOS GASTOS'!$D$6*SUMIF('SUPUESTOS GASTOS'!$B$38:$B$47,'Anexo 5 Planta y Equipo de trab'!$A123,'SUPUESTOS GASTOS'!$D$38:$D$47)*$J123)+'SUPUESTOS GASTOS'!$D$6*SUMIF('SUPUESTOS GASTOS'!$B$38:$B$47,'Anexo 5 Planta y Equipo de trab'!$A123,'SUPUESTOS GASTOS'!$D$38:$D$47),-3),IF($C123=\"E\",0)))","v":0},{"$f":"IFERROR(IF($E123=\"PASANTE SENA\",ROUNDUP((K123*'SUPUESTOS GASTOS'!$D$20),-3),ROUNDUP((K123*'SUPUESTOS GASTOS'!$D$19),-3)),0)","v":0},{"$f":"IFERROR(IF($E123=\"PASANTE SENA\",0,ROUNDUP((K123*'SUPUESTOS GASTOS'!$D$18),-3)),0)","v":0},{"$f":"IFERROR(ROUNDUP(K123*SUMIF('SUPUESTOS GASTOS'!$B$24:$B$28,'Anexo 5 Planta y Equipo de trab'!$B123,'SUPUESTOS GASTOS'!$D$24:$D$28),-3),0)","v":0},{"$f":"IFERROR(IF($E123=\"PASANTE SENA\",0,ROUNDUP((K123*'SUPUESTOS GASTOS'!$D$31),-3)),0)","v":0},{"$f":"IFERROR(IF($E123=\"PASANTE SENA\",0,ROUNDUP((K123*'SUPUESTOS GASTOS'!$D$32),-3)),0)","v":0},{"$f":"IF($C123=\"E\",0,IF($E123=\"PASANTE SENA\",0,IF(K123>=('SUPUESTOS GASTOS'!$D$14*2),0,ROUNDUP('SUPUESTOS GASTOS'!$D$15,-3))))","v":0},{"$f":"IFERROR(IF($E123=\"PASANTE SENA\",0,ROUNDUP((K123*'SUPUESTOS GASTOS'!$D$33),-3)),0)","v":0},{"$f":"ROUNDUP((K123/'SUPUESTOS GASTOS'!$D$13)*H123,-3)","v":0},{"$f":"IFERROR(IF($E123=\"PASANTE SENA\",ROUNDUP((S123*'SUPUESTOS GASTOS'!$D$20),-3),ROUNDUP((S123*'SUPUESTOS GASTOS'!$D$19),-3)),0)","v":0},{"$f":"IFERROR(IF($E123=\"PASANTE SENA\",0,ROUNDUP((S123*'SUPUESTOS GASTOS'!$D$18),-3)),0)","v":0},{"$f":"IFERROR(ROUNDUP(S123*SUMIF('SUPUESTOS GASTOS'!$B$24:$B$28,'Anexo 5 Planta y Equipo de trab'!$B123,'SUPUESTOS GASTOS'!$D$24:$D$28),-3),0)","v":0},{"$f":"IFERROR(IF($E123=\"PASANTE SENA\",0,ROUNDUP(((S123+AD123)*'SUPUESTOS GASTOS'!$D$31),-3)),0)","v":0},{"$f":"IFERROR(IF($E123=\"PASANTE SENA\",0,ROUNDUP(((S123+AD123)*'SUPUESTOS GASTOS'!$D$32),-3)),0)","v":0},{"$f":"IF($C123=\"E\",0,IF($E123=\"PASANTE SENA\",0,IF(K123>=('SUPUESTOS GASTOS'!$D$14*2),0,ROUNDUP(('SUPUESTOS GASTOS'!$D$15/'SUPUESTOS GASTOS'!$D$13)*$H123,-3))))","v":0},{"$f":"IFERROR(IF($E123=\"PASANTE SENA\",0,ROUNDUP(((S123+AD123)*'SUPUESTOS GASTOS'!$D$33),-3)),0)","v":0},{"$f":"IF($E123=\"PASANTE SENA\",0,ROUNDUP(((K123+Q123)*H123)/'SUPUESTOS GASTOS'!$D$12,-3))","v":0},{"$f":"IF($E123=\"PASANTE SENA\",0,ROUNDUP((((AA123)/'SUPUESTOS GASTOS'!$D$12)*H123)*'SUPUESTOS GASTOS'!$D$21,-3))","v":0},{"$f":"IF($E123=\"PASANTE SENA\",0,ROUNDUP(((K123+Q123)*H123)/'SUPUESTOS GASTOS'!$D$12,-3))","v":0},{"$f":"IF($E123=\"PASANTE SENA\",0,ROUNDUP((K123*H123)/('SUPUESTOS GASTOS'!$D$12*2),-3))","v":0},null,0]
[5,5,"E",null,"PROFESIONAL DE GESTION ADMINISTRATIVA Y FINANCIERA","2025-01-02","2025-12-31",359,{"$f":"IF(C124=\"C\",'SUPUESTOS GASTOS'!$D$6*SUMIF('SUPUESTOS GASTOS'!$B$38:$B$47,'Anexo 5 Planta y Equipo de trab'!$A124,'SUPUESTOS GASTOS'!$D$38:$D$47),IF($C124=\"N\",0,IF(C124=\"E\",'SUPUESTOS GASTOS'!$D$6*SUMIF('SUPUESTOS GASTOS'!$B$38:$B$47,'Anexo 5 Planta y Equipo de trab'!$A124,'SUPUESTOS GASTOS'!$D$38:$D$47),\"\")))","v":3380000},{"$f":"+'SUPUESTOS GASTOS'!$D$10","v":0.06},{"$f":"IF($C124=\"C\",ROUNDUP((I124*J124)+I124,-3),IF($C124=\"N\",ROUNDUP(('SUPUESTOS GASTOS'!$D$6*SUMIF('SUPUESTOS GASTOS'!$B$38:$B$47,'Anexo 5 Planta y Equipo de trab'!$A124,'SUPUESTOS GASTOS'!$D$38:$D$47)*$J124)+'SUPUESTOS GASTOS'!$D$6*SUMIF('SUPUESTOS GASTOS'!$B$38:$B$47,'Anexo 5 Planta y Equipo de trab'!$A124,'SUPUESTOS GASTOS'!$D$38:$D$47),-3),IF($C124=\"E\",0)))","v":0},{"$f":"IFERROR(IF($E124=\"PASANTE SENA\",ROUNDUP((K124*'SUPUESTOS GASTOS'!$D$20),-3),ROUNDUP((K124*'SUPUESTOS GASTOS'!$D$19),-3)),0)","v":0},{"$f":"IFERROR(IF($E124=\"PASANTE SENA\",0,ROUNDUP((K124*'SUPUESTOS GASTOS'!$D$18),-3)),0)","v":0},{"$f":"IFERROR(ROUNDUP(K124*SUMIF('SUPUESTOS GASTOS'!$B$24:$B$28,'Anexo 5 Planta y Equipo de trab'!$B124,'SUPUESTOS GASTOS'!$D$24:$D$28),-3),0)","v":0},{"$f":"IFERROR(IF($E124=\"PASANTE SENA\",0,ROUNDUP((K124*'SUPUESTOS GASTOS'!$D$31),-3)),0)","v":0},{"$f":"IFERROR(IF($E124=\"PASANTE SENA\",0,ROUNDUP((K124*'SUPUESTOS GASTOS'!$D$32),-3)),0)","v":0},{"$f":"IF($C124=\"E\",0,IF($E124=\"PASANTE SENA\",0,IF(K124>=('SUPUESTOS GASTOS'!$D$14*2),0,ROUNDUP('SUPUESTOS GASTOS'!$D$15,-3))))","v":0},{"$f":"IFERROR(IF($E124=\"PASANTE SENA\",0,ROUNDUP((K124*'SUPUESTOS GASTOS'!$D$33),-3)),0)","v":0},{"$f":"ROUNDUP((K124/'SUPUESTOS GASTOS'!$D$13)*H124,-3)","v":0},{"$f":"IFERROR(IF($E124=\"PASANTE SENA\",ROUNDUP((S124*'SUPUESTOS GASTOS'!$D$20),-3),ROUNDUP((S124*'SUPUESTOS GASTOS'!$D$19),-3)),0)","v":0},{"$f":"IFERROR(IF($E124=\"PASANTE SENA\",0,ROUNDUP((S124*'SUPUESTOS GASTOS'!$D$18),-3)),0)","v":0},{"$f":"IFERROR(ROUNDUP(S124*SUMIF('SUPUESTOS GASTOS'!$B$24:$B$28,'Anexo 5 Planta y Equipo de trab'!$B124,'SUPUESTOS GASTOS'!$D$24:$D$28),-3),0)","v":0},{"$f":"IFERROR(IF($E124=\"PASANTE SENA\",0,ROUNDUP(((S124+AD124)*'SUPUESTOS GASTOS'!$D$31),-3)),0)","v":0},{"$f":"IFERROR(IF($E124=\"PASANTE SENA\",0,ROUNDUP(((S124+AD124)*'SUPUESTOS GASTOS'!$D$32),-3)),0)","v":0},{"$f":"IF($C124=\"E\",0,IF($E124=\"PASANTE SENA\",0,IF(K124>=('SUPUESTOS GASTOS'!$D$14*2),0,ROUNDUP(('SUPUESTOS GASTOS'!$D$15/'SUPUESTOS GASTOS'!$D$13)*$H124,-3))))","v":0},{"$f":"IFERROR(IF($E124=\"PASANTE SENA\",0,ROUNDUP(((S124+AD124)*'SUPUESTOS GASTOS'!$D$33),-3)),0)","v":0},{"$f":"IF($E124=\"PASANTE SENA\",0,ROUNDUP(((K124+Q124)*H124)/'SUPUESTOS GASTOS'!$D$12,-3))","v":0},{"$f":"IF($E124=\"PASANTE SENA\",0,ROUNDUP((((AA124)/'SUPUESTOS GASTOS'!$D$12)*H124)*'SUPUESTOS GASTOS'!$D$21,-3))","v":0},{"$f":"IF($E124=\"PASANTE SENA\",0,ROUNDUP(((K124+Q124)*H124)/'SUPUESTOS GASTOS'!$D$12,-3))","v":0},{"$f":"IF($E124=\"PASANTE SENA\",0,ROUNDUP((K124*H124)/('SUPUESTOS GASTOS'!$D$12*2),-3))","v":0},null,0]
[5,5,"E",null,"PROFESIONAL  DE GESTION AGRÍCOLA","2025-01-02","2025-12-31",359,{"$f":"IF(C125=\"C\",'SUPUESTOS GASTOS'!$D$6*SUMIF('SUPUESTOS GASTOS'!$B$38:$B$47,'Anexo 5 Planta y Equipo de trab'!$A125,'SUPUESTOS GASTOS'!$D$38:$D$47),IF($C125=\"N\",0,IF(C125=\"E\",'SUPUESTOS GASTOS'!$D$6*SUMIF('SUPUESTOS GASTOS'!$B$38:$B$47,'Anexo 5 Planta y Equipo de trab'!$A125,'SUPUESTOS GASTOS'!$D$38:$D$47),\"\")))","v":3380000},{"$f":"+'SUPUESTOS GASTOS'!$D$10","v":0.06},{"$f":"IF($C125=\"C\",ROUNDUP((I125*J125)+I125,-3),IF($C125=\"N\",ROUNDUP(('SUPUESTOS GASTOS'!$D$6*SUMIF('SUPUESTOS GASTOS'!$B$38:$B$47,'Anexo 5 Planta y Equipo de trab'!$A125,'SUPUESTOS GASTOS'!$D$38:$D$47)*$J125)+'SUPUESTOS GASTOS'!$D$6*SUMIF('SUPUESTOS GASTOS'!$B$38:$B$47,'Anexo 5 Planta y Equipo de trab'!$A125,'SUPUESTOS GASTOS'!$D$38:$D$47),-3),IF($C125=\"E\",0)))","v":0},{"$f":"IFERROR(IF($E125=\"PASANTE SENA\",ROUNDUP((K125*'SUPUESTOS GASTOS'!$D$20),-3),ROUNDUP((K125*'SUPUESTOS GASTOS'!$D$19),-3)),0)","v":0},{"$f":"IFERROR(IF($E125=\"PASANTE SENA\",0,ROUNDUP((K125*'SUPUESTOS GASTOS'!$D$18),-3)),0)","v":0},{"$f":"IFERROR(ROUNDUP(K125*SUMIF('SUPUESTOS GASTOS'!$B$24:$B$28,'Anexo 5 Planta y Equipo de trab'!$B125,'SUPUESTOS GASTOS'!$D$24:$D$28),-3),0)","v":0},{"$f":"IFERROR(IF($E125=\"PASANTE SENA\",0,ROUNDUP((K125*'SUPUESTOS GASTOS'!$D$31),-3)),0)","v":0},{"$f":"IFERROR(IF($E125=\"PASANTE SENA\",0,ROUNDUP((K125*'SUPUESTOS GASTOS'!$D$32),-3)),0)","v":0},{"$f":"IF($C125=\"E\",0,IF($E125=\"PASANTE SENA\",0,IF(K125>=('SUPUESTOS GASTOS'!$D$14*2),0,ROUNDUP('SUPUESTOS GASTOS'!$D$15,-3))))","v":0},{"$f":"IFERROR(IF($E125=\"PASANTE SENA\",0,ROUNDUP((K125*'SUPUESTOS GASTOS'!$D$33),-3)),0)","v":0},{"$f":"ROUNDUP((K125/'SUPUESTOS GASTOS'!$D$13)*H125,-3)","v":0},{"$f":"IFERROR(IF($E125=\"PASANTE SENA\",ROUNDUP((S125*'SUPUESTOS GASTOS'!$D$20),-3),ROUNDUP((S125*'SUPUESTOS GASTOS'!$D$19),-3)),0)","v":0},{"$f":"IFERROR(IF($E125=\"PASANTE SENA\",0,ROUNDUP((S125*'SUPUESTOS GASTOS'!$D$18),-3)),0)","v":0},{"$f":"IFERROR(ROUNDUP(S125*SUMIF('SUPUESTOS GASTOS'!$B$24:$B$28,'Anexo 5 Planta y Equipo de trab'!$B125,'SUPUESTOS GASTOS'!$D$24:$D$28),-3),0)","v":0},{"$f":"IFERROR(IF($E125=\"PASANTE SENA\",0,ROUNDUP(((S125+AD125)*'SUPUESTOS GASTOS'!$D$31),-3)),0)","v":0},{"$f":"IFERROR(IF($E125=\"PASANTE SENA\",0,ROUNDUP(((S125+AD125)*'SUPUESTOS GASTOS'!$D$32),-3)),0)","v":0},{"$f":"IF($C125=\"E\",0,IF($E125=\"PASANTE SENA\",0,IF(K125>=('SUPUESTOS GASTOS'!$D$14*2),0,ROUNDUP(('SUPUESTOS GASTOS'!$D$15/'SUPUESTOS GASTOS'!$D$13)*$H125,-3))))","v":0},{"$f":"IFERROR(IF($E125=\"PASANTE SENA\",0,ROUNDUP(((S125+AD125)*'SUPUESTOS GASTOS'!$D$33),-3)),0)","v":0},{"$f":"IF($E125=\"PASANTE SENA\",0,ROUNDUP(((K125+Q125)*H125)/'SUPUESTOS GASTOS'!$D$12,-3))","v":0},{"$f":"IF($E125=\"PASANTE SENA\",0,ROUNDUP((((AA125)/'SUPUESTOS GASTOS'!$D$12)*H125)*'SUPUESTOS GASTOS'!$D$21,-3))","v":0},{"$f":"IF($E125=\"PASANTE SENA\",0,ROUNDUP(((K125+Q125)*H125)/'SUPUESTOS GASTOS'!$D$12,-3))","v":0},{"$f":"IF($E125=\"PASANTE SENA\",0,ROUNDUP((K125*H125)/('SUPUESTOS GASTOS'!$D$12*2),-3))","v":0},null,0]
[5,5,"E",null,"PROFESIONAL DE GESTIÓN SOCIAL","2025-01-02","2025-12-31",359,{"$f":"IF(C126=\"C\",'SUPUESTOS GASTOS'!$D$6*SUMIF('SUPUESTOS GASTOS'!$B$38:$B$47,'Anexo 5 Planta y Equipo de trab'!$A126,'SUPUESTOS GASTOS'!$D$38:$D$47),IF($C126=\"N\",0,IF(C126=\"E\",'SUPUESTOS GASTOS'!$D$6*SUMIF('SUPUESTOS GASTOS'!$B$38:$B$47,'Anexo 5 Planta y Equipo de trab'!$A126,'SUPUESTOS GASTOS'!$D$38:$D$47),\"\")))","v":3380000},{"$f":"+'SUPUESTOS GASTOS'!$D$10","v":0.06},{"$f":"IF($C126=\"C\",ROUNDUP((I126*J126)+I126,-3),IF($C126=\"N\",ROUNDUP(('SUPUESTOS GASTOS'!$D$6*SUMIF('SUPUESTOS GASTOS'!$B$38:$B$47,'Anexo 5 Planta y Equipo de trab'!$A126,'SUPUESTOS GASTOS'!$D$38:$D$47)*$J126)+'SUPUESTOS GASTOS'!$D$6*SUMIF('SUPUESTOS GASTOS'!$B$38:$B$47,'Anexo 5 Planta y Equipo de trab'!$A126,'SUPUESTOS GASTOS'!$D$38:$D$47),-3),IF($C126=\"E\",0)))","v":0},{"$f":"IFERROR(IF($E126=\"PASANTE SENA\",ROUNDUP((K126*'SUPUESTOS GASTOS'!$D$20),-3),ROUNDUP((K126*'SUPUESTOS GASTOS'!$D$19),-3)),0)","v":0},{"$f":"IFERROR(IF($E126=\"PASANTE SENA\",0,ROUNDUP((K126*'SUPUESTOS GASTOS'!$D$18),-3)),0)","v":0},{"$f":"IFERROR(ROUNDUP(K126*SUMIF('SUPUESTOS GASTOS'!$B$24:$B$28,'Anexo 5 Planta y Equipo de trab'!$B126,'SUPUESTOS GASTOS'!$D$24:$D$28),-3),0)","v":0},{"$f":"IFERROR(IF($E126=\"PASANTE SENA\",0,ROUNDUP((K126*'SUPUESTOS GASTOS'!$D$31),-3)),0)","v":0},{"$f":"IFERROR(IF($E126=\"PASANTE SENA\",0,ROUNDUP((K126*'SUPUESTOS GASTOS'!$D$32),-3)),0)","v":0},{"$f":"IF($C126=\"E\",0,IF($E126=\"PASANTE SENA\",0,IF(K126>=('SUPUESTOS GASTOS'!$D$14*2),0,ROUNDUP('SUPUESTOS GASTOS'!$D$15,-3))))","v":0},{"$f":"IFERROR(IF($E126=\"PASANTE SENA\",0,ROUNDUP((K126*'SUPUESTOS GASTOS'!$D$33),-3)),0)","v":0},{"$f":"ROUNDUP((K126/'SUPUESTOS GASTOS'!$D$13)*H126,-3)","v":0},{"$f":"IFERROR(IF($E126=\"PASANTE SENA\",ROUNDUP((S126*'SUPUESTOS GASTOS'!$D$20),-3),ROUNDUP((S126*'SUPUESTOS GASTOS'!$D$19),-3)),0)","v":0},{"$f":"IFERROR(IF($E126=\"PASANTE SENA\",0,ROUNDUP((S126*'SUPUESTOS GASTOS'!$D$18),-3)),0)","v":0},{"$f":"IFERROR(ROUNDUP(S126*SUMIF('SUPUESTOS GASTOS'!$B$24:$B$28,'Anexo 5 Planta y Equipo de trab'!$B126,'SUPUESTOS GASTOS'!$D$24:$D$28),-3),0)","v":0},{"$f":"IFERROR(IF($E126=\"PASANTE SENA\",0,ROUNDUP(((S126+AD126)*'SUPUESTOS GASTOS'!$D$31),-3)),0)","v":0},{"$f":"IFERROR(IF($E126=\"PASANTE SENA\",0,ROUNDUP(((S126+AD126)*'SUPUESTOS GASTOS'!$D$32),-3)),0)","v":0},{"$f":"IF($C126=\"E\",0,IF($E126=\"PASANTE SENA\",0,IF(K126>=('SUPUESTOS GASTOS'!$D$14*2),0,ROUNDUP(('SUPUESTOS GASTOS'!$D$15/'SUPUESTOS GASTOS'!$D$13)*$H126,-3))))","v":0},{"$f":"IFERROR(IF($E126=\"PASANTE SENA\",0,ROUNDUP(((S126+AD126)*'SUPUESTOS GASTOS'!$D$33),-3)),0)","v":0},{"$f":"IF($E126=\"PASANTE SENA\",0,ROUNDUP(((K126+Q126)*H126)/'SUPUESTOS GASTOS'!$D$12,-3))","v":0},{"$f":"IF($E126=\"PASANTE SENA\",0,ROUNDUP((((AA126)/'SUPUESTOS GASTOS'!$D$12)*H126)*'SUPUESTOS GASTOS'!$D$21,-3))","v":0},{"$f":"IF($E126=\"PASANTE SENA\",0,ROUNDUP(((K126+Q126)*H126)/'SUPUESTOS GASTOS'!$D$12,-3))","v":0},{"$f":"IF($E126=\"PASANTE SENA\",0,ROUNDUP((K126*H126)/('SUPUESTOS GASTOS'!$D$12*2),-3))","v":0},null,0]
[4,3,"N",null,"GESTOR ADMINISTRATIVO Y FINANCIERO (ASO)","2025-01-02","2025-12-31",359,{"$f":"IF(C127=\"C\",'SUPUESTOS GASTOS'!$D$6*SUMIF('SUPUESTOS GASTOS'!$B$38:$B$47,'Anexo 5 Planta y Equipo de trab'!$A127,'SUPUESTOS GASTOS'!$D$38:$D$47),IF($C127=\"N\",0,IF(C127=\"E\",'SUPUESTOS GASTOS'!$D$6*SUMIF('SUPUESTOS GASTOS'!$B$38:$B$47,'Anexo 5 Planta y Equipo de trab'!$A127,'SUPUESTOS GASTOS'!$D$38:$D$47),\"\")))","v":0},{"$f":"+'SUPUESTOS GASTOS'!$D$10","v":0.06},{"$f":"IF($C127=\"C\",ROUNDUP((I127*J127)+I127,-3),IF($C127=\"N\",ROUNDUP(('SUPUESTOS GASTOS'!$D$6*SUMIF('SUPUESTOS GASTOS'!$B$38:$B$47,'Anexo 5 Planta y Equipo de trab'!$A127,'SUPUESTOS GASTOS'!$D$38:$D$47)*$J127)+'SUPUESTOS GASTOS'!$D$6*SUMIF('SUPUESTOS GASTOS'!$B$38:$B$47,'Anexo 5 Planta y Equipo de trab'!$A127,'SUPUESTOS GASTOS'!$D$38:$D$47),-3),IF($C127=\"E\",0)))","v":4134000},{"$f":"IFERROR(IF($E127=\"PASANTE SENA\",ROUNDUP((K127*'SUPUESTOS GASTOS'!$D$20),-3),ROUNDUP((K127*'SUPUESTOS GASTOS'!$D$19),-3)),0)","v":352000},{"$f":"IFERROR(IF($E127=\"PASANTE SENA\",0,ROUNDUP((K127*'SUPUESTOS GASTOS'!$D$18),-3)),0)","v":497000},{"$f":"IFERROR(ROUNDUP(K127*SUMIF('SUPUESTOS GASTOS'!$B$24:$B$28,'Anexo 5 Planta y Equipo de trab'!$B127,'SUPUESTOS GASTOS'!$D$24:$D$28),-3),0)","v":180000},{"$f":"IFERROR(IF($E127=\"PASANTE SENA\",0,ROUNDUP((K127*'SUPUESTOS GASTOS'!$D$31),-3)),0)","v":166000},{"$f":"IFERROR(IF($E127=\"PASANTE SENA\",0,ROUNDUP((K127*'SUPUESTOS GASTOS'!$D$32),-3)),0)","v":83000},{"$f":"IF($C127=\"E\",0,IF($E127=\"PASANTE SENA\",0,IF(K127>=('SUPUESTOS GASTOS'!$D$14*2),0,ROUNDUP('SUPUESTOS GASTOS'!$D$15,-3))))","v":0},{"$f":"IFERROR(IF($E127=\"PASANTE SENA\",0,ROUNDUP((K127*'SUPUESTOS GASTOS'!$D$33),-3)),0)","v":125000},{"$f":"ROUNDUP((K127/'SUPUESTOS GASTOS'!$D$13)*H127,-3)","v":49471000},{"$f":"IFERROR(IF($E127=\"PASANTE SENA\",ROUNDUP((S127*'SUPUESTOS GASTOS'!$D$20),-3),ROUNDUP((S127*'SUPUESTOS GASTOS'!$D$19),-3)),0)","v":4206000},{"$f":"IFERROR(IF($E127=\"PASANTE SENA\",0,ROUNDUP((S127*'SUPUESTOS GASTOS'!$D$18),-3)),0)","v":5937000},{"$f":"IFERROR(ROUNDUP(S127*SUMIF('SUPUESTOS GASTOS'!$B$24:$B$28,'Anexo 5 Planta y Equipo de trab'!$B127,'SUPUESTOS GASTOS'!$D$24:$D$28),-3),0)","v":2152000},{"$f":"IFERROR(IF($E127=\"PASANTE SENA\",0,ROUNDUP(((S127+AD127)*'SUPUESTOS GASTOS'!$D$31),-3)),0)","v":2062000},{"$f":"IFERROR(IF($E127=\"PASANTE SENA\",0,ROUNDUP(((S127+AD127)*'SUPUESTOS GASTOS'!$D$32),-3)),0)","v":1031000},{"$f":"IF($C127=\"E\",0,IF($E127=\"PASANTE SENA\",0,IF(K127>=('SUPUESTOS GASTOS'!$D$14*2),0,ROUNDUP(('SUPUESTOS GASTOS'!$D$15/'SUPUESTOS GASTOS'!$D$13)*$H127,-3))))","v":0},{"$f":"IFERROR(IF($E127=\"PASANTE SENA\",0,ROUNDUP(((S127+AD127)*'SUPUESTOS GASTOS'!$D$33),-3)),0)","v":1546000},{"$f":"IF($E127=\"PASANTE SENA\",0,ROUNDUP(((K127+Q127)*H127)/'SUPUESTOS GASTOS'!$D$12,-3))","v":4123000},{"$f":"IF($E127=\"PASANTE SENA\",0,ROUNDUP((((AA127)/'SUPUESTOS GASTOS'!$D$12)*H127)*'SUPUESTOS GASTOS'!$D$21,-3))","v":494000},{"$f":"IF($E127=\"PASANTE SENA\",0,ROUNDUP(((K127+Q127)*H127)/'SUPUESTOS GASTOS'!$D$12,-3))","v":4123000},{"$f":"IF($E127=\"PASANTE SENA\",0,ROUNDUP((K127*H127)/('SUPUESTOS GASTOS'!$D$12*2),-3))","v":2062000},null,77207000]
[4,3,"N",null,"GESTOR DE LOGISTICA AGRÍCOLA","2025-01-02","2025-12-31",359,{"$f":"IF(C128=\"C\",'SUPUESTOS GASTOS'!$D$6*SUMIF('SUPUESTOS GASTOS'!$B$38:$B$47,'Anexo 5 Planta y Equipo de trab'!$A128,'SUPUESTOS GASTOS'!$D$38:$D$47),IF($C128=\"N\",0,IF(C128=\"E\",'SUPUESTOS GASTOS'!$D$6*SUMIF('SUPUESTOS GASTOS'!$B$38:$B$47,'Anexo 5 Planta y Equipo de trab'!$A128,'SUPUESTOS GASTOS'!$D$38:$D$47),\"\")))","v":0},{"$f":"+'SUPUESTOS GASTOS'!$D$10","v":0.06},{"$f":"IF($C128=\"C\",ROUNDUP((I128*J128)+I128,-3),IF($C128=\"N\",ROUNDUP(('SUPUESTOS GASTOS'!$D$6*SUMIF('SUPUESTOS GASTOS'!$B$38:$B$47,'Anexo 5 Planta y Equipo de trab'!$A128,'SUPUESTOS GASTOS'!$D$38:$D$47)*$J128)+'SUPUESTOS GASTOS'!$D$6*SUMIF('SUPUESTOS GASTOS'!$B$38:$B$47,'Anexo 5 Planta y Equipo de trab'!$A128,'SUPUESTOS GASTOS'!$D$38:$D$47),-3),IF($C128=\"E\",0)))","v":4134000},{"$f":"IFERROR(IF($E128=\"PASANTE SENA\",ROUNDUP((K128*'SUPUESTOS GASTOS'!$D$20),-3),ROUNDUP((K128*'SUPUESTOS GASTOS'!$D$19),-3)),0)","v":352000},{"$f":"IFERROR(IF($E128=\"PASANTE SENA\",0,ROUNDUP((K128*'SUPUESTOS GASTOS'!$D$18),-3)),0)","v":497000},{"$f":"IFERROR(ROUNDUP(K128*SUMIF('SUPUESTOS GASTOS'!$B$24:$B$28,'Anexo 5 Planta y Equipo de trab'!$B128,'SUPUESTOS GASTOS'!$D$24:$D$28),-3),0)","v":180000},{"$f":"IFERROR(IF($E128=\"PASANTE SENA\",0,ROUNDUP((K128*'SUPUESTOS GASTOS'!$D$31),-3)),0)","v":166000},{"$f":"IFERROR(IF($E128=\"PASANTE SENA\",0,ROUNDUP((K128*'SUPUESTOS GASTOS'!$D$32),-3)),0)","v":83000},{"$f":"IF($C128=\"E\",0,IF($E128=\"PASANTE SENA\",0,IF(K128>=('SUPUESTOS GASTOS'!$D$14*2),0,ROUNDUP('SUPUESTOS GASTOS'!$D$15,-3))))","v":0},{"$f":"IFERROR(IF($E128=\"PASANTE SENA\",0,ROUNDUP((K128*'SUPUESTOS GASTOS'!$D$33),-3)),0)","v":125000},{"$f":"ROUNDUP((K128/'SUPUESTOS GASTOS'!$D$13)*H128,-3)","v":49471000},{"$f":"IFERROR(IF($E128=\"PASANTE SENA\",ROUNDUP((S128*'SUPUESTOS GASTOS'!$D$20),-3),ROUNDUP((S128*'SUPUESTOS GASTOS'!$D$19),-3)),0)","v":4206000},{"$f":"IFERROR(IF($E128=\"PASANTE SENA\",0,ROUNDUP((S128*'SUPUESTOS GASTOS'!$D$18),-3)),0)","v":5937000},{"$f":"IFERROR(ROUNDUP(S128*SUMIF('SUPUESTOS GASTOS'!$B$24:$B$28,'Anexo 5 Planta y Equipo de trab'!$B128,'SUPUESTOS GASTOS'!$D$24:$D$28),-3),0)","v":2152000},{"$f":"IFERROR(IF($E128=\"PASANTE SENA\",0,ROUNDUP(((S128+AD128)*'SUPUESTOS GASTOS'!$D$31),-3)),0)","v":2062000},{"$f":"IFERROR(IF($E128=\"PASANTE SENA\",0,ROUNDUP(((S128+AD128)*'SUPUESTOS GASTOS'!$D$32),-3)),0)","v":1031000},{"$f":"IF($C128=\"E\",0,IF($E128=\"PASANTE SENA\",0,IF(K128>=('SUPUESTOS GASTOS'!$D$14*2),0,ROUNDUP(('SUPUESTOS GASTOS'!$D$15/'SUPUESTOS GASTOS'!$D$13)*$H128,-3))))","v":0},{"$f":"IFERROR(IF($E128=\"PASANTE SENA\",0,ROUNDUP(((S128+AD128)*'SUPUESTOS GASTOS'!$D$33),-3)),0)","v":1546000},{"$f":"IF($E128=\"PASANTE SENA\",0,ROUNDUP(((K128+Q128)*H128)/'SUPUESTOS GASTOS'!$D$12,-3))","v":4123000},{"$f":"IF($E128=\"PASANTE SENA\",0,ROUNDUP((((AA128)/'SUPUESTOS GASTOS'!$D$12)*H128)*'SUPUESTOS GASTOS'!$D$21,-3))","v":494000},{"$f":"IF($E128=\"PASANTE SENA\",0,ROUNDUP(((K128+Q128)*H128)/'SUPUESTOS GASTOS'!$D$12,-3))","v":4123000},{"$f":"IF($E128=\"PASANTE SENA\",0,ROUNDUP((K128*H128)/('SUPUESTOS GASTOS'!$D$12*2),-3))","v":2062000},null,77207000]
[4,3,"N",null,"GESTOR SOCIAL","2025-01-02","2025-12-31",359,{"$f":"IF(C129=\"C\",'SUPUESTOS GASTOS'!$D$6*SUMIF('SUPUESTOS GASTOS'!$B$38:$B$47,'Anexo 5 Planta y Equipo de trab'!$A129,'SUPUESTOS GASTOS'!$D$38:$D$47),IF($C129=\"N\",0,IF(C129=\"E\",'SUPUESTOS GASTOS'!$D$6*SUMIF('SUPUESTOS GASTOS'!$B$38:$B$47,'Anexo 5 Planta y Equipo de trab'!$A129,'SUPUESTOS GASTOS'!$D$38:$D$47),\"\")))","v":0},{"$f":"+'SUPUESTOS GASTOS'!$D$10","v":0.06},{"$f":"IF($C129=\"C\",ROUNDUP((I129*J129)+I129,-3),IF($C129=\"N\",ROUNDUP(('SUPUESTOS GASTOS'!$D$6*SUMIF('SUPUESTOS GASTOS'!$B$38:$B$47,'Anexo 5 Planta y Equipo de trab'!$A129,'SUPUESTOS GASTOS'!$D$38:$D$47)*$J129)+'SUPUESTOS GASTOS'!$D$6*SUMIF('SUPUESTOS GASTOS'!$B$38:$B$47,'Anexo 5 Planta y Equipo de trab'!$A129,'SUPUESTOS GASTOS'!$D$38:$D$47),-3),IF($C129=\"E\",0)))","v":4134000},{"$f":"IFERROR(IF($E129=\"PASANTE SENA\",ROUNDUP((K129*'SUPUESTOS GASTOS'!$D$20),-3),ROUNDUP((K129*'SUPUESTOS GASTOS'!$D$19),-3)),0)","v":352000},{"$f":"IFERROR(IF($E129=\"PASANTE SENA\",0,ROUNDUP((K129*'SUPUESTOS GASTOS'!$D$18),-3)),0)","v":497000},{"$f":"IFERROR(ROUNDUP(K129*SUMIF('SUPUESTOS GASTOS'!$B$24:$B$28,'Anexo 5 Planta y Equipo de trab'!$B129,'SUPUESTOS GASTOS'!$D$24:$D$28),-3),0)","v":180000},{"$f":"IFERROR(IF($E129=\"PASANTE SENA\",0,ROUNDUP((K129*'SUPUESTOS GASTOS'!$D$31),-3)),0)","v":166000},{"$f":"IFERROR(IF($E129=\"PASANTE SENA\",0,ROUNDUP((K129*'SUPUESTOS GASTOS'!$D$32),-3)),0)","v":83000},{"$f":"IF($C129=\"E\",0,IF($E129=\"PASANTE SENA\",0,IF(K129>=('SUPUESTOS GASTOS'!$D$14*2),0,ROUNDUP('SUPUESTOS GASTOS'!$D$15,-3))))","v":0},{"$f":"IFERROR(IF($E129=\"PASANTE SENA\",0,ROUNDUP((K129*'SUPUESTOS GASTOS'!$D$33),-3)),0)","v":125000},{"$f":"ROUNDUP((K129/'SUPUESTOS GASTOS'!$D$13)*H129,-3)","v":49471000},{"$f":"IFERROR(IF($E129=\"PASANTE SENA\",ROUNDUP((S129*'SUPUESTOS GASTOS'!$D$20),-3),ROUNDUP((S129*'SUPUESTOS GASTOS'!$D$19),-3)),0)","v":4206000},{"$f":"IFERROR(IF($E129=\"PASANTE SENA\",0,ROUNDUP((S129*'SUPUESTOS GASTOS'!$D$18),-3)),0)","v":5937000},{"$f":"IFERROR(ROUNDUP(S129*SUMIF('SUPUESTOS GASTOS'!$B$24:$B$28,'Anexo 5 Planta y Equipo de trab'!$B129,'SUPUESTOS GASTOS'!$D$24:$D$28),-3),0)","v":2152000},{"$f":"IFERROR(IF($E129=\"PASANTE SENA\",0,ROUNDUP(((S129+AD129)*'SUPUESTOS GASTOS'!$D$31),-3)),0)","v":2062000},{"$f":"IFERROR(IF($E129=\"PASANTE SENA\",0,ROUNDUP(((S129+AD129)*'SUPUESTOS GASTOS'!$D$32),-3)),0)","v":1031000},{"$f":"IF($C129=\"E\",0,IF($E129=\"PASANTE SENA\",0,IF(K129>=('SUPUESTOS GASTOS'!$D$14*2),0,ROUNDUP(('SUPUESTOS GASTOS'!$D$15/'SUPUESTOS GASTOS'!$D$13)*$H129,-3))))","v":0},{"$f":"IFERROR(IF($E129=\"PASANTE SENA\",0,ROUNDUP(((S129+AD129)*'SUPUESTOS GASTOS'!$D$33),-3)),0)","v":1546000},{"$f":"IF($E129=\"PASANTE SENA\",0,ROUNDUP(((K129+Q129)*H129)/'SUPUESTOS GASTOS'!$D$12,-3))","v":4123000},{"$f":"IF($E129=\"PASANTE SENA\",0,ROUNDUP((((AA129)/'SUPUESTOS GASTOS'!$D$12)*H129)*'SUPUESTOS GASTOS'!$D$21,-3))","v":494000},{"$f":"IF($E129=\"PASANTE SENA\",0,ROUNDUP(((K129+Q129)*H129)/'SUPUESTOS GASTOS'!$D$12,-3))","v":4123000},{"$f":"IF($E129=\"PASANTE SENA\",0,ROUNDUP((K129*H129)/('SUPUESTOS GASTOS'!$D$12*2),-3))","v":2062000},null,77207000]
[null,null,null,null,"SUB TOTAL ASOCIATIVIDAD Y FORTALECIMIENTO EMPRESARIAL",null,null,null,null,null,{"$f":"SUM(K121:K129)","v":19568000},{"$f":"SUM(L121:L129)","v":1666000},2351000,715000,785000,393000,0,590000,234167000,19908000,28102000,8545000,9760000,4880000,0,7318000,19516000,2338000,19516000,9760000,0,363810000]
[null,null,null,null,"TOTAL GASTOS DE INVERSIÓN",null,null,null,null,null,{"$f":"+K89+K96+K102+K107+K115+K119+K130","v":198356000},16939000,23654000,6726000,7907000,3960000,860000,5939000,2340090000,199578000,278883000,78914000,96847000,48432000,10225000,72637000,194528000,22969000,194528000,96847000,0,3634478000]
[]
[null,null,null,null,"GRAN TOTAL GASTOS DE FUNCIONAMIENTO E INVERSIÓN",null,null,null,null,null,{"$f":"+K131+K54","v":298129000},25430000,35633000,9386000,11911000,5965000,1376000,8945000,3533872000,301060000,422153000,110669000,146599000,73318000,16362000,109950000,294537000,34943000,294537000,146599000,0,5484599000]

{"sheet":"SUPUESTOS GASTOS","index":4,"n_rows":52,"n_cols":13,"rows_kept":52,"cut":false,"hidden":true,"merged":[[35,1,36,1],[35,2,36,2],[35,3,36,3],[48,2,48,3],[1,1,1,4],[2,1,2,4],[16,2,16,3],[22,2,22,3],[29,2,29,3],[34,1,34,3]]}
[]
[]
[]
[]
[null,null,"INDICADOR","VALOR",null,null,null,null,"CANTIDAD","UND MEDIDA",2024,"IPC",2025]
[null,null,"SALARIO MÍNIMO 2024",1300000,null,null,null,"Dotación",1,"Persona",1901587,{"$f":"ROUND((K6*6%),0)","v":114095},{"$f":"+K6+L6","v":2015682}]
[null,null,"SUBSIDIO DE TRANSPORTE 2024",162000,null,null,null,"Cuenta de correo plataforma Gmail",12,"1 Cuenta x 12 Meses",{"$f":"50000*I7","v":600000},{"$f":"ROUND((K7*6%),0)","v":36000},{"$f":"+K7+L7","v":636000}]
[null,null,"VALOR DOTACION 2024",1849512,null,null,null,"Licencia de office vitalicia",1,"Licencia",950000,57000,1007000]
[null,null,"IPC",0.06,null,null,null,"Licencia vitalicia sistema operativo Windows 10 profesional",1,"Licencia",950000,57000,1007000]
[null,null,"AUMENTO SMLV",0.06,null,null,null,"Antivirus - Licencias",1,"Licencia",200000,12000,212000]
[null,null,"MESES",12,null,null,null,"Sillas",1,"Unidad",943400,56604,1000004]
[null,null,"DÍAS AÑO",360,null,null,null,"Escritorio",1,"Unidad",1500000,90000,1590000]
[null,null,"DÍAS MES",30,null,null,null,"Equipo celular",1,"Unidad",1200000,72000,1272000]
[null,null,"SALARIO MÍNIMO 2025",{"$f":"(+D6*D10)+D6","v":1378000},null,null,null,"Tiquetes",1,"Trayecto Ida y Vuelta",850000,51000,901000]
[null,null,"SUBSIDIO DE TRANSPORTE 2025",{"$f":"(+D7*D10)+D7","v":171720},null,null,null,"Elementos de identificación personal en campo",1,"Kit",null,0,0]
[null,null,null,null,null,null,null,"Kit Limpieza Equipos",1,"Kit",37000,2220,39220]
[null,null,"PRESTACIONES SOCIALES",null,null,null,null,"Póliza de activos fijos",1,"Póliza",null,0,0]
[null,null,"PENSIÓN",0.12]
[null,null,"SALUD",8.5000000000000006E-2]
[null,null,"SALUD PASANTE SENA",0.125]
[null,null,"INTERESES A LAS CESANTÍAS",0.12]
[]
[null,"NIVEL","ARL"]
[null,1,"PERSONAL ADMINISTRATIVO",5.2199999999999998E-3]
[null,2,"DIRECTORES -COORDINADORES - PROFESIONALES",2.436E-2]
[null,3,"EXTENSIONISTAS - SUPERVISORES",4.3499999999999997E-2]
[null,4,"ASESORES",4.3499999999999997E-2]
[null,5,"PROFESIONALES-ANALISTAS-PASANTE",1.044E-2]
[]
[null,null,"APORTES PARAFISCALES"]
[null,null,"CAJA",0.04]
[null,null,"SENA",0.02]
[null,null,"ICBF",0.03]
[]
[null,"TABLA 1. ESCALA SALARIAL"]
[null,"NIVEL","CARGO","ESCALA SMMLV"]
[]
[null,1,"DIRECTOR PROGRAMA",6.82]
[null,2,"DIRECTOR PROYECTO",5.2]
[null,3,"COORDINADOR",4]
[null,4,"SUPERVISOR",3]
[null,5,"PROFESIONAL / EXTENSIONISTA",2.6]
[null,6,"ASESOR",2.4]
[null,7,"ANALISTA",1.5]
[null,8,"ASISTENTE ",1.3]
[null,9,"PASANTE SENA",1]
[null,10,"GESTOR",{"$f":"4500000/1300000","v":3.4615384615384617}]
[]
[null,null,"ESTADO DEL CARGO"]
[null,null,"CONTINUA","C"]
[null,null,"NUEVO","N"]
[null,null,"ELIMINADO","E"]